From mboxrd@z Thu Jan 1 00:00:00 1970 Return-Path: Received: from mails.dpdk.org (mails.dpdk.org [217.70.189.124]) by inbox.dpdk.org (Postfix) with ESMTP id C4CA6488A3 for ; Sat, 4 Oct 2025 00:45:38 +0200 (CEST) Received: from mails.dpdk.org (localhost [127.0.0.1]) by mails.dpdk.org (Postfix) with ESMTP id A3D8D4025D; Sat, 4 Oct 2025 00:45:38 +0200 (CEST) Received: from mail-pf1-f226.google.com (mail-pf1-f226.google.com [209.85.210.226]) by mails.dpdk.org (Postfix) with ESMTP id 0077A4025D for ; Sat, 4 Oct 2025 00:45:36 +0200 (CEST) Received: by mail-pf1-f226.google.com with SMTP id d2e1a72fcca58-77f1f29a551so3862248b3a.3 for ; Fri, 03 Oct 2025 15:45:36 -0700 (PDT) DKIM-Signature: v=1; a=rsa-sha256; c=relaxed/relaxed; d=iol.unh.edu; s=unh-iol; t=1759531536; x=1760136336; darn=dpdk.org; h=references:in-reply-to:cc:to:from:subject:message-id:date:from:to :cc:subject:date:message-id:reply-to; bh=g9Nqc7t9/usMr3hha9TffYn/0nLIEj3bhEFm9/ud+C0=; b=FFUPagrNfteo2M37E6SyO9OZGE6sXfLXYg5O4byVyBPw7MuBlAu0otU362UqeXOC1w p+3/aYb+E7u3aiGYqAsohmFBvg5XrCkHRhe6pZ1ig/SHDjfAyMHfyn9ueBet/GqeM3V/ 6bSPTw0kExipbEP5Oh8D5O5/WAqauMjkPeXe8= X-Google-DKIM-Signature: v=1; a=rsa-sha256; c=relaxed/relaxed; d=1e100.net; s=20230601; t=1759531536; x=1760136336; h=references:in-reply-to:cc:to:from:subject:message-id:date :x-gm-message-state:from:to:cc:subject:date:message-id:reply-to; bh=g9Nqc7t9/usMr3hha9TffYn/0nLIEj3bhEFm9/ud+C0=; b=Lr6m16Q6/GrqvhSoA9Mm6odNhnmSRRl5tu9sQ1fq+XN+0orsXmyqpmShX/Hq4YoZVl y/EnQ9v8iPZwjC4sbArpi17GzIBqv5qZu/Ml1/RQ7Sp0dosfkyBgSxEpIY6fYiC9EVXc +A8b98aUBsdeKHKi9cuJcRhthkrSeTZ449VpyPuigVVSn/ZEhg5VtsufAhH8VzjkgoNJ FNrFzZHgCBDF9EI4yhCJEC5cFkUkzSSFJGsKbqSTDe0LDWF0u1OHcsOsjNTFMjIaria/ O3/JViT2EqZCP8byZHu8zessbBP7hwWtFWjLi7ksK3xDmncyfjia0ZdgHrDBtRVju2n/ FNmQ== X-Gm-Message-State: AOJu0Yykny1Igv8BjyBctpJ/UKMnvL9USkRlD4yEQMpbVpbufBco5Vou pdpQEd/MjmfeNA12rLwh8roU1mv8qIoSeUPkWFkS7BAnU8Ddt5bRXoqOuKeSL0mitErGtt8Y39d 8SsCgJEMWomwS3eTtzFi+k5eCJS8kIY7umvBeYvZswK8pcDpDn8rOt6Uplkkx X-Gm-Gg: ASbGncvUIZKI8flrWHDpCCQDWro7ZAKC92lrpLgKLxVubTqxDd6Jod54elTtL0dj+PZ PXm2z/EJ6/wAMTzysq18d857RJZiEki3Oxc5V6e4OPEQBpakaOPJZ5J/BLR23IKA5FPQ/+wCsQ1 1QzGutbDkOb9bPnM90uTPXG/pvB0HyrRDdFhtj0IFIPgZhbb/285wGXduhOyusWEsrAjEXkxltR b7PZxrr7EaTPa0UrCvSgCT/HXNzMn+/IKkMRrXUL26lRhf9eTMeRnzXyBMHjLrbneNXQuevkdRR nI1tMCz9ll4nCH7Y37M9QlHemmTZ3PXuK5+C0EtNKY0V70XMxw1NxYA= X-Google-Smtp-Source: AGHT+IG0wuhNJDqc3J/CUMDAa1qwCCz62+TyEQJy0z7ornVnT65JIbWNOelAyaqk0M+Z3V8hAVP2wDy8m4rN X-Received: by 2002:a05:6a21:33a2:b0:251:c33d:2783 with SMTP id adf61e73a8af0-32b61e5742emr6167426637.23.1759531535944; Fri, 03 Oct 2025 15:45:35 -0700 (PDT) Received: from postal.iol.unh.edu (postal.iol.unh.edu. [2606:4100:3880:1234::84]) by smtp-relay.gmail.com with ESMTPS id 98e67ed59e1d1-339b4f22f9esm577407a91.6.2025.10.03.15.45.35 (version=TLS1_2 cipher=ECDHE-ECDSA-AES128-GCM-SHA256 bits=128/128); Fri, 03 Oct 2025 15:45:35 -0700 (PDT) X-Relaying-Domain: iol.unh.edu Date: Fri, 03 Oct 2025 15:45:35 -0700 (PDT) Message-ID: <68e0520f.170a0220.2c64e8.33f2SMTPIN_ADDED_MISSING@mx.google.com> Received: from [172.21.0.2] (unknown [172.18.0.240]) by postal.iol.unh.edu (Postfix) with ESMTP id 2CE726051830; Fri, 3 Oct 2025 18:45:35 -0400 (EDT) Subject: |SUCCESS| pw157165-157167 [PATCH] [v2,3/3] app/test: add ML crypto t From: dpdklab@iol.unh.edu To: Test Report Cc: dpdk-test-reports@iol.unh.edu In-Reply-To: <20251001073758.1295-4-gmuthukrishn@marvell.com> References: <20251001073758.1295-4-gmuthukrishn@marvell.com> Content-Type: text/plain X-BeenThere: test-report@dpdk.org X-Mailman-Version: 2.1.29 Precedence: list List-Id: automatic DPDK test reports List-Unsubscribe: , List-Archive: List-Post: List-Help: List-Subscribe: , Errors-To: test-report-bounces@dpdk.org Test-Label: iol-compile-amd64-testing Test-Status: SUCCESS http://dpdk.org/patch/157167 _Testing PASS_ Submitter: Gowrishankar Muthukrishnan Date: Wednesday, October 01 2025 07:37:55 DPDK git baseline: Repo:dpdk Branch: master CommitID:f3878b615e69a12087a6c5d212723478cfc79c31 157165-157167 --> testing pass Upstream job id: Generic-DPDK-Compile-Meson#430707 Test environment and result as below: +-------------------------------+--------------------+-------------------------+-------------------+----------------------+-------------------+------------------+ | Environment | dpdk_meson_compile | dpdk_llvm_clang_compile | dpdk_msvc_compile | dpdk_mingw64_compile | dpdk_compile_spdk | dpdk_compile_ovs | +===============================+====================+=========================+===================+======================+===================+==================+ | Ubuntu 20.04 | PASS | SKIPPED | SKIPPED | SKIPPED | SKIPPED | SKIPPED | +-------------------------------+--------------------+-------------------------+-------------------+----------------------+-------------------+------------------+ | FreeBSD 14.2 | PASS | SKIPPED | SKIPPED | SKIPPED | SKIPPED | SKIPPED | +-------------------------------+--------------------+-------------------------+-------------------+----------------------+-------------------+------------------+ | CentOS Stream 9 | PASS | SKIPPED | SKIPPED | SKIPPED | PASS | SKIPPED | +-------------------------------+--------------------+-------------------------+-------------------+----------------------+-------------------+------------------+ | CentOS Stream 10 | PASS | SKIPPED | SKIPPED | SKIPPED | SKIPPED | SKIPPED | +-------------------------------+--------------------+-------------------------+-------------------+----------------------+-------------------+------------------+ | Debian GNU/Linux 12 | PASS | SKIPPED | SKIPPED | SKIPPED | PASS | SKIPPED | +-------------------------------+--------------------+-------------------------+-------------------+----------------------+-------------------+------------------+ | Fedora Linux 42 | PASS | SKIPPED | SKIPPED | SKIPPED | PASS | PASS | +-------------------------------+--------------------+-------------------------+-------------------+----------------------+-------------------+------------------+ | openSUSE Leap 15.6 | PASS | SKIPPED | SKIPPED | SKIPPED | SKIPPED | SKIPPED | +-------------------------------+--------------------+-------------------------+-------------------+----------------------+-------------------+------------------+ | Red Hat Enterprise Linux 8.10 | PASS | SKIPPED | SKIPPED | SKIPPED | SKIPPED | SKIPPED | +-------------------------------+--------------------+-------------------------+-------------------+----------------------+-------------------+------------------+ | Red Hat Enterprise Linux 9.5 | PASS | SKIPPED | SKIPPED | SKIPPED | SKIPPED | SKIPPED | +-------------------------------+--------------------+-------------------------+-------------------+----------------------+-------------------+------------------+ | Ubuntu 22.04 | PASS | SKIPPED | SKIPPED | SKIPPED | PASS | SKIPPED | +-------------------------------+--------------------+-------------------------+-------------------+----------------------+-------------------+------------------+ | Ubuntu 24.04 | PASS | SKIPPED | SKIPPED | SKIPPED | PASS | PASS | +-------------------------------+--------------------+-------------------------+-------------------+----------------------+-------------------+------------------+ | Alpine Linux 3.22.0 | PASS | SKIPPED | SKIPPED | SKIPPED | SKIPPED | SKIPPED | +-------------------------------+--------------------+-------------------------+-------------------+----------------------+-------------------+------------------+ | Windows Server 2022 | SKIPPED | PASS | PASS | PASS | SKIPPED | SKIPPED | +-------------------------------+--------------------+-------------------------+-------------------+----------------------+-------------------+------------------+ Ubuntu 20.04 Kernel: 4.19 Compiler: gcc gcc (Ubuntu 9.4.0-1ubuntu1~20.04.2) 9.4.0 FreeBSD 14.2 Kernel: 14.2-RELEASE Compiler: clang 18.1.6 CentOS Stream 9 Kernel: 5.15 Compiler: gcc gcc (GCC) 11.5.0 20240719 (Red Hat 11.5.0-11) CentOS Stream 10 Kernel: 5.15 Compiler: gcc gcc (GCC) 14.2.1 20250110 (Red Hat 14.2.1-8) Debian GNU/Linux 12 Kernel: 5.15 Compiler: gcc gcc (Debian 12.2.0-14+deb12u1) 12.2.0 Fedora Linux 42 Kernel: 5.15 Compiler: clang gcc (GCC) 15.2.1 20250808 (Red Hat 15.2.1-1) openSUSE Leap 15.6 Kernel: 5.15 Compiler: gcc gcc (SUSE Linux) 7.5.0 Red Hat Enterprise Linux 8.10 Kernel: 5.15 Compiler: gcc gcc (GCC) 8.5.0 20210514 (Red Hat 8.5.0-22) Red Hat Enterprise Linux 9.5 Kernel: 5.15 Compiler: gcc gcc (GCC) 11.5.0 20240719 (Red Hat 11.5.0-2) Ubuntu 22.04 Kernel: 5.15 Compiler: gcc gcc (Ubuntu 11.4.0-1ubuntu1~22.04) 11.4.0 Ubuntu 24.04 Kernel: 5.15 Compiler: gcc gcc (Ubuntu 13.3.0-6ubuntu2~24.04) 13.3.0 Alpine Linux 3.22.0 Kernel: 5.15 Compiler: gcc gcc (Alpine 14.2.0) 14.2.0 Windows Server 2022 Kernel: 10.0.20348.2031 Compiler: clang 15.0.7, gcc 14.1.0 (MinGW), and MSVC VS 19.39.33521 To view detailed results, visit: https://lab.dpdk.org/results/dashboard/patchsets/34189/ UNH-IOL DPDK Community Lab To manage your email subscriptions, visit: https://lab.dpdk.org/results/dashboard/preferences/subscriptions/