From mboxrd@z Thu Jan 1 00:00:00 1970 Return-Path: Received: from mails.dpdk.org (mails.dpdk.org [217.70.189.124]) by inbox.dpdk.org (Postfix) with ESMTP id 47D98488A3 for ; Sat, 4 Oct 2025 01:06:59 +0200 (CEST) Received: from mails.dpdk.org (localhost [127.0.0.1]) by mails.dpdk.org (Postfix) with ESMTP id 3046B4025D; Sat, 4 Oct 2025 01:06:59 +0200 (CEST) Received: from mail-pj1-f98.google.com (mail-pj1-f98.google.com [209.85.216.98]) by mails.dpdk.org (Postfix) with ESMTP id 305FC4025D for ; Sat, 4 Oct 2025 01:06:58 +0200 (CEST) Received: by mail-pj1-f98.google.com with SMTP id 98e67ed59e1d1-33067909400so2094831a91.2 for ; Fri, 03 Oct 2025 16:06:58 -0700 (PDT) DKIM-Signature: v=1; a=rsa-sha256; c=relaxed/relaxed; d=iol.unh.edu; s=unh-iol; t=1759532817; x=1760137617; darn=dpdk.org; h=references:in-reply-to:cc:to:from:subject:message-id:date:from:to :cc:subject:date:message-id:reply-to; bh=/qbpL4wrBoLN6sv37OZMDheyXKqVen6Rvw78JroCUu4=; b=gMLl9Z36654gZ5Jei/+O1p/ZxtmePWubPWtmE3UfsLOOw6XTB4MlZSk+rMJKIf8MoU kgiVfOTVdTCk6ZMJgpubNO6NCHNfN+CS9CSbtQPR2bozSleK7nhiQ0sN1gaqPIjaEM4t 5K3szgk4Su3kpm34TxUS3AXJaFX9yNDD82U5o= X-Google-DKIM-Signature: v=1; a=rsa-sha256; c=relaxed/relaxed; d=1e100.net; s=20230601; t=1759532817; x=1760137617; h=references:in-reply-to:cc:to:from:subject:message-id:date :x-gm-message-state:from:to:cc:subject:date:message-id:reply-to; bh=/qbpL4wrBoLN6sv37OZMDheyXKqVen6Rvw78JroCUu4=; b=L2Izh2I66ZCho98N1U6VMLMT5Prq2ELgir9558/NfaNOT34lS0jOtrkbkED72kl+rX syNAoWJzxM8vORWwZaqHgUfj+CHVJJIdkOTN9fu3IGdC+TMlMEmktustWZokMfDTibn3 wSOoxS/gANQdSe8YNQr/uaoJD1wnGKJoEPE8U516G98HD/3cfUEn//Y5E2qtlWizh3+B 9SW/nii4tWjqnLViPPUIitMoTCtlEJA9BKDJJSFQt3RbaV6V7/DMpZF4jjVHaRXLfBPS eKUICiG2jKdbSxc5LHIe/ScsYY4CEalGYJMponnIpiksgN1lCxYFQCNcr6pA6AY0QCDY g0vQ== X-Gm-Message-State: AOJu0Yyq1nTqQM+sx687bm2UmZ6sH1DLbNolUSnUcrZ5wOX0cKJG23sT s11yolbKtNF2rtJh/6kyh/QiY4bo/a/DTZ0NH/xUuhJedQsIx/BclbYEHvwz1ke7XxOTM778FFy mqqNIwQPynHoANhN6+sKTaXrJmuWrjH4m2SujwqgJyfg0 X-Gm-Gg: ASbGnctaFZdrXMCkwxuxP4hpPyYczKL6Jtd97PJayDqs07RCxq6BCVvKb126PFa5MFA 31RcrhK1YzCT+Jc9M4eVhsmE9dQdW9geR+njIcVNtJ4xa3RJxMEwq4u0s+3bAduLrVSaEmApIDX n//6XAxpAKLCJyTFzEljwRloIK/xAxqJndJ+PkSznfIIHj7Hx5BsnTExme++i5UT6jUbCYeqgZR TryaRnXr7MJucwdRgvnuETJTyvUZmpI07lqYjoN5AnNCU5zWHaX/jj3TVRoTDN4FchG3rIuOHBo TDheyN7CBPNgJZap1j/AvdJOXyYDmnSvMEjzPaJVNHsI8GmQNTJdmH548+eNFZhmdYw7oD4ncZe qkw== X-Google-Smtp-Source: AGHT+IFF4GvylbjkkLvtY9+9bT4fs0Gyl8gXwPg8tn5Z+4znnvKAB0HzfQAMlqgiRaNC7HcNNlS94Y7Ll6i2 X-Received: by 2002:a17:90b:1811:b0:329:f630:6c3 with SMTP id 98e67ed59e1d1-339c278a004mr6121327a91.20.1759532817261; Fri, 03 Oct 2025 16:06:57 -0700 (PDT) Received: from postal.iol.unh.edu (postal.iol.unh.edu. [132.177.123.84]) by smtp-relay.gmail.com with ESMTPS id 98e67ed59e1d1-339a6f6d34bsm739466a91.5.2025.10.03.16.06.57 (version=TLS1_2 cipher=ECDHE-ECDSA-AES128-GCM-SHA256 bits=128/128); Fri, 03 Oct 2025 16:06:57 -0700 (PDT) X-Relaying-Domain: iol.unh.edu Date: Fri, 03 Oct 2025 16:06:57 -0700 (PDT) Message-ID: <68e05711.170a0220.c9dd8.c427SMTPIN_ADDED_MISSING@mx.google.com> Received: from [172.21.0.2] (unknown [172.18.0.240]) by postal.iol.unh.edu (Postfix) with ESMTP id 78C266051830; Fri, 3 Oct 2025 19:06:56 -0400 (EDT) Subject: |SUCCESS| pw157168-157169 [PATCH] [v5,2/2] net/idpf: enable AVX2 for From: dpdklab@iol.unh.edu To: Test Report Cc: dpdk-test-reports@iol.unh.edu, Bruce Richardson In-Reply-To: <20251001075609.2608021-3-shaiq.wani@intel.com> References: <20251001075609.2608021-3-shaiq.wani@intel.com> Content-Type: text/plain X-BeenThere: test-report@dpdk.org X-Mailman-Version: 2.1.29 Precedence: list List-Id: automatic DPDK test reports List-Unsubscribe: , List-Archive: List-Post: List-Help: List-Subscribe: , Errors-To: test-report-bounces@dpdk.org Test-Label: iol-compile-amd64-testing Test-Status: SUCCESS http://dpdk.org/patch/157169 _Testing PASS_ Submitter: Shaiq Wani Date: Wednesday, October 01 2025 07:56:09 DPDK git baseline: Repo:dpdk-next-net-intel Branch: master CommitID:9845e5848bbe337306fb6ae2a6b1ce5e6ab5b714 157168-157169 --> testing pass Upstream job id: Generic-DPDK-Compile-Meson#430723 Test environment and result as below: +-------------------------------+--------------------+-------------------+-------------------------+----------------------+-------------------+------------------+ | Environment | dpdk_meson_compile | dpdk_msvc_compile | dpdk_llvm_clang_compile | dpdk_mingw64_compile | dpdk_compile_spdk | dpdk_compile_ovs | +===============================+====================+===================+=========================+======================+===================+==================+ | Ubuntu 20.04 | PASS | SKIPPED | SKIPPED | SKIPPED | SKIPPED | SKIPPED | +-------------------------------+--------------------+-------------------+-------------------------+----------------------+-------------------+------------------+ | FreeBSD 14.2 | PASS | SKIPPED | SKIPPED | SKIPPED | SKIPPED | SKIPPED | +-------------------------------+--------------------+-------------------+-------------------------+----------------------+-------------------+------------------+ | CentOS Stream 9 | PASS | SKIPPED | SKIPPED | SKIPPED | PASS | SKIPPED | +-------------------------------+--------------------+-------------------+-------------------------+----------------------+-------------------+------------------+ | CentOS Stream 10 | PASS | SKIPPED | SKIPPED | SKIPPED | SKIPPED | SKIPPED | +-------------------------------+--------------------+-------------------+-------------------------+----------------------+-------------------+------------------+ | Debian GNU/Linux 12 | PASS | SKIPPED | SKIPPED | SKIPPED | PASS | SKIPPED | +-------------------------------+--------------------+-------------------+-------------------------+----------------------+-------------------+------------------+ | Fedora Linux 42 | PASS | SKIPPED | SKIPPED | SKIPPED | PASS | PASS | +-------------------------------+--------------------+-------------------+-------------------------+----------------------+-------------------+------------------+ | openSUSE Leap 15.6 | PASS | SKIPPED | SKIPPED | SKIPPED | SKIPPED | SKIPPED | +-------------------------------+--------------------+-------------------+-------------------------+----------------------+-------------------+------------------+ | Red Hat Enterprise Linux 8.10 | PASS | SKIPPED | SKIPPED | SKIPPED | SKIPPED | SKIPPED | +-------------------------------+--------------------+-------------------+-------------------------+----------------------+-------------------+------------------+ | Red Hat Enterprise Linux 9.5 | PASS | SKIPPED | SKIPPED | SKIPPED | SKIPPED | SKIPPED | +-------------------------------+--------------------+-------------------+-------------------------+----------------------+-------------------+------------------+ | Ubuntu 22.04 | PASS | SKIPPED | SKIPPED | SKIPPED | PASS | SKIPPED | +-------------------------------+--------------------+-------------------+-------------------------+----------------------+-------------------+------------------+ | Ubuntu 24.04 | PASS | SKIPPED | SKIPPED | SKIPPED | PASS | PASS | +-------------------------------+--------------------+-------------------+-------------------------+----------------------+-------------------+------------------+ | Windows Server 2022 | SKIPPED | PASS | PASS | PASS | SKIPPED | SKIPPED | +-------------------------------+--------------------+-------------------+-------------------------+----------------------+-------------------+------------------+ Ubuntu 20.04 Kernel: 4.19 Compiler: gcc gcc (Ubuntu 9.4.0-1ubuntu1~20.04.2) 9.4.0 FreeBSD 14.2 Kernel: 14.2-RELEASE Compiler: clang 18.1.6 CentOS Stream 9 Kernel: 5.15 Compiler: gcc gcc (GCC) 11.5.0 20240719 (Red Hat 11.5.0-11) CentOS Stream 10 Kernel: 5.15 Compiler: gcc gcc (GCC) 14.2.1 20250110 (Red Hat 14.2.1-8) Debian GNU/Linux 12 Kernel: 5.15 Compiler: gcc gcc (Debian 12.2.0-14+deb12u1) 12.2.0 Fedora Linux 42 Kernel: 5.15 Compiler: clang gcc (GCC) 15.2.1 20250808 (Red Hat 15.2.1-1) openSUSE Leap 15.6 Kernel: 5.15 Compiler: gcc gcc (SUSE Linux) 7.5.0 Red Hat Enterprise Linux 8.10 Kernel: 5.15 Compiler: gcc gcc (GCC) 8.5.0 20210514 (Red Hat 8.5.0-22) Red Hat Enterprise Linux 9.5 Kernel: 5.15 Compiler: gcc gcc (GCC) 11.5.0 20240719 (Red Hat 11.5.0-2) Ubuntu 22.04 Kernel: 5.15 Compiler: gcc gcc (Ubuntu 11.4.0-1ubuntu1~22.04) 11.4.0 Ubuntu 24.04 Kernel: 5.15 Compiler: gcc gcc (Ubuntu 13.3.0-6ubuntu2~24.04) 13.3.0 Windows Server 2022 Kernel: 10.0.20348.2031 Compiler: clang 15.0.7, gcc 14.1.0 (MinGW), and MSVC VS 19.39.33521 To view detailed results, visit: https://lab.dpdk.org/results/dashboard/patchsets/34190/ UNH-IOL DPDK Community Lab To manage your email subscriptions, visit: https://lab.dpdk.org/results/dashboard/preferences/subscriptions/