From mboxrd@z Thu Jan 1 00:00:00 1970 Return-Path: Received: from mails.dpdk.org (mails.dpdk.org [217.70.189.124]) by inbox.dpdk.org (Postfix) with ESMTP id B7155488A3 for ; Sat, 4 Oct 2025 01:10:39 +0200 (CEST) Received: from mails.dpdk.org (localhost [127.0.0.1]) by mails.dpdk.org (Postfix) with ESMTP id 93A624025D; Sat, 4 Oct 2025 01:10:39 +0200 (CEST) Received: from mail-pl1-f228.google.com (mail-pl1-f228.google.com [209.85.214.228]) by mails.dpdk.org (Postfix) with ESMTP id C8B304025D for ; Sat, 4 Oct 2025 01:10:38 +0200 (CEST) Received: by mail-pl1-f228.google.com with SMTP id d9443c01a7336-273a0aeed57so48868975ad.1 for ; Fri, 03 Oct 2025 16:10:38 -0700 (PDT) DKIM-Signature: v=1; a=rsa-sha256; c=relaxed/relaxed; d=iol.unh.edu; s=unh-iol; t=1759533038; x=1760137838; darn=dpdk.org; h=references:in-reply-to:cc:to:from:subject:message-id:date:from:to :cc:subject:date:message-id:reply-to; bh=vti8RWBJQqcLKPDsTLS19aajYSoRHCJvEdl5Grc0k6U=; b=Q6QggNDn/xyWBgyNFfLYY8jkB4F4XLez4l/XPllbhPXAOyY2+6tVR6yefvCZDD9cYp 1gHooTXRtP+fynqxEnDnKTOfcv9QoFdQ69P/1uPJuTavNA65PEjIE3MaIMeKcpA3ZD93 CIcNNWPBZSYSO+O2Pa4TgnTVYmn6iIvA/Uq+E= X-Google-DKIM-Signature: v=1; a=rsa-sha256; c=relaxed/relaxed; d=1e100.net; s=20230601; t=1759533038; x=1760137838; h=references:in-reply-to:cc:to:from:subject:message-id:date :x-gm-message-state:from:to:cc:subject:date:message-id:reply-to; bh=vti8RWBJQqcLKPDsTLS19aajYSoRHCJvEdl5Grc0k6U=; b=hSIOXZDtX9RPiwZGYXy7l7JxuE96jPYIM1o44BvUuo+jqEbLbnydGTE57XOJJOP0am esAczD2n3TfZtVpEv8iXSbhPk4SHEPbS3CCvqM5reYrPII+lHmP3okEKM5geoPBfnTYV NcQDIPQcCzZU1SPt/F/lSnzcLwH90mp6pSrd2dOPzwnNt+qf9zmmaZOdI7UTcPNKLOkr dmdx67+j8wltFrYTTptzY0D5LGJGf4IIb7Xb89KjT1TkXLubBVdg4srVMq8kYTeGEIej za8gHvIPW3vHS18GeVDyJ2oggs4nYc4gAai4CV6PsSJs+J9DGpFLE3GKduvmxhzyF9Ir Xabg== X-Gm-Message-State: AOJu0YwpJUDUIECeU96myz3oSZKxSQw6riB6ELV4bkAQmspnEXcd5vMK HHqE59v83ElAtECQYV8WgEEzRNCPq+XXweDU8vVIvqFGPcvexoVUNFf7vDJ+G2iZmYXi8+BzIZD 3XtGJDXmXIEUKcI7lic3bVG2LpzUqgKIe7kCzMhao5bRa3FZXG71SJps4iKgk X-Gm-Gg: ASbGnct8yXO1LcSEhvwP8+Ed2oWVbI8FzrQUPAfWPd9b5o0U5KTxO+7omIpDSxaKWVs lxSf/q/Jhs6zqnKnpTGId2eazujt8F+SGfbrW/WQEYjoTmGvagIbHbhOqEB6M4ri5RUa5+pd2bC s7mzoH1pbC44xunGrolk1v3CdfxmddGUPPNNTzu9aGbMU9+B3nPgan5Z+z+kNagQbi8RwXKiU63 z4tyn6kvRQwxlnmI/lJneCKxBPhyMNdD2NZ+FAaB7Xm+qkfqMXU4U4JMfJn6FEZwxHpxA62LDu5 bH82zynbSk9SOPDw1+FrFJ6+zwpR6ZsdlzsnYU0pYIKIdPEhpwM4EX4= X-Google-Smtp-Source: AGHT+IGXEBUILL0FkO76grkvuYaI5DvXjfc54b/WER0iR4/5EOokjgIIXRplcsDQ/KartFkxq+gFL4NJUMDU X-Received: by 2002:a17:903:948:b0:271:fa2d:534c with SMTP id d9443c01a7336-28e99dab876mr51582895ad.22.1759533037909; Fri, 03 Oct 2025 16:10:37 -0700 (PDT) Received: from postal.iol.unh.edu (postal.iol.unh.edu. [2606:4100:3880:1234::84]) by smtp-relay.gmail.com with ESMTPS id d9443c01a7336-28e8d1b21absm4312265ad.70.2025.10.03.16.10.37 (version=TLS1_2 cipher=ECDHE-ECDSA-AES128-GCM-SHA256 bits=128/128); Fri, 03 Oct 2025 16:10:37 -0700 (PDT) X-Relaying-Domain: iol.unh.edu Date: Fri, 03 Oct 2025 16:10:37 -0700 (PDT) Message-ID: <68e057ed.170a0220.1c1e31.ad74SMTPIN_ADDED_MISSING@mx.google.com> Received: from [172.21.0.2] (unknown [172.18.0.240]) by postal.iol.unh.edu (Postfix) with ESMTP id 5F8B76051830; Fri, 3 Oct 2025 19:10:37 -0400 (EDT) Subject: |SUCCESS| pw157168-157169 [PATCH] [v5,2/2] net/idpf: enable AVX2 for From: dpdklab@iol.unh.edu To: Test Report Cc: dpdk-test-reports@iol.unh.edu, Bruce Richardson In-Reply-To: <20251001075609.2608021-3-shaiq.wani@intel.com> References: <20251001075609.2608021-3-shaiq.wani@intel.com> Content-Type: text/plain X-BeenThere: test-report@dpdk.org X-Mailman-Version: 2.1.29 Precedence: list List-Id: automatic DPDK test reports List-Unsubscribe: , List-Archive: List-Post: List-Help: List-Subscribe: , Errors-To: test-report-bounces@dpdk.org Test-Label: iol-compile-amd64-testing Test-Status: SUCCESS http://dpdk.org/patch/157169 _Testing PASS_ Submitter: Shaiq Wani Date: Wednesday, October 01 2025 07:56:09 DPDK git baseline: Repo:dpdk-next-net-intel Branch: master CommitID:9845e5848bbe337306fb6ae2a6b1ce5e6ab5b714 157168-157169 --> testing pass Upstream job id: Generic-DPDK-Compile-Meson#430728 Test environment and result as below: +-------------------------------+--------------------+-------------------+-------------------------+----------------------+-------------------+------------------+ | Environment | dpdk_meson_compile | dpdk_msvc_compile | dpdk_llvm_clang_compile | dpdk_mingw64_compile | dpdk_compile_spdk | dpdk_compile_ovs | +===============================+====================+===================+=========================+======================+===================+==================+ | Ubuntu 20.04 | PASS | SKIPPED | SKIPPED | SKIPPED | SKIPPED | SKIPPED | +-------------------------------+--------------------+-------------------+-------------------------+----------------------+-------------------+------------------+ | FreeBSD 14.2 | PASS | SKIPPED | SKIPPED | SKIPPED | SKIPPED | SKIPPED | +-------------------------------+--------------------+-------------------+-------------------------+----------------------+-------------------+------------------+ | CentOS Stream 9 | PASS | SKIPPED | SKIPPED | SKIPPED | PASS | SKIPPED | +-------------------------------+--------------------+-------------------+-------------------------+----------------------+-------------------+------------------+ | CentOS Stream 10 | PASS | SKIPPED | SKIPPED | SKIPPED | SKIPPED | SKIPPED | +-------------------------------+--------------------+-------------------+-------------------------+----------------------+-------------------+------------------+ | Debian GNU/Linux 12 | PASS | SKIPPED | SKIPPED | SKIPPED | PASS | SKIPPED | +-------------------------------+--------------------+-------------------+-------------------------+----------------------+-------------------+------------------+ | Fedora Linux 42 | PASS | SKIPPED | SKIPPED | SKIPPED | PASS | PASS | +-------------------------------+--------------------+-------------------+-------------------------+----------------------+-------------------+------------------+ | openSUSE Leap 15.6 | PASS | SKIPPED | SKIPPED | SKIPPED | SKIPPED | SKIPPED | +-------------------------------+--------------------+-------------------+-------------------------+----------------------+-------------------+------------------+ | Red Hat Enterprise Linux 8.10 | PASS | SKIPPED | SKIPPED | SKIPPED | SKIPPED | SKIPPED | +-------------------------------+--------------------+-------------------+-------------------------+----------------------+-------------------+------------------+ | Red Hat Enterprise Linux 9.5 | PASS | SKIPPED | SKIPPED | SKIPPED | SKIPPED | SKIPPED | +-------------------------------+--------------------+-------------------+-------------------------+----------------------+-------------------+------------------+ | Ubuntu 22.04 | PASS | SKIPPED | SKIPPED | SKIPPED | PASS | SKIPPED | +-------------------------------+--------------------+-------------------+-------------------------+----------------------+-------------------+------------------+ | Ubuntu 24.04 | PASS | SKIPPED | SKIPPED | SKIPPED | PASS | PASS | +-------------------------------+--------------------+-------------------+-------------------------+----------------------+-------------------+------------------+ | Alpine Linux 3.22.0 | PASS | SKIPPED | SKIPPED | SKIPPED | SKIPPED | SKIPPED | +-------------------------------+--------------------+-------------------+-------------------------+----------------------+-------------------+------------------+ | Windows Server 2022 | SKIPPED | PASS | PASS | PASS | SKIPPED | SKIPPED | +-------------------------------+--------------------+-------------------+-------------------------+----------------------+-------------------+------------------+ Ubuntu 20.04 Kernel: 4.19 Compiler: gcc gcc (Ubuntu 9.4.0-1ubuntu1~20.04.2) 9.4.0 FreeBSD 14.2 Kernel: 14.2-RELEASE Compiler: clang 18.1.6 CentOS Stream 9 Kernel: 5.15 Compiler: gcc gcc (GCC) 11.5.0 20240719 (Red Hat 11.5.0-11) CentOS Stream 10 Kernel: 5.15 Compiler: gcc gcc (GCC) 14.2.1 20250110 (Red Hat 14.2.1-8) Debian GNU/Linux 12 Kernel: 5.15 Compiler: gcc gcc (Debian 12.2.0-14+deb12u1) 12.2.0 Fedora Linux 42 Kernel: 5.15 Compiler: clang gcc (GCC) 15.2.1 20250808 (Red Hat 15.2.1-1) openSUSE Leap 15.6 Kernel: 5.15 Compiler: gcc gcc (SUSE Linux) 7.5.0 Red Hat Enterprise Linux 8.10 Kernel: 5.15 Compiler: gcc gcc (GCC) 8.5.0 20210514 (Red Hat 8.5.0-22) Red Hat Enterprise Linux 9.5 Kernel: 5.15 Compiler: gcc gcc (GCC) 11.5.0 20240719 (Red Hat 11.5.0-2) Ubuntu 22.04 Kernel: 5.15 Compiler: gcc gcc (Ubuntu 11.4.0-1ubuntu1~22.04) 11.4.0 Ubuntu 24.04 Kernel: 5.15 Compiler: gcc gcc (Ubuntu 13.3.0-6ubuntu2~24.04) 13.3.0 Alpine Linux 3.22.0 Kernel: 5.15 Compiler: gcc gcc (Alpine 14.2.0) 14.2.0 Windows Server 2022 Kernel: 10.0.20348.2031 Compiler: clang 15.0.7, gcc 14.1.0 (MinGW), and MSVC VS 19.39.33521 To view detailed results, visit: https://lab.dpdk.org/results/dashboard/patchsets/34190/ UNH-IOL DPDK Community Lab To manage your email subscriptions, visit: https://lab.dpdk.org/results/dashboard/preferences/subscriptions/