From mboxrd@z Thu Jan 1 00:00:00 1970 Return-Path: Received: from mails.dpdk.org (mails.dpdk.org [217.70.189.124]) by inbox.dpdk.org (Postfix) with ESMTP id 3AFD4488A3 for ; Sat, 4 Oct 2025 02:45:57 +0200 (CEST) Received: from mails.dpdk.org (localhost [127.0.0.1]) by mails.dpdk.org (Postfix) with ESMTP id 1AC764025D; Sat, 4 Oct 2025 02:45:57 +0200 (CEST) Received: from mail-il1-f226.google.com (mail-il1-f226.google.com [209.85.166.226]) by mails.dpdk.org (Postfix) with ESMTP id B9DBA4025D for ; Sat, 4 Oct 2025 02:45:55 +0200 (CEST) Received: by mail-il1-f226.google.com with SMTP id e9e14a558f8ab-42f6100475aso4455685ab.1 for ; Fri, 03 Oct 2025 17:45:55 -0700 (PDT) DKIM-Signature: v=1; a=rsa-sha256; c=relaxed/relaxed; d=iol.unh.edu; s=unh-iol; t=1759538755; x=1760143555; darn=dpdk.org; h=cc:to:from:subject:message-id:date:from:to:cc:subject:date :message-id:reply-to; bh=3NUBHORQUa5msdLbgAJzindQjPw+OuQR6z53UITdWKg=; b=JC7dcNR0DsnYCE9XseAZ3NXKv2gjmXWeg67dIRuMQ4FDsyqwJ3rOaCpyUu3hg9wFPH mlIcAPlV6Xhw0H1JFzwyQJhiSHocXGX04vElEM4IsXL3bqLgLi/ZFYLKR74UR50E8dgh LBVUxqct+Epdu/d0hEi73Y22CqbyHDmzxKegk= X-Google-DKIM-Signature: v=1; a=rsa-sha256; c=relaxed/relaxed; d=1e100.net; s=20230601; t=1759538755; x=1760143555; h=cc:to:from:subject:message-id:date:x-gm-message-state:from:to:cc :subject:date:message-id:reply-to; bh=3NUBHORQUa5msdLbgAJzindQjPw+OuQR6z53UITdWKg=; b=uY7NeF935HIlWykpwru54RnmHqPPYyGorYVKapEfW+YTgb8l22lwM5bNQuFqhpEkwC NBMD7+znq4MnG5/AP5n++QrYrGClt4y0Znioi4Ko2X2e5az2kytJPmuYUc5qFvetgTNf PtkcHicnWR+hF32nrulTpA3Mn4E0Dzm/oQzPslbSN2VHTPHpwt6mKKojEXXgsJnQjghK xg56Q1iipL2dVdutuszbpVcs5Ezo27Vf4dDW1k0Pmdg1pg/ruDp5lO+PUO3nmZ06mWiY 1cdsVjICo8/c71hJ6u+ZMcFG6uv8nXCpDFDGdUHtOmrSHYdTIRupkRU28Zga6w+LEHJo hm7g== X-Gm-Message-State: AOJu0Yw56QQ+GIvhTH7fwT6Uj8NNSbSw1Ofp+uluseRYOvfTnn/RdmWO XfIl+n27glcta9iwpMYPjksDTDUZQ7a9ROIGQcVpQi5HvGsPKfUy6ZuywPA8n29zIijPexNER4G qIhJeeW/dLLkEP+v57niNe+wF4uYcdB1MtjMASgeB0QPr X-Gm-Gg: ASbGncvMGi5xnl9YXeqz1+/05Gwy39zojdGD7QygkJz/0LkvoXj76L9FN/IWw+aZCwR +LCanssdCF07b43+SrSDsGtXOxhdf/GACEbw0M45oPO9Kq0QRG6cQpfC2gx0Iv/g/kpJz14v5ht a07ZL95k5R2BVjkv7JfrjvEMdHRXKNhyYwvGwq1Y6kUNTqwgfjWP5oazdeUYNsywFX7Lpn3jlFi +jrE8VXJyWzxPiFjCe2GdDwM8qxyCxk/O3TYB1J4iNzZcbyqMNxg97i8Nva02mmqMeipwT5Jmk9 CdcXZM5BvdvmuIo/YW5JvUIFkNl25iP8LbLNpZT01t5fyQzwEMkbdDueNuK1ua8Ynoobq8yWKSL ZnQ== X-Google-Smtp-Source: AGHT+IH1d5aAKmypdt+mFN9hAXO/mRrfFP9ututDY0lqDpTVlfwOPW5dWbTRUx8BDChMEXpm/gjcVM0BmHe6 X-Received: by 2002:a05:6e02:156f:b0:42e:70fd:f5ab with SMTP id e9e14a558f8ab-42e7ad01afcmr57465165ab.1.1759538754802; Fri, 03 Oct 2025 17:45:54 -0700 (PDT) Received: from postal.iol.unh.edu (postal.iol.unh.edu. [132.177.123.84]) by smtp-relay.gmail.com with ESMTPS id 8926c6da1cb9f-57b5eb626dbsm468632173.22.2025.10.03.17.45.54 (version=TLS1_2 cipher=ECDHE-ECDSA-AES128-GCM-SHA256 bits=128/128); Fri, 03 Oct 2025 17:45:54 -0700 (PDT) X-Relaying-Domain: iol.unh.edu Date: Fri, 03 Oct 2025 17:45:54 -0700 (PDT) Message-ID: <68e06e42.050a0220.3c4084.d199SMTPIN_ADDED_MISSING@mx.google.com> Received: from [172.21.0.2] (unknown [172.18.0.240]) by postal.iol.unh.edu (Postfix) with ESMTP id 66FC66051830; Fri, 3 Oct 2025 20:45:54 -0400 (EDT) Subject: |SUCCESS| [GIT MASTER] 76393b98bf67f94dc6aa23cf5016c32571899261 From: dpdklab@iol.unh.edu To: Test Report Cc: dpdk-test-reports@iol.unh.edu Content-Type: text/plain X-BeenThere: test-report@dpdk.org X-Mailman-Version: 2.1.29 Precedence: list List-Id: automatic DPDK test reports List-Unsubscribe: , List-Archive: List-Post: List-Help: List-Subscribe: , Errors-To: test-report-bounces@dpdk.org _Testing PASS_ Branch: dpdk 76393b98bf67f94dc6aa23cf5016c32571899261 --> testing pass Upstream job id: Generic-VM-Unit-Test-DPDK#31580 Test environment and result as below: +-------------------------------+----------------+ | Environment | dpdk_unit_test | +===============================+================+ | Arch Linux 20250613.0.365270 | PASS | +-------------------------------+----------------+ | CentOS Stream 10 | PASS | +-------------------------------+----------------+ | CentOS Stream 9 | PASS | +-------------------------------+----------------+ | Windows Server 2022 | PASS | +-------------------------------+----------------+ | Debian GNU/Linux 12 | PASS | +-------------------------------+----------------+ | Fedora Linux 40 | PASS | +-------------------------------+----------------+ | Fedora Linux 41 | PASS | +-------------------------------+----------------+ | Fedora Linux 42 | PASS | +-------------------------------+----------------+ | Red Hat Enterprise Linux 9.5 | PASS | +-------------------------------+----------------+ | Ubuntu 20.04 | PASS | +-------------------------------+----------------+ | Red Hat Enterprise Linux 8.10 | PASS | +-------------------------------+----------------+ | Ubuntu 24.04 | PASS | +-------------------------------+----------------+ | Ubuntu 22.04 | PASS | +-------------------------------+----------------+ Arch Linux 20250613.0.365270 Kernel: 5.15 Compiler: gcc gcc (GCC) 15.1.1 20250425 CentOS Stream 10 Kernel: 5.15 Compiler: gcc gcc (GCC) 14.2.1 20250110 (Red Hat 14.2.1-8) CentOS Stream 9 Kernel: 5.15 Compiler: gcc gcc (GCC) 11.5.0 20240719 (Red Hat 11.5.0-11) Windows Server 2022 Kernel: 10.0.20348.2031 Compiler: clang 15.0.7, gcc 14.1.0 (MinGW), and MSVC VS 19.39.33521 Debian GNU/Linux 12 Kernel: 5.15 Compiler: gcc gcc (Debian 12.2.0-14+deb12u1) 12.2.0 Fedora Linux 40 Kernel: 5.15 Compiler: clang gcc (GCC) 14.2.1 20240912 (Red Hat 14.2.1-3) Fedora Linux 41 Kernel: 5.15 Compiler: clang gcc (GCC) 14.3.1 20250523 (Red Hat 14.3.1-1) Fedora Linux 42 Kernel: 5.15 Compiler: gcc gcc (GCC) 15.2.1 20250808 (Red Hat 15.2.1-1) Red Hat Enterprise Linux 9.5 Kernel: 5.15 Compiler: gcc gcc (GCC) 11.5.0 20240719 (Red Hat 11.5.0-2) Ubuntu 20.04 Kernel: 5.15 Compiler: gcc gcc (Ubuntu 9.4.0-1ubuntu1~20.04.2) 9.4.0 Red Hat Enterprise Linux 8.10 Kernel: 5.15 Compiler: gcc gcc (GCC) 8.5.0 20210514 (Red Hat 8.5.0-22) Ubuntu 24.04 Kernel: 5.15 Compiler: gcc gcc (Ubuntu 13.3.0-6ubuntu2~24.04) 13.3.0 Ubuntu 22.04 Kernel: 5.15 Compiler: gcc gcc (Ubuntu 11.4.0-1ubuntu1~22.04) 11.4.0 To view detailed results, visit: https://lab.dpdk.org/results/dashboard/tarballs/35103/ UNH-IOL DPDK Community Lab To manage your email subscriptions, visit: https://lab.dpdk.org/results/dashboard/preferences/subscriptions/