From mboxrd@z Thu Jan 1 00:00:00 1970 Return-Path: Received: from mails.dpdk.org (mails.dpdk.org [217.70.189.124]) by inbox.dpdk.org (Postfix) with ESMTP id BACB5488A3 for ; Sat, 4 Oct 2025 02:51:10 +0200 (CEST) Received: from mails.dpdk.org (localhost [127.0.0.1]) by mails.dpdk.org (Postfix) with ESMTP id 9E8454014F; Sat, 4 Oct 2025 02:51:10 +0200 (CEST) Received: from mail-yw1-f225.google.com (mail-yw1-f225.google.com [209.85.128.225]) by mails.dpdk.org (Postfix) with ESMTP id 346F84014F for ; Sat, 4 Oct 2025 02:51:09 +0200 (CEST) Received: by mail-yw1-f225.google.com with SMTP id 00721157ae682-71d71bcac45so31802427b3.0 for ; Fri, 03 Oct 2025 17:51:09 -0700 (PDT) DKIM-Signature: v=1; a=rsa-sha256; c=relaxed/relaxed; d=iol.unh.edu; s=unh-iol; t=1759539068; x=1760143868; darn=dpdk.org; h=cc:to:from:subject:message-id:date:from:to:cc:subject:date :message-id:reply-to; bh=0ozYZllvewnkyIeYFIh/oC6pb0KSf3eA6grVyfL+DmU=; b=He3eMoUw4SeO52MygZ4ZjOjofqe9tuEvqugb5nHHkOBJD0uZ710jmcJ4iffDQcSxlv SPP0OnpG9PJEaHj70M9xi6VV9DGDd5Pd47pawIgmedbofWVbMCUELbjMio90dWOLmUsX QEFOCpm0AZhhwfWKZei0U3Of/T9gRI15Th4Bc= X-Google-DKIM-Signature: v=1; a=rsa-sha256; c=relaxed/relaxed; d=1e100.net; s=20230601; t=1759539068; x=1760143868; h=cc:to:from:subject:message-id:date:x-gm-message-state:from:to:cc :subject:date:message-id:reply-to; bh=0ozYZllvewnkyIeYFIh/oC6pb0KSf3eA6grVyfL+DmU=; b=hDayR2KBztbgml56Xk7oF4yi1h29n0qXoWWIerYJsX299kOyyL0VUUjzqtqEClOrKl Czf59ysC5x5KCL9WLWTU6tS+W7bbxph2XZibm+3zdlEOODPJcvwcgilVCnm4NqGhWMRg vm7/QhFZneHyigEF7SzstNXd7QAqpqRBsUlU4dSqUea1DD97FhBCWiP8XwDZGetO1R+X B7Paeuq+OhAO6Mo6GoXa8UfioyxqEfbXkWFP62yaG9fWDHwPtxlNILYh6tIclNR/rucM Ji+Q/2ONAcTPNrcx9hGyF68ZhICgPLjim69cbOgQw00kixNivj0446fCno5mKsfCrKeB tzaw== X-Gm-Message-State: AOJu0YyiExeq79cSCudgdR7qJcA+5YWsnYNKoumzsA3zxPBBryMP2cic zNE2vaPQ1+1F1lMKrbW1uFa0ACGaNHVbLL5TxaE4TXYoC4bEs0bU5V0ryFD62Ivu4+uF0sNanbF t2Y2e3ZTe7JXfA7y6n/E09RnHo6ZUAZ4+zPMB69Pn98byd/Tr5XnBhnYLqL4M X-Gm-Gg: ASbGncuEVAMCkOJJGCTR4PPHO7QOjSX9DcJ5iHGxDDa5VgsNIMSAb7yQBGkU4Zif4N+ 8mnHBS5qlau3YLro6FH0mxcyF+MKxwXlfe4cNvuI4O6PVyIv6fYdSPUpeObU5Hcq518ClbKGgEh s+nTvyuzu9taqwT29QQ59xBIBekL/znTf4JOtFk8JSK+GAtSLuQaz5KTnPdTuMATI0Z/3wiEtiD n6co5jzgXRwr5PlEbX+TSsYDFTMUORhGpLf77XRvQrYkFwtnNbEupV2OoFqbcSa9FiKTzvmkp3U kcFhsjVlfA8Tbo2Vfmuhv9ynDB3dTxjT97Dc3nZmVtDP82ZT4cbSixk= X-Google-Smtp-Source: AGHT+IFf7ItkoIBoWSIEgdocAwAL2qjAyyDpzMyYPdBo+iSO7rIjiLxw0v6zmTV7ZGB63yrXb7PvUhJZGBTQ X-Received: by 2002:a05:690e:404:b0:636:1844:119 with SMTP id 956f58d0204a3-63b9a06516fmr3096609d50.3.1759539068513; Fri, 03 Oct 2025 17:51:08 -0700 (PDT) Received: from postal.iol.unh.edu (postal.iol.unh.edu. [2606:4100:3880:1234::84]) by smtp-relay.gmail.com with ESMTPS id 00721157ae682-77f81d2d3b8sm3233717b3.34.2025.10.03.17.51.08 (version=TLS1_2 cipher=ECDHE-ECDSA-AES128-GCM-SHA256 bits=128/128); Fri, 03 Oct 2025 17:51:08 -0700 (PDT) X-Relaying-Domain: iol.unh.edu Date: Fri, 03 Oct 2025 17:51:08 -0700 (PDT) Message-ID: <68e06f7c.050a0220.23ef7c.3a08SMTPIN_ADDED_MISSING@mx.google.com> Received: from [172.21.0.2] (unknown [172.18.0.240]) by postal.iol.unh.edu (Postfix) with ESMTP id 087BA6051830; Fri, 3 Oct 2025 20:51:08 -0400 (EDT) Subject: |SUCCESS| [GIT MASTER] 76393b98bf67f94dc6aa23cf5016c32571899261 From: dpdklab@iol.unh.edu To: Test Report Cc: dpdk-test-reports@iol.unh.edu Content-Type: text/plain X-BeenThere: test-report@dpdk.org X-Mailman-Version: 2.1.29 Precedence: list List-Id: automatic DPDK test reports List-Unsubscribe: , List-Archive: List-Post: List-Help: List-Subscribe: , Errors-To: test-report-bounces@dpdk.org _Testing PASS_ Branch: dpdk 76393b98bf67f94dc6aa23cf5016c32571899261 --> testing pass Upstream job id: Generic-VM-Unit-Test-DPDK#31581 Test environment and result as below: +-------------------------------+----------------+ | Environment | dpdk_unit_test | +===============================+================+ | Arch Linux 20250613.0.365270 | PASS | +-------------------------------+----------------+ | CentOS Stream 10 | PASS | +-------------------------------+----------------+ | CentOS Stream 9 | PASS | +-------------------------------+----------------+ | Windows Server 2022 | PASS | +-------------------------------+----------------+ | Debian GNU/Linux 12 | PASS | +-------------------------------+----------------+ | Fedora Linux 40 | PASS | +-------------------------------+----------------+ | Fedora Linux 41 | PASS | +-------------------------------+----------------+ | Fedora Linux 42 | PASS | +-------------------------------+----------------+ | Red Hat Enterprise Linux 9.5 | PASS | +-------------------------------+----------------+ | Ubuntu 20.04 | PASS | +-------------------------------+----------------+ | Red Hat Enterprise Linux 8.10 | PASS | +-------------------------------+----------------+ | Ubuntu 24.04 | PASS | +-------------------------------+----------------+ | Ubuntu 22.04 | PASS | +-------------------------------+----------------+ Arch Linux 20250613.0.365270 Kernel: 5.15 Compiler: gcc gcc (GCC) 15.1.1 20250425 CentOS Stream 10 Kernel: 5.15 Compiler: gcc gcc (GCC) 14.2.1 20250110 (Red Hat 14.2.1-8) CentOS Stream 9 Kernel: 5.15 Compiler: gcc gcc (GCC) 11.5.0 20240719 (Red Hat 11.5.0-11) Windows Server 2022 Kernel: 10.0.20348.2031 Compiler: clang 15.0.7, gcc 14.1.0 (MinGW), and MSVC VS 19.39.33521 Debian GNU/Linux 12 Kernel: 5.15 Compiler: gcc gcc (Debian 12.2.0-14+deb12u1) 12.2.0 Fedora Linux 40 Kernel: 5.15 Compiler: clang gcc (GCC) 14.2.1 20240912 (Red Hat 14.2.1-3) Fedora Linux 41 Kernel: 5.15 Compiler: clang gcc (GCC) 14.3.1 20250523 (Red Hat 14.3.1-1) Fedora Linux 42 Kernel: 5.15 Compiler: gcc gcc (GCC) 15.2.1 20250808 (Red Hat 15.2.1-1) Red Hat Enterprise Linux 9.5 Kernel: 5.15 Compiler: gcc gcc (GCC) 11.5.0 20240719 (Red Hat 11.5.0-2) Ubuntu 20.04 Kernel: 5.15 Compiler: gcc gcc (Ubuntu 9.4.0-1ubuntu1~20.04.2) 9.4.0 Red Hat Enterprise Linux 8.10 Kernel: 5.15 Compiler: gcc gcc (GCC) 8.5.0 20210514 (Red Hat 8.5.0-22) Ubuntu 24.04 Kernel: 5.15 Compiler: gcc gcc (Ubuntu 13.3.0-6ubuntu2~24.04) 13.3.0 Ubuntu 22.04 Kernel: 5.15 Compiler: gcc gcc (Ubuntu 11.4.0-1ubuntu1~22.04) 11.4.0 To view detailed results, visit: https://lab.dpdk.org/results/dashboard/tarballs/35103/ UNH-IOL DPDK Community Lab To manage your email subscriptions, visit: https://lab.dpdk.org/results/dashboard/preferences/subscriptions/