From mboxrd@z Thu Jan 1 00:00:00 1970 Return-Path: Received: from mails.dpdk.org (mails.dpdk.org [217.70.189.124]) by inbox.dpdk.org (Postfix) with ESMTP id AF3DC488A3 for ; Sat, 4 Oct 2025 02:59:29 +0200 (CEST) Received: from mails.dpdk.org (localhost [127.0.0.1]) by mails.dpdk.org (Postfix) with ESMTP id 835ED4014F; Sat, 4 Oct 2025 02:59:29 +0200 (CEST) Received: from mail-pl1-f227.google.com (mail-pl1-f227.google.com [209.85.214.227]) by mails.dpdk.org (Postfix) with ESMTP id CB0664014F for ; Sat, 4 Oct 2025 02:59:28 +0200 (CEST) Received: by mail-pl1-f227.google.com with SMTP id d9443c01a7336-2681660d604so28652485ad.0 for ; Fri, 03 Oct 2025 17:59:28 -0700 (PDT) DKIM-Signature: v=1; a=rsa-sha256; c=relaxed/relaxed; d=iol.unh.edu; s=unh-iol; t=1759539568; x=1760144368; darn=dpdk.org; h=cc:to:from:subject:message-id:date:from:to:cc:subject:date :message-id:reply-to; bh=3Sa0oVj2YPiIL3FPOdA5/w38p9UoUliEpZO6oJ2xRiU=; b=cmAcHiMjnWncyK76MK71CJ+nyaMHxxu5QDjTzG/zV3uBVievd2uaVMh6b1NKju67Dj eJfAA+hxmcJ3I6qMbqZSjAhssq0B+QJmdsVtKIHKDad5WNzGsssjPNri7sTFDQB3tZZJ qkJ5BbxeL8ip/Cd33l1xVOL0ysCn7aaPfATMQ= X-Google-DKIM-Signature: v=1; a=rsa-sha256; c=relaxed/relaxed; d=1e100.net; s=20230601; t=1759539568; x=1760144368; h=cc:to:from:subject:message-id:date:x-gm-message-state:from:to:cc :subject:date:message-id:reply-to; bh=3Sa0oVj2YPiIL3FPOdA5/w38p9UoUliEpZO6oJ2xRiU=; b=eY9BNuqe7nkKutBQQgTYUOlR1j8jJwA/dgkPQoNExZjGQPZJetOi8nzyJqpBMFAk6K +LPNamAAmB3Na9cRMFxypJF4mQly5tSVoIZjetByViya8mWywiEfnR66jT3hV5Pkjz9d 3e+LjhgmQyUvIhyv1H6JD/pFG4+qVTEttNyo6UuoqevjAS1wS2n2FKeOOCymKq1DJVaL nO74/+5dApY5i/YXCiPngE6QWspr5guljv6SknAA3H/1AeZmjuJKI+ps3mvMko3+X0wP G+sr+9VvwrPmOaqJGPUWPlcq3Ogm09q4XPP00MuuGqzkAjGCL6DHfteHHJnA0BygG5iu 6S0Q== X-Gm-Message-State: AOJu0YyqjaKavAb89uCfJOXcZ2KxwPv0LEMMmHGlK65yG2hLGNiU3EKo nr8a9C5eZSxQXmM6495NBeOHUaTrlnszigQZ9F6PECgBKK8m5FRNsRYlLgSCrzzAiqKp3/77Tg0 LpzTzG1HLuE49ROyk2v4Si0KBWTXayHGBR7Cg X-Gm-Gg: ASbGncva2hHLYX/4kNhhh0uA0EksVcGcCQGIASSJ6GLKAdNxdrhi6+0+xzXlf0Plk82 4j2zOyFbebqrjaByagjUyfx8RYfK02C8I1lzoM+d0hI8XUE9JTD3WD630Op7iJpuYDJVKbB3jB8 hYjQrDvQYjY58/bEmUTfVxnlOTMUv1Wi/YxFH7Q3oIDu5OMHi5bi3mHli6Yarpm3dym7PFXb4f9 OU4xwEmWGuTYDUj/Xh2WVhj380bdbJ4RyBRNfc6zVBsV3ti5k8q1Rj5uvxZ8/c6FgU7XAZBfnGJ 08o88RczZl1CyElLo36pq30vmtCOH89AX/O6Y2j1M55Z1dmoW7E1WAUjUYgPYk3meSL+DUpAB+n AHg== X-Google-Smtp-Source: AGHT+IHCM02uK/JGlmZ+vnudf8r2rbLEobDPmxnc1ZQ/rupuf8tZHF5eWdNot9DjeQl/XrbnWP/RZBXdBzmD X-Received: by 2002:a17:903:298e:b0:269:a2bc:799f with SMTP id d9443c01a7336-28e9a5f87e9mr53725895ad.29.1759539567605; Fri, 03 Oct 2025 17:59:27 -0700 (PDT) Received: from postal.iol.unh.edu (postal.iol.unh.edu. [132.177.123.84]) by smtp-relay.gmail.com with ESMTPS id d9443c01a7336-28e8d10878csm4462285ad.12.2025.10.03.17.59.27 (version=TLS1_2 cipher=ECDHE-ECDSA-AES128-GCM-SHA256 bits=128/128); Fri, 03 Oct 2025 17:59:27 -0700 (PDT) X-Relaying-Domain: iol.unh.edu Date: Fri, 03 Oct 2025 17:59:27 -0700 (PDT) Message-ID: <68e0716f.170a0220.282471.b133SMTPIN_ADDED_MISSING@mx.google.com> Received: from [172.21.0.3] (unknown [172.18.0.240]) by postal.iol.unh.edu (Postfix) with ESMTP id C48F76051830; Fri, 3 Oct 2025 20:59:26 -0400 (EDT) Subject: |SUCCESS| [GIT MASTER] b287e404643aeab5bb5db084c142789df187844e From: dpdklab@iol.unh.edu To: Test Report Cc: dpdk-test-reports@iol.unh.edu, Xueming Li , Christian Ehrhardt , Kevin Traynor , Luca Boccassi Content-Type: text/plain X-BeenThere: test-report@dpdk.org X-Mailman-Version: 2.1.29 Precedence: list List-Id: automatic DPDK test reports List-Unsubscribe: , List-Archive: List-Post: List-Help: List-Subscribe: , Errors-To: test-report-bounces@dpdk.org _Testing PASS_ Branch: tags/v24.11 b287e404643aeab5bb5db084c142789df187844e --> testing pass Upstream job id: Generic-Unit-Test-DPDK#378047 Test environment and result as below: +------------------------------+----------------+--------------+------------------------------+---------------------------+ | Environment | dpdk_unit_test | lpm_autotest | cryptodev_sw_snow3g_autotest | cryptodev_sw_zuc_autotest | +==============================+================+==============+==============================+===========================+ | Ubuntu 22.04 | PASS | SKIPPED | SKIPPED | SKIPPED | +------------------------------+----------------+--------------+------------------------------+---------------------------+ | CentOS Stream 10 | PASS | SKIPPED | SKIPPED | SKIPPED | +------------------------------+----------------+--------------+------------------------------+---------------------------+ | CentOS Stream 9 | PASS | SKIPPED | SKIPPED | SKIPPED | +------------------------------+----------------+--------------+------------------------------+---------------------------+ | Debian GNU/Linux 12 | PASS | SKIPPED | SKIPPED | SKIPPED | +------------------------------+----------------+--------------+------------------------------+---------------------------+ | Fedora Linux 40 | PASS | SKIPPED | SKIPPED | SKIPPED | +------------------------------+----------------+--------------+------------------------------+---------------------------+ | Fedora Linux 41 | PASS | SKIPPED | SKIPPED | SKIPPED | +------------------------------+----------------+--------------+------------------------------+---------------------------+ | Fedora Linux 42 | PASS | SKIPPED | SKIPPED | SKIPPED | +------------------------------+----------------+--------------+------------------------------+---------------------------+ | Ubuntu 20.04 | PASS | PASS | SKIPPED | SKIPPED | +------------------------------+----------------+--------------+------------------------------+---------------------------+ | Red Hat Enterprise Linux 9.5 | PASS | SKIPPED | SKIPPED | SKIPPED | +------------------------------+----------------+--------------+------------------------------+---------------------------+ | Ubuntu 24.04 | PASS | SKIPPED | SKIPPED | SKIPPED | +------------------------------+----------------+--------------+------------------------------+---------------------------+ | Debian 12 (arm) | SKIPPED | SKIPPED | PASS | PASS | +------------------------------+----------------+--------------+------------------------------+---------------------------+ Ubuntu 22.04 Kernel: 5.15 Compiler: gcc gcc (Ubuntu 11.4.0-1ubuntu1~22.04.2) 11.4.0 CentOS Stream 10 Kernel: 5.4 Compiler: gcc gcc (GCC) 14.2.1 20250110 (Red Hat 14.2.1-8) CentOS Stream 9 Kernel: 5.4 Compiler: gcc gcc (GCC) 11.5.0 20240719 (Red Hat 11.5.0-11) Debian GNU/Linux 12 Kernel: 5.4 Compiler: gcc gcc (Debian 12.2.0-14+deb12u1) 12.2.0 Fedora Linux 40 Kernel: 5.4 Compiler: gcc gcc (GCC) 14.2.1 20240912 (Red Hat 14.2.1-3) Fedora Linux 41 Kernel: 5.4 Compiler: clang gcc (GCC) 14.3.1 20250523 (Red Hat 14.3.1-1) Fedora Linux 42 Kernel: 5.4 Compiler: gcc gcc (GCC) 15.2.1 20250808 (Red Hat 15.2.1-1) Ubuntu 20.04 Kernel: 5.4 Compiler: gcc gcc (Ubuntu 9.4.0-1ubuntu1~20.04.2) 9.4.0 Red Hat Enterprise Linux 9.5 Kernel: 5.4 Compiler: gcc gcc (GCC) 11.5.0 20240719 (Red Hat 11.5.0-2) Ubuntu 24.04 Kernel: 5.4 Compiler: gcc gcc (Ubuntu 13.3.0-6ubuntu2~24.04) 13.3.0 Debian 12 (arm) Kernel: Depends on container host Compiler: gcc (Debian 12.2.0-14) 12.2.0 To view detailed results, visit: https://lab.dpdk.org/results/dashboard/tarballs/35091/ UNH-IOL DPDK Community Lab To manage your email subscriptions, visit: https://lab.dpdk.org/results/dashboard/preferences/subscriptions/