From mboxrd@z Thu Jan 1 00:00:00 1970 Return-Path: Received: from mails.dpdk.org (mails.dpdk.org [217.70.189.124]) by inbox.dpdk.org (Postfix) with ESMTP id EB16D488A3 for ; Sat, 4 Oct 2025 03:39:23 +0200 (CEST) Received: from mails.dpdk.org (localhost [127.0.0.1]) by mails.dpdk.org (Postfix) with ESMTP id C4A0A4014F; Sat, 4 Oct 2025 03:39:23 +0200 (CEST) Received: from mail-pj1-f99.google.com (mail-pj1-f99.google.com [209.85.216.99]) by mails.dpdk.org (Postfix) with ESMTP id E5EDF4014F for ; Sat, 4 Oct 2025 03:39:22 +0200 (CEST) Received: by mail-pj1-f99.google.com with SMTP id 98e67ed59e1d1-3306b83ebdaso2949252a91.3 for ; Fri, 03 Oct 2025 18:39:22 -0700 (PDT) DKIM-Signature: v=1; a=rsa-sha256; c=relaxed/relaxed; d=iol.unh.edu; s=unh-iol; t=1759541962; x=1760146762; darn=dpdk.org; h=references:in-reply-to:cc:to:from:subject:message-id:date:from:to :cc:subject:date:message-id:reply-to; bh=SzPnEJDsR2C/8Owio/wvSFwtoR0vJUt9M5Cmh689ZQ4=; b=H7JzUp5FOtOKO/Y+80QvxGjwWtPVrGTudP1J9MCYMj1JaMLVSshYKJIQx3ooXO6Qmf ytaohs5rjSpBddZ9Mi/aJ6SxXB9yi4jCgqYpVe8TGKNH4MLObMEaX3T7F5LQMYV9TghZ K3Hoz46QQnGmlsaBjwQLZaHpN3IigC9Y5UP6s= X-Google-DKIM-Signature: v=1; a=rsa-sha256; c=relaxed/relaxed; d=1e100.net; s=20230601; t=1759541962; x=1760146762; h=references:in-reply-to:cc:to:from:subject:message-id:date :x-gm-message-state:from:to:cc:subject:date:message-id:reply-to; bh=SzPnEJDsR2C/8Owio/wvSFwtoR0vJUt9M5Cmh689ZQ4=; b=sPrfYKMVtPX/Lpk+gsF9Uq8EUHtlgKjJZmRiWlqeqSDnGCYGPSCbdcC3cU98sJPTpb CMGMzfqG8+7fBHuCJMG7+iTEoABVakxafBAop6S+swazx0b8rOTeDN5Isr4KxWI+r5H3 F4qPQ3pwbH3Tsz6IWRV25FAJli7GzArggQ+vzYiBT1d7IrtHcbB7vpoU3z4Fc7EN4Z51 awL7D0WxWqK7VrP07A94SG7w8lNbpaGE0qIzRi/EebfUJ6Q+G/DT4PKg2HluXy/I4zze TeXBWUoCriZfO0W7uFuuvwUXCMn2oe3DwITfB38DcH61VetmrPKMIjadV/rlWpzIV2fv Gwmw== X-Gm-Message-State: AOJu0Yygp41X2FIu2zSZ2QCPUJ7WL5VX0POm5oXsQKdRVDJygKS5ZFgR umv2gQsU9zaGSt1fuWezVXMthGOgpi/DIn29qF5jvKw3OpTLROnyoian0TmNnteDDafzcZLhZMZ pcDJoTIYPnCNikL94tENwriy5JyDU17fu/8Za/4kMh2ixn44+sfqYI2RMdFRa X-Gm-Gg: ASbGnctVm8ukyZH2gkCSjLPTw4r+ZRZjaLpY4UFCA7yiz/JjEhUV25x9dmW2UzU+T/J 8gvZ38GEXno6k2gClfsDnKFQbdv3CMm4kwAVUC9wmNkoU36z5OTVEUrjXEHgXlGUkNyisBaVCMs 9VS3JIibAJoTDggSKEj69u0inCtmrAnPNHCDHcV8Yjj64iPejHtXmKONgg1pRQmpJSHBGpqftFr El30KGT5E+9TjteUB/PfBr9/cf9x/mly48c9IsxhsYXZBOoQgrc7E36xq2egxx7H3/Cyl3EZODU SPyowyZCYs0609VcnrivV5qh432Jp+6KqILsgj4LyHsmXXcn1HdLcfA= X-Google-Smtp-Source: AGHT+IGtbPGwtTqptV84twoSm+n+eDSNOfysas4VQKNhFuJRsLjgZLvby8qOzfwFDhrOn8ggMzXwAXXe9j0t X-Received: by 2002:a17:90b:1e0c:b0:32e:a4d:41cb with SMTP id 98e67ed59e1d1-339c276d8bbmr5186109a91.1.1759541961873; Fri, 03 Oct 2025 18:39:21 -0700 (PDT) Received: from postal.iol.unh.edu (postal.iol.unh.edu. [2606:4100:3880:1234::84]) by smtp-relay.gmail.com with ESMTPS id 98e67ed59e1d1-339a6e9db75sm782906a91.2.2025.10.03.18.39.21 (version=TLS1_2 cipher=ECDHE-ECDSA-AES128-GCM-SHA256 bits=128/128); Fri, 03 Oct 2025 18:39:21 -0700 (PDT) X-Relaying-Domain: iol.unh.edu Date: Fri, 03 Oct 2025 18:39:21 -0700 (PDT) Message-ID: <68e07ac9.170a0220.76fd3.f7d6SMTPIN_ADDED_MISSING@mx.google.com> Received: from [172.21.0.3] (unknown [172.18.0.240]) by postal.iol.unh.edu (Postfix) with ESMTP id EF3576051830; Fri, 3 Oct 2025 21:39:20 -0400 (EDT) Subject: |SUCCESS| pw157168-157169 [PATCH] [v5,2/2] net/idpf: enable AVX2 for From: dpdklab@iol.unh.edu To: Test Report Cc: dpdk-test-reports@iol.unh.edu, Bruce Richardson In-Reply-To: <20251001075609.2608021-3-shaiq.wani@intel.com> References: <20251001075609.2608021-3-shaiq.wani@intel.com> Content-Type: text/plain X-BeenThere: test-report@dpdk.org X-Mailman-Version: 2.1.29 Precedence: list List-Id: automatic DPDK test reports List-Unsubscribe: , List-Archive: List-Post: List-Help: List-Subscribe: , Errors-To: test-report-bounces@dpdk.org Test-Label: iol-compile-amd64-testing Test-Status: SUCCESS http://dpdk.org/patch/157169 _Testing PASS_ Submitter: Shaiq Wani Date: Wednesday, October 01 2025 07:56:09 DPDK git baseline: Repo:dpdk-next-net-intel Branch: master CommitID:9845e5848bbe337306fb6ae2a6b1ce5e6ab5b714 157168-157169 --> testing pass Upstream job id: Generic-DPDK-Compile-Meson#430730 Test environment and result as below: +-------------------------------+--------------------+-------------------+-------------------------+----------------------+-------------------+------------------+ | Environment | dpdk_meson_compile | dpdk_msvc_compile | dpdk_llvm_clang_compile | dpdk_mingw64_compile | dpdk_compile_spdk | dpdk_compile_ovs | +===============================+====================+===================+=========================+======================+===================+==================+ | Ubuntu 20.04 | PASS | SKIPPED | SKIPPED | SKIPPED | SKIPPED | SKIPPED | +-------------------------------+--------------------+-------------------+-------------------------+----------------------+-------------------+------------------+ | FreeBSD 14.2 | PASS | SKIPPED | SKIPPED | SKIPPED | SKIPPED | SKIPPED | +-------------------------------+--------------------+-------------------+-------------------------+----------------------+-------------------+------------------+ | CentOS Stream 9 | PASS | SKIPPED | SKIPPED | SKIPPED | PASS | SKIPPED | +-------------------------------+--------------------+-------------------+-------------------------+----------------------+-------------------+------------------+ | CentOS Stream 10 | PASS | SKIPPED | SKIPPED | SKIPPED | SKIPPED | SKIPPED | +-------------------------------+--------------------+-------------------+-------------------------+----------------------+-------------------+------------------+ | Debian GNU/Linux 12 | PASS | SKIPPED | SKIPPED | SKIPPED | PASS | SKIPPED | +-------------------------------+--------------------+-------------------+-------------------------+----------------------+-------------------+------------------+ | Fedora Linux 42 | PASS | SKIPPED | SKIPPED | SKIPPED | PASS | PASS | +-------------------------------+--------------------+-------------------+-------------------------+----------------------+-------------------+------------------+ | openSUSE Leap 15.6 | PASS | SKIPPED | SKIPPED | SKIPPED | SKIPPED | SKIPPED | +-------------------------------+--------------------+-------------------+-------------------------+----------------------+-------------------+------------------+ | Red Hat Enterprise Linux 8.10 | PASS | SKIPPED | SKIPPED | SKIPPED | SKIPPED | SKIPPED | +-------------------------------+--------------------+-------------------+-------------------------+----------------------+-------------------+------------------+ | Red Hat Enterprise Linux 9.5 | PASS | SKIPPED | SKIPPED | SKIPPED | SKIPPED | SKIPPED | +-------------------------------+--------------------+-------------------+-------------------------+----------------------+-------------------+------------------+ | Ubuntu 22.04 | PASS | SKIPPED | SKIPPED | SKIPPED | PASS | SKIPPED | +-------------------------------+--------------------+-------------------+-------------------------+----------------------+-------------------+------------------+ | Ubuntu 24.04 | PASS | SKIPPED | SKIPPED | SKIPPED | PASS | PASS | +-------------------------------+--------------------+-------------------+-------------------------+----------------------+-------------------+------------------+ | Alpine Linux 3.22.0 | PASS | SKIPPED | SKIPPED | SKIPPED | SKIPPED | SKIPPED | +-------------------------------+--------------------+-------------------+-------------------------+----------------------+-------------------+------------------+ | Windows Server 2022 | SKIPPED | PASS | PASS | PASS | SKIPPED | SKIPPED | +-------------------------------+--------------------+-------------------+-------------------------+----------------------+-------------------+------------------+ Ubuntu 20.04 Kernel: 4.19 Compiler: gcc gcc (Ubuntu 9.4.0-1ubuntu1~20.04.2) 9.4.0 FreeBSD 14.2 Kernel: 14.2-RELEASE Compiler: clang 18.1.6 CentOS Stream 9 Kernel: 5.15 Compiler: gcc gcc (GCC) 11.5.0 20240719 (Red Hat 11.5.0-11) CentOS Stream 10 Kernel: 5.15 Compiler: gcc gcc (GCC) 14.2.1 20250110 (Red Hat 14.2.1-8) Debian GNU/Linux 12 Kernel: 5.15 Compiler: gcc gcc (Debian 12.2.0-14+deb12u1) 12.2.0 Fedora Linux 42 Kernel: 5.15 Compiler: clang gcc (GCC) 15.2.1 20250808 (Red Hat 15.2.1-1) openSUSE Leap 15.6 Kernel: 5.15 Compiler: gcc gcc (SUSE Linux) 7.5.0 Red Hat Enterprise Linux 8.10 Kernel: 5.15 Compiler: gcc gcc (GCC) 8.5.0 20210514 (Red Hat 8.5.0-22) Red Hat Enterprise Linux 9.5 Kernel: 5.15 Compiler: gcc gcc (GCC) 11.5.0 20240719 (Red Hat 11.5.0-2) Ubuntu 22.04 Kernel: 5.15 Compiler: gcc gcc (Ubuntu 11.4.0-1ubuntu1~22.04) 11.4.0 Ubuntu 24.04 Kernel: 5.15 Compiler: gcc gcc (Ubuntu 13.3.0-6ubuntu2~24.04) 13.3.0 Alpine Linux 3.22.0 Kernel: 5.15 Compiler: gcc gcc (Alpine 14.2.0) 14.2.0 Windows Server 2022 Kernel: 10.0.20348.2031 Compiler: clang 15.0.7, gcc 14.1.0 (MinGW), and MSVC VS 19.39.33521 To view detailed results, visit: https://lab.dpdk.org/results/dashboard/patchsets/34190/ UNH-IOL DPDK Community Lab To manage your email subscriptions, visit: https://lab.dpdk.org/results/dashboard/preferences/subscriptions/