From mboxrd@z Thu Jan 1 00:00:00 1970 Return-Path: Received: from mails.dpdk.org (mails.dpdk.org [217.70.189.124]) by inbox.dpdk.org (Postfix) with ESMTP id D2C46488A5 for ; Sat, 4 Oct 2025 05:26:38 +0200 (CEST) Received: from mails.dpdk.org (localhost [127.0.0.1]) by mails.dpdk.org (Postfix) with ESMTP id C0C4F4014F; Sat, 4 Oct 2025 05:26:38 +0200 (CEST) Received: from mail-yw1-f228.google.com (mail-yw1-f228.google.com [209.85.128.228]) by mails.dpdk.org (Postfix) with ESMTP id AF0B94014F for ; Sat, 4 Oct 2025 05:26:37 +0200 (CEST) Received: by mail-yw1-f228.google.com with SMTP id 00721157ae682-71d60110772so30697077b3.0 for ; Fri, 03 Oct 2025 20:26:37 -0700 (PDT) DKIM-Signature: v=1; a=rsa-sha256; c=relaxed/relaxed; d=iol.unh.edu; s=unh-iol; t=1759548397; x=1760153197; darn=dpdk.org; h=references:in-reply-to:cc:to:from:subject:message-id:date:from:to :cc:subject:date:message-id:reply-to; bh=ECUKO/K+h+FdR+QbbvDJlW+k/v6AajsbcnifrNIIUNk=; b=G1al7lbdu7xDMWePgU8R5nrIdSh8lPaJ5spe+xB/5LxhwB7xCagRKx8QDTh79dzwdZ 1OIXuvPDBBWOkIpn9FyW78tYwcBQVh3Vrkiix/sUpt9LUqmZMX9FCc6Js3PlSFeu9yKS DG1i0M4URldJGBoh6gDvovr7Ok0WYaOkErKMQ= X-Google-DKIM-Signature: v=1; a=rsa-sha256; c=relaxed/relaxed; d=1e100.net; s=20230601; t=1759548397; x=1760153197; h=references:in-reply-to:cc:to:from:subject:message-id:date :x-gm-message-state:from:to:cc:subject:date:message-id:reply-to; bh=ECUKO/K+h+FdR+QbbvDJlW+k/v6AajsbcnifrNIIUNk=; b=fwIQ38/9atiE7eVHr8oJB4iYmQ4nVZVa43nNUx0TiLL9y5oeco3h9rw62H9xfyc4Nb AdFrOXuDPjDJCVG3VwmUD8vDvefufk3RETaJ3Y+CIHN3HuYv2ktq8bQuA1hS0eulzECq B3JJRNBU45a70CStdGXHIiEWXwdOoYTmqU3oTzbs1XckNl8jzAK3xkY4LzinLmdEat2K l1y/exENmXShZ7KnR83TtWFYYpjENQdPt42JYlHq9RgR2gj6IWOqi1r9UeoORKxUbTEj cw1Td40ArclIxA8PK9V6Kn5Sh8Vq0l17DRHoH1LoZOTq1aK5b5tMzcKzhxx5HWiQGASK oFWA== X-Gm-Message-State: AOJu0YwhUR+Wa3dLnjeoB+zzOWSlrfMjEgsd/ZgqEDYvo7imfODxYYYY 5gwuZRxguNqEHrgHeoZKemhCByvfmv3uA2hKLF1/GIpUNLUDzwDnJrsgklqUhHsHJF1mkrst/rq 7Pi1KI/IZvQptgdDus2efYCi8jdS8OdEGwTA3emeU+ufJ X-Gm-Gg: ASbGnctztia+kb+QI7S/Nu9Mv+skPf2nUVr55pGjt3Qf8kcGP+LIBRu2Q4cooLB0KyP hmj9M6GfG1lEIWdaFNFTJ07Fxvx0jIy8ODcy+IeMcWmUs/+pscSjDfs5Nc15kWunCmEXqjMBuyh s5NXi24UZZlNSgV9R9we7eIHS6Jfq3pkGenUrmC7FNM4KceDgE/9eKo2JoS79UlNYwI9iTP1B6K OvLyG4AvKBBAq7fkcQpw9xsfNe6urBDe8Z89YQr/TWrr1GC8nmV0smKJO+cyIFpTMu88bkfA3k7 BtZvOx+CHoQDSAuEcnDQqY0hgncKG/Ujgl2Il3DITIGCOP2gJCW8ZekMWaYRGf/cQfSIlrZ6/54 BZg== X-Google-Smtp-Source: AGHT+IHQmqjsn9ImzcsIw+5Gr23axqJR5nV1m3Er/HxI/8Ed7J15lTCDhn9DKCsCNDlEkH+5/rnibaxDN+mt X-Received: by 2002:a05:690c:34c1:b0:724:bb55:27c6 with SMTP id 00721157ae682-77f9475a889mr81373597b3.53.1759548397066; Fri, 03 Oct 2025 20:26:37 -0700 (PDT) Received: from postal.iol.unh.edu (postal.iol.unh.edu. [132.177.123.84]) by smtp-relay.gmail.com with ESMTPS id 00721157ae682-77f81d026c9sm3637717b3.21.2025.10.03.20.26.37 (version=TLS1_2 cipher=ECDHE-ECDSA-AES128-GCM-SHA256 bits=128/128); Fri, 03 Oct 2025 20:26:37 -0700 (PDT) X-Relaying-Domain: iol.unh.edu Date: Fri, 03 Oct 2025 20:26:37 -0700 (PDT) Message-ID: <68e093ed.050a0220.2d1281.6cf0SMTPIN_ADDED_MISSING@mx.google.com> Received: from [172.21.0.2] (unknown [172.18.0.240]) by postal.iol.unh.edu (Postfix) with ESMTP id 5ACF460003E8; Fri, 3 Oct 2025 23:26:36 -0400 (EDT) Subject: |SUCCESS| pw157170 [PATCH] ci: configure Coderabbit From: dpdklab@iol.unh.edu To: Test Report Cc: dpdk-test-reports@iol.unh.edu In-Reply-To: <20251001081825.2638077-1-david.marchand@redhat.com> References: <20251001081825.2638077-1-david.marchand@redhat.com> Content-Type: text/plain X-BeenThere: test-report@dpdk.org X-Mailman-Version: 2.1.29 Precedence: list List-Id: automatic DPDK test reports List-Unsubscribe: , List-Archive: List-Post: List-Help: List-Subscribe: , Errors-To: test-report-bounces@dpdk.org Test-Label: iol-compile-amd64-testing Test-Status: SUCCESS http://dpdk.org/patch/157170 _Testing PASS_ Submitter: David Marchand Date: Wednesday, October 01 2025 08:18:25 DPDK git baseline: Repo:dpdk Branch: master CommitID:f3878b615e69a12087a6c5d212723478cfc79c31 157170 --> testing pass Upstream job id: Generic-DPDK-Compile-Meson#430733 Test environment and result as below: +---------------------+--------------------+-------------------+-------------------------+----------------------+-------------------+ | Environment | dpdk_meson_compile | dpdk_msvc_compile | dpdk_llvm_clang_compile | dpdk_mingw64_compile | dpdk_compile_spdk | +=====================+====================+===================+=========================+======================+===================+ | Ubuntu 20.04 | PASS | SKIPPED | SKIPPED | SKIPPED | SKIPPED | +---------------------+--------------------+-------------------+-------------------------+----------------------+-------------------+ | FreeBSD 14.2 | PASS | SKIPPED | SKIPPED | SKIPPED | SKIPPED | +---------------------+--------------------+-------------------+-------------------------+----------------------+-------------------+ | CentOS Stream 9 | PASS | SKIPPED | SKIPPED | SKIPPED | PASS | +---------------------+--------------------+-------------------+-------------------------+----------------------+-------------------+ | Windows Server 2022 | SKIPPED | PASS | PASS | PASS | SKIPPED | +---------------------+--------------------+-------------------+-------------------------+----------------------+-------------------+ Ubuntu 20.04 Kernel: 4.19 Compiler: gcc gcc (Ubuntu 9.4.0-1ubuntu1~20.04.2) 9.4.0 FreeBSD 14.2 Kernel: 14.2-RELEASE Compiler: clang 18.1.6 CentOS Stream 9 Kernel: 5.15 Compiler: gcc gcc (GCC) 11.5.0 20240719 (Red Hat 11.5.0-11) Windows Server 2022 Kernel: 10.0.20348.2031 Compiler: clang 15.0.7, gcc 14.1.0 (MinGW), and MSVC VS 19.39.33521 To view detailed results, visit: https://lab.dpdk.org/results/dashboard/patchsets/34191/ UNH-IOL DPDK Community Lab To manage your email subscriptions, visit: https://lab.dpdk.org/results/dashboard/preferences/subscriptions/