From mboxrd@z Thu Jan 1 00:00:00 1970 Return-Path: Received: from mails.dpdk.org (mails.dpdk.org [217.70.189.124]) by inbox.dpdk.org (Postfix) with ESMTP id 63457488A5 for ; Sat, 4 Oct 2025 05:30:53 +0200 (CEST) Received: from mails.dpdk.org (localhost [127.0.0.1]) by mails.dpdk.org (Postfix) with ESMTP id 3EA704014F; Sat, 4 Oct 2025 05:30:53 +0200 (CEST) Received: from mail-qv1-f97.google.com (mail-qv1-f97.google.com [209.85.219.97]) by mails.dpdk.org (Postfix) with ESMTP id 5C3454014F for ; Sat, 4 Oct 2025 05:30:52 +0200 (CEST) Received: by mail-qv1-f97.google.com with SMTP id 6a1803df08f44-78ea15d3489so25697166d6.3 for ; Fri, 03 Oct 2025 20:30:52 -0700 (PDT) DKIM-Signature: v=1; a=rsa-sha256; c=relaxed/relaxed; d=iol.unh.edu; s=unh-iol; t=1759548652; x=1760153452; darn=dpdk.org; h=references:in-reply-to:cc:to:from:subject:message-id:date:from:to :cc:subject:date:message-id:reply-to; bh=e8D1QbBqs6zO9nxuzaCHgzeiznTdA4hOPYAeAYz7J3I=; b=Y6rm8oKx+gmFyb1pEaXJnKeez7tU5K7MosfU9btPZ9VYdnQScKkfyBzDrKHNR/aFbH SgRMUfHBfi21QzACC8EMusVqsbSMtmEK5AbRIx8uhKpA+0IJP6WK2Wb1E0SzTZRJA/Qv c8CMHPN05w5v+3cdV+dm6Lssuox3Ef2GLHq0A= X-Google-DKIM-Signature: v=1; a=rsa-sha256; c=relaxed/relaxed; d=1e100.net; s=20230601; t=1759548652; x=1760153452; h=references:in-reply-to:cc:to:from:subject:message-id:date :x-gm-message-state:from:to:cc:subject:date:message-id:reply-to; bh=e8D1QbBqs6zO9nxuzaCHgzeiznTdA4hOPYAeAYz7J3I=; b=o9yT2tIgk3Cv7O1Bf4wecHvspsPYXg091GiIO17ICyirx+1pImpt8Z+m68kRiETxhA CZq17cL1KlwtJIUyljE4i3+r50JzkWDsKZo217FFK/vIi27rC2kfe47dCjwPfMruqKLD Ea2K2oc6WUDzS0ikOdnfczf3ox6yWB9Q15z7vwrn+9XZiymX6XMsI2MgqctyHXZynY5d QE8r/cIPpJDSFWDuXFG0phJ9hKh9sGZT93j6cgaYV9avDawLNhnNmzG0V4sDGWQm3ndu MizmEE/5ZjHLSaI6IAHNzGvoivQYSPqfd5AZQ/u8T2hptqYRVaC7Fu8wr7HzDV5uELMG f/Rg== X-Gm-Message-State: AOJu0Yzr7r7fOLQ86sK5wakd2AjHIEv4J13bth513JufixPMS94Ni9Kb LEysnFPg6OMeOXRlBzFxpTxsXM8r21RYrp2NZtwEjBfXT24btlpqCCptRlz4lCKJEcdJpCFhSxT gmq6QGq9th5CWitjSq3hH1xlXnMcef1QMSssgT8XZM5HNCpCKwTmFfJqrArAv X-Gm-Gg: ASbGncsOG16X1YOiYVD5Zo+6/s3bu/zup2KTFC1vNUNI46bCT9pVIeFzFu/WmhPqi4e v5jOIW2UVneHFFL3VISpARFMpX56cK22aySAuIvlSe2ZVb898hwIYMk8g3m3URRHoVPHXfK7ns7 quNWfqN6unZpURvCUJqcH4l2EUpUpbzn7XH6U90Z7l/0PNE4TWQgGyKM+j7d6+INoKimih3NjUV aopXT9EhbFpml1T3yTLR7cywsOHNjFXgI7X9IWkmAyFXB1DRan+dTQvlsb+GJyuW/X9RTA2DmWj xmMGYCzKfr1S46PcS4iEXUXImVmY0Z4PTCzqAR2Ox0bhfnLVHgK6AjM= X-Google-Smtp-Source: AGHT+IF9yuKcI9OnD8FweYxVvngWrVzduHyoPyGpgIR9o8ekNNnjtTRZLdxwHDpBxKB+YwWDxEq8QqCGtG7d X-Received: by 2002:a05:6214:238a:b0:814:eb8b:8d06 with SMTP id 6a1803df08f44-879dc841d38mr65838566d6.41.1759548651709; Fri, 03 Oct 2025 20:30:51 -0700 (PDT) Received: from postal.iol.unh.edu (postal.iol.unh.edu. [2606:4100:3880:1234::84]) by smtp-relay.gmail.com with ESMTPS id 6a1803df08f44-878bac6bef2sm4807906d6.1.2025.10.03.20.30.51 (version=TLS1_2 cipher=ECDHE-ECDSA-AES128-GCM-SHA256 bits=128/128); Fri, 03 Oct 2025 20:30:51 -0700 (PDT) X-Relaying-Domain: iol.unh.edu Date: Fri, 03 Oct 2025 20:30:51 -0700 (PDT) Message-ID: <68e094eb.d40a0220.ba2c4.d0ecSMTPIN_ADDED_MISSING@mx.google.com> Received: from [172.21.0.2] (unknown [172.18.0.240]) by postal.iol.unh.edu (Postfix) with ESMTP id 43BDC6051830; Fri, 3 Oct 2025 23:30:51 -0400 (EDT) Subject: |SUCCESS| pw157170 [PATCH] ci: configure Coderabbit From: dpdklab@iol.unh.edu To: Test Report Cc: dpdk-test-reports@iol.unh.edu In-Reply-To: <20251001081825.2638077-1-david.marchand@redhat.com> References: <20251001081825.2638077-1-david.marchand@redhat.com> Content-Type: text/plain X-BeenThere: test-report@dpdk.org X-Mailman-Version: 2.1.29 Precedence: list List-Id: automatic DPDK test reports List-Unsubscribe: , List-Archive: List-Post: List-Help: List-Subscribe: , Errors-To: test-report-bounces@dpdk.org Test-Label: iol-compile-amd64-testing Test-Status: SUCCESS http://dpdk.org/patch/157170 _Testing PASS_ Submitter: David Marchand Date: Wednesday, October 01 2025 08:18:25 DPDK git baseline: Repo:dpdk Branch: master CommitID:f3878b615e69a12087a6c5d212723478cfc79c31 157170 --> testing pass Upstream job id: Generic-DPDK-Compile-Meson#430735 Test environment and result as below: +---------------------+--------------------+-------------------+-------------------------+----------------------+-------------------+ | Environment | dpdk_meson_compile | dpdk_msvc_compile | dpdk_llvm_clang_compile | dpdk_mingw64_compile | dpdk_compile_spdk | +=====================+====================+===================+=========================+======================+===================+ | Ubuntu 20.04 | PASS | SKIPPED | SKIPPED | SKIPPED | SKIPPED | +---------------------+--------------------+-------------------+-------------------------+----------------------+-------------------+ | FreeBSD 14.2 | PASS | SKIPPED | SKIPPED | SKIPPED | SKIPPED | +---------------------+--------------------+-------------------+-------------------------+----------------------+-------------------+ | CentOS Stream 9 | PASS | SKIPPED | SKIPPED | SKIPPED | PASS | +---------------------+--------------------+-------------------+-------------------------+----------------------+-------------------+ | CentOS Stream 10 | PASS | SKIPPED | SKIPPED | SKIPPED | SKIPPED | +---------------------+--------------------+-------------------+-------------------------+----------------------+-------------------+ | Windows Server 2022 | SKIPPED | PASS | PASS | PASS | SKIPPED | +---------------------+--------------------+-------------------+-------------------------+----------------------+-------------------+ Ubuntu 20.04 Kernel: 4.19 Compiler: gcc gcc (Ubuntu 9.4.0-1ubuntu1~20.04.2) 9.4.0 FreeBSD 14.2 Kernel: 14.2-RELEASE Compiler: clang 18.1.6 CentOS Stream 9 Kernel: 5.15 Compiler: gcc gcc (GCC) 11.5.0 20240719 (Red Hat 11.5.0-11) CentOS Stream 10 Kernel: 5.15 Compiler: gcc gcc (GCC) 14.2.1 20250110 (Red Hat 14.2.1-8) Windows Server 2022 Kernel: 10.0.20348.2031 Compiler: clang 15.0.7, gcc 14.1.0 (MinGW), and MSVC VS 19.39.33521 To view detailed results, visit: https://lab.dpdk.org/results/dashboard/patchsets/34191/ UNH-IOL DPDK Community Lab To manage your email subscriptions, visit: https://lab.dpdk.org/results/dashboard/preferences/subscriptions/