From mboxrd@z Thu Jan 1 00:00:00 1970 Return-Path: Received: from mails.dpdk.org (mails.dpdk.org [217.70.189.124]) by inbox.dpdk.org (Postfix) with ESMTP id B22F3488A5 for ; Sat, 4 Oct 2025 05:45:40 +0200 (CEST) Received: from mails.dpdk.org (localhost [127.0.0.1]) by mails.dpdk.org (Postfix) with ESMTP id 911754014F; Sat, 4 Oct 2025 05:45:40 +0200 (CEST) Received: from mail-vk1-f226.google.com (mail-vk1-f226.google.com [209.85.221.226]) by mails.dpdk.org (Postfix) with ESMTP id D22E44014F for ; Sat, 4 Oct 2025 05:45:38 +0200 (CEST) Received: by mail-vk1-f226.google.com with SMTP id 71dfb90a1353d-54aa6a0babeso3051547e0c.0 for ; Fri, 03 Oct 2025 20:45:38 -0700 (PDT) DKIM-Signature: v=1; a=rsa-sha256; c=relaxed/relaxed; d=iol.unh.edu; s=unh-iol; t=1759549538; x=1760154338; darn=dpdk.org; h=cc:to:from:subject:message-id:date:from:to:cc:subject:date :message-id:reply-to; bh=R/ifJpv4P2VjxM5TjvYp0T4+NlbMbzq2LvyvMX2TgNc=; b=F4BdZPzazuuZ0HEZOdQzMojFg1KHGWjlpKpsr9VSxIo2xjUPWaYtaWTYvAHeY4j2kP 1pWmygdish8t2IzhZb+6l1O3OqQiu5JQQKmNGRoE35ze58+0V4mFjXxQn8Izmra60M05 MCapb+9g5XZjIVc6aRXe3f1pEg3ISZo3gRzKc= X-Google-DKIM-Signature: v=1; a=rsa-sha256; c=relaxed/relaxed; d=1e100.net; s=20230601; t=1759549538; x=1760154338; h=cc:to:from:subject:message-id:date:x-gm-message-state:from:to:cc :subject:date:message-id:reply-to; bh=R/ifJpv4P2VjxM5TjvYp0T4+NlbMbzq2LvyvMX2TgNc=; b=fQN/E2gV1AqVHLrGVi3KeDNhsFHbHZJyrtsoKNg2NJSylBk68GIauHcVSP6wFRY4bm ZF4SMIa9DmWT1f71Ra18rv3SLn5cdJGO8qhMdxtWSzlgkCppUcri0Y13EB6ujHQ7QoK4 Y8GUfEafrnvw2eMGVr7nVh9IAsoU7k3L9nkT1UY4SlPfwvRY07oBU5y0Z+4i/uOnwHj8 XfjWLZfOME4xmhA9AEO27zZTqmzbnWhHuS+3Qa58vqJvkzS4E/vdFI8WBk2BIg39CSVB +XkMShDBmGU2aLhKryNW7CtO/hTqGokiS+OI/C2OHuBb6Hmuozkff8N1gPFjyWA2ktzO nsaA== X-Gm-Message-State: AOJu0YwGFy1QESQvnds5Z0SIOm+Uusa/bzL+jb13O+uNm/Pb91AAddn+ xsKMsdooYVRnEwsFHEynau8gbMAVZWGnAw5AxmCfKa8Y9M3MBVIVw4eMfqNPMUwvvY6tXOLNMqf bcI1BjDHSqwX72qc4cdZPNARMe9cFRkOSHGcVuyES/Gz7CIJP9nEf X-Gm-Gg: ASbGncsBPCg/bNLI/HGC/sFZnPU9crnT9MkrrLiVEDGMFV7ZxPAG/NDEapP+1qPB+zY /1wfShZevSQvTaZgt93BFvaFU65l1jJz7ieS6YrTZV0kQisHGi+1ghVF1YbHjvy6nArZt+YZTHF dkGDwSgAFDW07z5T31hiVZ7tlns/fMeKlb6HqU7hfZN98y61OuNSe2A1vQvXtFuobQo4oOHfoTN vtRPY0lDI+COi6THOzGiB9W2ZVbN8gYaBqehTj0yRDSSlVkF/Z2mBvH2Hu/QYbSCsIVvFj3oIMg 4874TNzdfQw0qPmRHKoWJ5lyp9AkPq2yQXPbVIY462S4r8jWDffRfkI= X-Google-Smtp-Source: AGHT+IHKtBV6FcBDuWDQjljVwQwVItPLn8yi9NRrBllB8hAYpCDv+XiYjhMskx+dVFX7NPy/0UD0pQz9wUUi X-Received: by 2002:a05:6122:250a:b0:54a:8690:7193 with SMTP id 71dfb90a1353d-5524d8af72dmr2376712e0c.4.1759549538211; Fri, 03 Oct 2025 20:45:38 -0700 (PDT) Received: from postal.iol.unh.edu (postal.iol.unh.edu. [2606:4100:3880:1234::84]) by smtp-relay.gmail.com with ESMTPS id a1e0cc1a2514c-92eb4e70d16sm57302241.6.2025.10.03.20.45.38 (version=TLS1_2 cipher=ECDHE-ECDSA-AES128-GCM-SHA256 bits=128/128); Fri, 03 Oct 2025 20:45:38 -0700 (PDT) X-Relaying-Domain: iol.unh.edu Date: Fri, 03 Oct 2025 20:45:38 -0700 (PDT) Message-ID: <68e09862.050a0220.1e59a0.33f1SMTPIN_ADDED_MISSING@mx.google.com> Received: from [172.21.0.3] (unknown [172.18.0.240]) by postal.iol.unh.edu (Postfix) with ESMTP id BDF7D6051830; Fri, 3 Oct 2025 23:45:37 -0400 (EDT) Subject: |SUCCESS| [GIT MASTER] 3b43ce3f4a54468e7ef65760c2fd7b4d6ee6d9fc From: dpdklab@iol.unh.edu To: Test Report Cc: dpdk-test-reports@iol.unh.edu, Xueming Li , Christian Ehrhardt , Kevin Traynor , Luca Boccassi Content-Type: text/plain X-BeenThere: test-report@dpdk.org X-Mailman-Version: 2.1.29 Precedence: list List-Id: automatic DPDK test reports List-Unsubscribe: , List-Archive: List-Post: List-Help: List-Subscribe: , Errors-To: test-report-bounces@dpdk.org _Testing PASS_ Branch: tags/v22.11 3b43ce3f4a54468e7ef65760c2fd7b4d6ee6d9fc --> testing pass Upstream job id: Generic-DPDK-Compile-Meson#430612 Test environment and result as below: +------------------------------+--------------------+ | Environment | dpdk_meson_compile | +==============================+====================+ | Ubuntu 20.04 | PASS | +------------------------------+--------------------+ | Red Hat Enterprise Linux 9.5 | PASS | +------------------------------+--------------------+ | Fedora Linux 42 | PASS | +------------------------------+--------------------+ | Debian GNU/Linux 12 | PASS | +------------------------------+--------------------+ | Ubuntu 22.04 | PASS | +------------------------------+--------------------+ | CentOS Stream 10 | PASS | +------------------------------+--------------------+ | Ubuntu 24.04 | PASS | +------------------------------+--------------------+ | CentOS Stream 9 | PASS | +------------------------------+--------------------+ Ubuntu 20.04 Kernel: 5.15 Compiler: aarch64-linux-gnu-gcc gcc (Ubuntu 9.4.0-1ubuntu1~20.04.2) 9.4.0 Red Hat Enterprise Linux 9.5 Kernel: 5.4 Compiler: gcc gcc (GCC) 11.5.0 20240719 (Red Hat 11.5.0-2) Fedora Linux 42 Kernel: 5.4 Compiler: gcc gcc (GCC) 15.2.1 20250808 (Red Hat 15.2.1-1) Debian GNU/Linux 12 Kernel: 5.4 Compiler: gcc gcc (Debian 12.2.0-14+deb12u1) 12.2.0 Ubuntu 22.04 Kernel: 5.4 Compiler: gcc gcc (Ubuntu 11.4.0-1ubuntu1~22.04) 11.4.0 CentOS Stream 10 Kernel: 5.4 Compiler: gcc gcc (GCC) 14.2.1 20250110 (Red Hat 14.2.1-8) Ubuntu 24.04 Kernel: 5.4 Compiler: gcc gcc (Ubuntu 13.3.0-6ubuntu2~24.04) 13.3.0 CentOS Stream 9 Kernel: 5.4 Compiler: gcc gcc (GCC) 11.5.0 20240719 (Red Hat 11.5.0-11) To view detailed results, visit: https://lab.dpdk.org/results/dashboard/tarballs/35067/ UNH-IOL DPDK Community Lab To manage your email subscriptions, visit: https://lab.dpdk.org/results/dashboard/preferences/subscriptions/