From mboxrd@z Thu Jan 1 00:00:00 1970 Return-Path: Received: from mails.dpdk.org (mails.dpdk.org [217.70.189.124]) by inbox.dpdk.org (Postfix) with ESMTP id B4FD8488A6 for ; Sat, 4 Oct 2025 06:29:33 +0200 (CEST) Received: from mails.dpdk.org (localhost [127.0.0.1]) by mails.dpdk.org (Postfix) with ESMTP id 900414014F; Sat, 4 Oct 2025 06:29:33 +0200 (CEST) Received: from mail-pj1-f100.google.com (mail-pj1-f100.google.com [209.85.216.100]) by mails.dpdk.org (Postfix) with ESMTP id DBE354014F for ; Sat, 4 Oct 2025 06:29:31 +0200 (CEST) Received: by mail-pj1-f100.google.com with SMTP id 98e67ed59e1d1-3304a57d842so2663977a91.3 for ; Fri, 03 Oct 2025 21:29:31 -0700 (PDT) DKIM-Signature: v=1; a=rsa-sha256; c=relaxed/relaxed; d=iol.unh.edu; s=unh-iol; t=1759552171; x=1760156971; darn=dpdk.org; h=references:in-reply-to:cc:to:from:subject:message-id:date:from:to :cc:subject:date:message-id:reply-to; bh=UIJ7d26VgyDQcvFG3UX8ld8gulrsk0bEJWUMnljT8BM=; b=CBtqp8GQG4jMEua69FRIBQtdfwXdPW2QGDrXPtUs3eZiJTETKe6ZCUD/M1YvahoHFb BJlwUknn5wrTJZfygr1KxMahI54LOf0l0OxRI9VMkJTspWt4Tl8FP3TAaN/d5qXkiDh5 IUu99jMTWYJjaE5p017orqB9svwqoQnE5iKew= X-Google-DKIM-Signature: v=1; a=rsa-sha256; c=relaxed/relaxed; d=1e100.net; s=20230601; t=1759552171; x=1760156971; h=references:in-reply-to:cc:to:from:subject:message-id:date :x-gm-message-state:from:to:cc:subject:date:message-id:reply-to; bh=UIJ7d26VgyDQcvFG3UX8ld8gulrsk0bEJWUMnljT8BM=; b=hZk71FqsLDEEExHEpp1D+o0gxDGoUbFWJ+zTj9Pk5EaugM3j1QvmOAaTtenabERxZH ni/umH6Ll6SCOMvuK+KDY9pNGZ9hUOzbvYo6yPjnoZI4CLAJYPAugLQdE6Y+nOsT1qrz HjQT4J81tO+CIiJr9bWo5Chnzum4adXEagPU4ZJkYdC5nqBOzMc6cq9Jpc8Sy7pt0Cry ARZdznW/lG0CkgnHB8Q9rXrL/4SBuJDixtnP7xtMf0r/bCrAVIe4W/ruNW+boT4/oCaX ci5TDN1NXZm/2GHvjrMLE7a0LgwGii+cBwxAwza10KoBu1LtpiciSG6AxfW8lD6+qGQ3 O6gQ== X-Gm-Message-State: AOJu0Yy6imhwk7w2QP/byxr3lzuBbV6x6rSM3IK3/LFU2YLyZPK1YSJS +6qG/a57LTcXHiyF9adxZlJLHaoFQ9ULvOclJF/o0w750WrpJWibRxCfdx293iKzFgaUP48DRuB N1wyePnbkPS/oB3hwnioMM5a1GEO08cSnzA0q/CeF4mjU X-Gm-Gg: ASbGncswT4X1RGG6FyPT8RkYhTFJhg2bWiA9AS5e7UkSm1i5EMXwo7gijSaJzZ+a4jy D67vIzQJA1LzDqcvIiCcudtCX6/aSvXAYS3q8ZPe/Mhv3LBCEvA/YfJQLqBEQhR51ncQFXbjPDG vanyTRnx2cSpGIM1+Sh0k1BABxVFQOFCn5DpxYqlYzgIQefpADQwbD0tu+rkD5vg4TsnOtsheiI oGhISoaraTAod/9grzdyz2WnkAzU6FbXyQy6di4CHdRvI0HArHzB2u/vcsqb3Jy6hL8Xv28/PgK +AsTTDtaGW+ysv6p00CQer9FntpRHPC09SYT2UaGTQjg4EPEPu+cMjQfYO4M84uCSyu+2EFjHUh A2Q== X-Google-Smtp-Source: AGHT+IHcefhRKwWGtzburCChkqpdjNJCQ131uqa2WU/4wllVRVGnn+mEikj2pOqh1HkS1R/PDPhhYgq7DO5z X-Received: by 2002:a17:90b:3509:b0:32e:3830:65d5 with SMTP id 98e67ed59e1d1-339c279976fmr5697792a91.36.1759552171003; Fri, 03 Oct 2025 21:29:31 -0700 (PDT) Received: from postal.iol.unh.edu (postal.iol.unh.edu. [132.177.123.84]) by smtp-relay.gmail.com with ESMTPS id 98e67ed59e1d1-339b4e977e5sm574351a91.2.2025.10.03.21.29.30 (version=TLS1_2 cipher=ECDHE-ECDSA-AES128-GCM-SHA256 bits=128/128); Fri, 03 Oct 2025 21:29:30 -0700 (PDT) X-Relaying-Domain: iol.unh.edu Date: Fri, 03 Oct 2025 21:29:30 -0700 (PDT) Message-ID: <68e0a2aa.170a0220.12bfbc.4033SMTPIN_ADDED_MISSING@mx.google.com> Received: from [172.21.0.2] (unknown [172.18.0.240]) by postal.iol.unh.edu (Postfix) with ESMTP id 335D86051830; Sat, 4 Oct 2025 00:29:30 -0400 (EDT) Subject: |SUCCESS| pw157274-157276 [PATCH] [v4,3/3] app/test: add ML crypto t From: dpdklab@iol.unh.edu To: Test Report Cc: dpdk-test-reports@iol.unh.edu In-Reply-To: <20251004032259.2707-4-gmuthukrishn@marvell.com> References: <20251004032259.2707-4-gmuthukrishn@marvell.com> Content-Type: text/plain X-BeenThere: test-report@dpdk.org X-Mailman-Version: 2.1.29 Precedence: list List-Id: automatic DPDK test reports List-Unsubscribe: , List-Archive: List-Post: List-Help: List-Subscribe: , Errors-To: test-report-bounces@dpdk.org Test-Label: iol-unit-amd64-testing Test-Status: SUCCESS http://dpdk.org/patch/157276 _Testing PASS_ Submitter: Gowrishankar Muthukrishnan Date: Saturday, October 04 2025 03:22:55 DPDK git baseline: Repo:dpdk Branch: master CommitID:76393b98bf67f94dc6aa23cf5016c32571899261 157274-157276 --> testing pass Upstream job id: Generic-VM-Unit-Test-DPDK#31582 Test environment and result as below: +-------------------------------+----------------+ | Environment | dpdk_unit_test | +===============================+================+ | CentOS Stream 9 | PASS | +-------------------------------+----------------+ | Debian GNU/Linux 12 | PASS | +-------------------------------+----------------+ | CentOS Stream 10 | PASS | +-------------------------------+----------------+ | Fedora Linux 40 | PASS | +-------------------------------+----------------+ | Fedora Linux 41 | PASS | +-------------------------------+----------------+ | Windows Server 2022 | PASS | +-------------------------------+----------------+ | Fedora Linux 42 | PASS | +-------------------------------+----------------+ | Ubuntu 20.04 | PASS | +-------------------------------+----------------+ | Ubuntu 24.04 | PASS | +-------------------------------+----------------+ | Red Hat Enterprise Linux 8.10 | PASS | +-------------------------------+----------------+ | Red Hat Enterprise Linux 9.5 | PASS | +-------------------------------+----------------+ | Ubuntu 22.04 | PASS | +-------------------------------+----------------+ CentOS Stream 9 Kernel: 5.15 Compiler: gcc gcc (GCC) 11.5.0 20240719 (Red Hat 11.5.0-11) Debian GNU/Linux 12 Kernel: 5.15 Compiler: gcc gcc (Debian 12.2.0-14+deb12u1) 12.2.0 CentOS Stream 10 Kernel: 5.15 Compiler: gcc gcc (GCC) 14.2.1 20250110 (Red Hat 14.2.1-8) Fedora Linux 40 Kernel: 5.15 Compiler: gcc gcc (GCC) 14.2.1 20240912 (Red Hat 14.2.1-3) Fedora Linux 41 Kernel: 5.15 Compiler: gcc gcc (GCC) 14.3.1 20250523 (Red Hat 14.3.1-1) Windows Server 2022 Kernel: 10.0.20348.2031 Compiler: clang 15.0.7, gcc 14.1.0 (MinGW), and MSVC VS 19.39.33521 Fedora Linux 42 Kernel: 5.15 Compiler: gcc gcc (GCC) 15.2.1 20250808 (Red Hat 15.2.1-1) Ubuntu 20.04 Kernel: 5.15 Compiler: gcc gcc (Ubuntu 9.4.0-1ubuntu1~20.04.2) 9.4.0 Ubuntu 24.04 Kernel: 5.15 Compiler: gcc gcc (Ubuntu 13.3.0-6ubuntu2~24.04) 13.3.0 Red Hat Enterprise Linux 8.10 Kernel: 5.15 Compiler: gcc gcc (GCC) 8.5.0 20210514 (Red Hat 8.5.0-22) Red Hat Enterprise Linux 9.5 Kernel: 5.15 Compiler: gcc gcc (GCC) 11.5.0 20240719 (Red Hat 11.5.0-2) Ubuntu 22.04 Kernel: 5.15 Compiler: gcc gcc (Ubuntu 11.4.0-1ubuntu1~22.04) 11.4.0 To view detailed results, visit: https://lab.dpdk.org/results/dashboard/patchsets/34215/ UNH-IOL DPDK Community Lab To manage your email subscriptions, visit: https://lab.dpdk.org/results/dashboard/preferences/subscriptions/