From mboxrd@z Thu Jan 1 00:00:00 1970 Return-Path: Received: from mails.dpdk.org (mails.dpdk.org [217.70.189.124]) by inbox.dpdk.org (Postfix) with ESMTP id D97B8488A6 for ; Sat, 4 Oct 2025 06:30:59 +0200 (CEST) Received: from mails.dpdk.org (localhost [127.0.0.1]) by mails.dpdk.org (Postfix) with ESMTP id CB6B34014F; Sat, 4 Oct 2025 06:30:59 +0200 (CEST) Received: from mail-pj1-f100.google.com (mail-pj1-f100.google.com [209.85.216.100]) by mails.dpdk.org (Postfix) with ESMTP id B2A334014F for ; Sat, 4 Oct 2025 06:30:58 +0200 (CEST) Received: by mail-pj1-f100.google.com with SMTP id 98e67ed59e1d1-32ee4817c43so2415196a91.0 for ; Fri, 03 Oct 2025 21:30:58 -0700 (PDT) DKIM-Signature: v=1; a=rsa-sha256; c=relaxed/relaxed; d=iol.unh.edu; s=unh-iol; t=1759552258; x=1760157058; darn=dpdk.org; h=references:in-reply-to:cc:to:from:subject:message-id:date:from:to :cc:subject:date:message-id:reply-to; bh=JmwhBgmoOE9RCxDwIi/bVx7EOB+YSDB7+xr8EOysMCA=; b=IZgEuVnqnNk9ezYQ1ewXZ6EEDcRSkm7mIPbpS5bC0I4xUohUWjAwB/HR4poM/Z5jU2 lPN9Kwyf9M0UE7e9KAAwqs4FslcdkBsLZyi7QJxvgr0ylXAUYZUp3FyXGmjOqXoTQeko yfKgANkyQhpKijnXaSj+6fTZZD+NY+it3TgvY= X-Google-DKIM-Signature: v=1; a=rsa-sha256; c=relaxed/relaxed; d=1e100.net; s=20230601; t=1759552258; x=1760157058; h=references:in-reply-to:cc:to:from:subject:message-id:date :x-gm-message-state:from:to:cc:subject:date:message-id:reply-to; bh=JmwhBgmoOE9RCxDwIi/bVx7EOB+YSDB7+xr8EOysMCA=; b=SzIoucCG8VyCypVLYZhr9H19EQilAPDJKA970ayYjoHab22sSXoKtiI39zcoIVV5pR aQ5pWGsdO7zN6+dlOyEWhmTMj3zQdI/5dWhoWHPynpL2Tr83X7xGy/xplrHLF3DyXu9Z D03FtiMtDjvWeZOLNKFHqw+cqX/y9HxXGSGvs9EqMy1hlz1TqKqL1v7YJz/S9o4/kKpP xDfqu1ZAi9btpWq+nER8oZS/CDQ8XS1JyjZOhVTT+wHdbXvzSqmKjrmsW67E9JPVYqKK y9YPbN9KAsfB+K9HX5L59vYjK2oykJvEucpQS+JBFPDcY6AZwDi3PrfciyGJl5fJek8z kB5w== X-Gm-Message-State: AOJu0YwcsghheWCeNUGq8YNocFoRy1EIEBUfvzWmzMsLCiJTaaV+dBgW 6eJeDQfDMDMDKo3f1qu2QytV02S/mWx6IWQrmjGy7JUSJQjGAYEQnw6G+vYcsy+jcDUCOt3yiIZ cGZBIpeNO1wj2AmNESrRQqSUOD3+71BOTmbakrIkrqtOIYLoEMT2S4f9u4/FT X-Gm-Gg: ASbGncsIfHAe7vSSHH6kwGYz0/JTGCF6dYqSGyjaWVdkGaISXVuL6TVvB7fbhye7gw1 LsJDVV70rBf2vX2I1tG7M3kt3F2xacTaJRnYwk8OZTUgR9Uqdcpqaq/D6HhIK5IInh4mLTc36Y3 Q8j1g05pxBeLLZw5CdN6SW36US5qliRyzAD+wMzW04cUz7i59kgNfWg+R7kdWM7ss6zGYgHEoC5 sUPp/M+ZcczJ4mo/Rx+hzox757N5g1dEXI8cLT0SiJghHO1OibnHSX2L8bFdppXqi927a34wt/p s6ts/xxhMFjBxyPhp++ql3su4emj0CRSyZb8o6oSLxwfEp+mTZm6UbA= X-Google-Smtp-Source: AGHT+IH8hRw/vBIorZWAZiEdtEdeMTx4lNupY31PgJElHwH3M+9VQbFadkPMvQNbvl53xtgABD4V37JoifnL X-Received: by 2002:a17:90b:3ec9:b0:32e:7ff6:6dbd with SMTP id 98e67ed59e1d1-339c1ef1cc4mr6456890a91.0.1759552257894; Fri, 03 Oct 2025 21:30:57 -0700 (PDT) Received: from postal.iol.unh.edu (postal.iol.unh.edu. [2606:4100:3880:1234::84]) by smtp-relay.gmail.com with ESMTPS id 41be03b00d2f7-b6099b701a1sm342498a12.11.2025.10.03.21.30.57 (version=TLS1_2 cipher=ECDHE-ECDSA-AES128-GCM-SHA256 bits=128/128); Fri, 03 Oct 2025 21:30:57 -0700 (PDT) X-Relaying-Domain: iol.unh.edu Date: Fri, 03 Oct 2025 21:30:57 -0700 (PDT) Message-ID: <68e0a301.630a0220.17e35.4955SMTPIN_ADDED_MISSING@mx.google.com> Received: from [172.21.0.2] (unknown [172.18.0.240]) by postal.iol.unh.edu (Postfix) with ESMTP id 22F4D6051830; Sat, 4 Oct 2025 00:30:57 -0400 (EDT) Subject: |SUCCESS| pw157274-157276 [PATCH] [v4,3/3] app/test: add ML crypto t From: dpdklab@iol.unh.edu To: Test Report Cc: dpdk-test-reports@iol.unh.edu In-Reply-To: <20251004032259.2707-4-gmuthukrishn@marvell.com> References: <20251004032259.2707-4-gmuthukrishn@marvell.com> Content-Type: text/plain X-BeenThere: test-report@dpdk.org X-Mailman-Version: 2.1.29 Precedence: list List-Id: automatic DPDK test reports List-Unsubscribe: , List-Archive: List-Post: List-Help: List-Subscribe: , Errors-To: test-report-bounces@dpdk.org Test-Label: iol-compile-amd64-testing Test-Status: SUCCESS http://dpdk.org/patch/157276 _Testing PASS_ Submitter: Gowrishankar Muthukrishnan Date: Saturday, October 04 2025 03:22:55 DPDK git baseline: Repo:dpdk Branch: master CommitID:76393b98bf67f94dc6aa23cf5016c32571899261 157274-157276 --> testing pass Upstream job id: Windows-Compile-DPDK-Native#31414 Test environment and result as below: +---------------------+-------------------------+--------------------+-------------------+----------------------+ | Environment | dpdk_llvm_clang_compile | dpdk_meson_compile | dpdk_msvc_compile | dpdk_mingw64_compile | +=====================+=========================+====================+===================+======================+ | Windows Server 2022 | PASS | SKIPPED | PASS | PASS | +---------------------+-------------------------+--------------------+-------------------+----------------------+ | FreeBSD 14.2 | SKIPPED | PASS | SKIPPED | SKIPPED | +---------------------+-------------------------+--------------------+-------------------+----------------------+ | Ubuntu 20.04 | SKIPPED | PASS | SKIPPED | SKIPPED | +---------------------+-------------------------+--------------------+-------------------+----------------------+ Windows Server 2022 Kernel: 10.0.20348.2031 Compiler: clang 15.0.7, gcc 14.1.0 (MinGW), and MSVC VS 19.39.33521 FreeBSD 14.2 Kernel: 14.2-RELEASE Compiler: clang 18.1.6 Ubuntu 20.04 Kernel: 4.19 Compiler: gcc gcc (Ubuntu 9.4.0-1ubuntu1~20.04.2) 9.4.0 To view detailed results, visit: https://lab.dpdk.org/results/dashboard/patchsets/34215/ UNH-IOL DPDK Community Lab To manage your email subscriptions, visit: https://lab.dpdk.org/results/dashboard/preferences/subscriptions/