From mboxrd@z Thu Jan 1 00:00:00 1970 Return-Path: Received: from mails.dpdk.org (mails.dpdk.org [217.70.189.124]) by inbox.dpdk.org (Postfix) with ESMTP id 1611B488A6 for ; Sat, 4 Oct 2025 06:32:25 +0200 (CEST) Received: from mails.dpdk.org (localhost [127.0.0.1]) by mails.dpdk.org (Postfix) with ESMTP id 08A9F4014F; Sat, 4 Oct 2025 06:32:25 +0200 (CEST) Received: from mail-pg1-f225.google.com (mail-pg1-f225.google.com [209.85.215.225]) by mails.dpdk.org (Postfix) with ESMTP id 8CDBB4014F for ; Sat, 4 Oct 2025 06:32:23 +0200 (CEST) Received: by mail-pg1-f225.google.com with SMTP id 41be03b00d2f7-b5565f0488bso1921781a12.2 for ; Fri, 03 Oct 2025 21:32:23 -0700 (PDT) DKIM-Signature: v=1; a=rsa-sha256; c=relaxed/relaxed; d=iol.unh.edu; s=unh-iol; t=1759552342; x=1760157142; darn=dpdk.org; h=cc:to:from:subject:message-id:date:from:to:cc:subject:date :message-id:reply-to; bh=EuPYQskUOnALTuoXKJHUJVoTZ2TxbSa4P3gD1NmvlLI=; b=LACsVuZkJC8rzNjMPzQqYRyHnsLhemH/x80FXtmA171kRARzvKN4vysz+F4+hKb1tl oKYlatnif/GsOAa6NWop757m7lvrkvQwWotUWILuo1awMFt25E2NjCjKykCiR7xI7qrF VMY/PISdnf3TgT13Or/C/UBXhRJKBAFJ3I6fg= X-Google-DKIM-Signature: v=1; a=rsa-sha256; c=relaxed/relaxed; d=1e100.net; s=20230601; t=1759552342; x=1760157142; h=cc:to:from:subject:message-id:date:x-gm-message-state:from:to:cc :subject:date:message-id:reply-to; bh=EuPYQskUOnALTuoXKJHUJVoTZ2TxbSa4P3gD1NmvlLI=; b=NyQ/k2Y+n6e9khxAllSR2+YRSEgIoWXledLlnEundTWrtuUtHi/DYjo+33Bfhx81LA mT83lf8e8iRnht72mwnMSHDrmfdS++6CCT7UGOzzUJM9sdwVKfQ/A35hoLRBX7xC/OQV bNZNPF2C4UPvqHGRNmewyRI9c4JcRF2EJgRaS1kAdGoiS6rNUwUJh7Io0DNOXGzBFybY icrYcUYKxvY7WmJNbQr6cSZuX53r6k8gCsbBZtY1cTAopqN8GyheB1EXulX3FmdfyhoU qmUhCgZNKoYU9K0FCCOoItWtUjX+p8OI9sz868kLmhkW65xit94T0jd+krZWB+tt5pOE tzCQ== X-Gm-Message-State: AOJu0YxzYGVGDOEbomAAy8iuetQj8ChB+GTLpBz/DVBS+RP4bGSdK7Lj 4rnbgWUXD/KK+KrwQozUaCKR8V19mk4hJLDC5yeM9Netzc28HLNi769d8HAQS/GYwr4ULSQMD9c rtMihtf0cflBosrZEJ3KtR0H1r6oU4UmS2V67fEvTPC7ZX4zQWspe X-Gm-Gg: ASbGncvQgjklGlKDUNQtqvcSh9SSO1se312pf7gi0JSNV/PsVy429o6ZX8T34cSxpsl /JQvjvGABptve4vcGQNgIbT661h8GCWfmY3KQQIE3/5XyBl5/GceLA8UTKrC9qNFMo9JYKcpHWc urKdxJ5lJJUtRus7U7WOatN0+f05z+1UCsXyBmWwyb841BZYJvDa8jIrwjoLMDf8XGL+pM4vZO4 98Qxb7n1AxwPESDD5iUZjphiT4A7oGrsxoqIx9wcmkyLyqBX4VTeb5K4H0yv7Bh3fA6Cbb+KvXh w7J/QHLaAAaZVri/pnUCijnJcfyIYcxJLlND56GLnpn91L5nn7S25B4= X-Google-Smtp-Source: AGHT+IGzaLQrLBZnFqb/LKW2K685ZoVX5Badh6UFcgRny3NT1mn2hhmOQ1EHDIvGuiZ25DLyPS4iB+j5H6uy X-Received: by 2002:a17:902:ea0d:b0:267:ba53:8bd3 with SMTP id d9443c01a7336-28e9a61a74amr78699795ad.28.1759552342600; Fri, 03 Oct 2025 21:32:22 -0700 (PDT) Received: from postal.iol.unh.edu (postal.iol.unh.edu. [2606:4100:3880:1234::84]) by smtp-relay.gmail.com with ESMTPS id d9443c01a7336-28ea64752dasm1251775ad.31.2025.10.03.21.32.22 (version=TLS1_2 cipher=ECDHE-ECDSA-AES128-GCM-SHA256 bits=128/128); Fri, 03 Oct 2025 21:32:22 -0700 (PDT) X-Relaying-Domain: iol.unh.edu Date: Fri, 03 Oct 2025 21:32:22 -0700 (PDT) Message-ID: <68e0a356.170a0220.1f251e.76faSMTPIN_ADDED_MISSING@mx.google.com> Received: from [172.21.0.2] (unknown [172.18.0.240]) by postal.iol.unh.edu (Postfix) with ESMTP id D8BE36051830; Sat, 4 Oct 2025 00:32:21 -0400 (EDT) Subject: |SUCCESS| [GIT MASTER] 62f583c49bf67dd4d6733ece14e55fe6839e66d1 From: dpdklab@iol.unh.edu To: Test Report Cc: dpdk-test-reports@iol.unh.edu, Xueming Li , Christian Ehrhardt , Kevin Traynor , Luca Boccassi Content-Type: text/plain X-BeenThere: test-report@dpdk.org X-Mailman-Version: 2.1.29 Precedence: list List-Id: automatic DPDK test reports List-Unsubscribe: , List-Archive: List-Post: List-Help: List-Subscribe: , Errors-To: test-report-bounces@dpdk.org _Testing PASS_ Branch: tags/v23.11 62f583c49bf67dd4d6733ece14e55fe6839e66d1 --> testing pass Upstream job id: Windows-Compile-DPDK-VS#7103 Test environment and result as below: +---------------------+--------------------+-------------------+ | Environment | dpdk_meson_compile | dpdk_msvc_compile | +=====================+====================+===================+ | Ubuntu 20.04 | PASS | SKIPPED | +---------------------+--------------------+-------------------+ | FreeBSD 14.2 | PASS | SKIPPED | +---------------------+--------------------+-------------------+ | Windows Server 2022 | SKIPPED | PASS | +---------------------+--------------------+-------------------+ Ubuntu 20.04 Kernel: 4.19 Compiler: gcc gcc (Ubuntu 9.4.0-1ubuntu1~20.04.2) 9.4.0 FreeBSD 14.2 Kernel: 14.2-RELEASE Compiler: clang 18.1.6 Windows Server 2022 Kernel: 10.0.20348.2031 Compiler: clang 15.0.7, gcc 14.1.0 (MinGW), and MSVC VS 19.39.33521 To view detailed results, visit: https://lab.dpdk.org/results/dashboard/tarballs/35106/ UNH-IOL DPDK Community Lab To manage your email subscriptions, visit: https://lab.dpdk.org/results/dashboard/preferences/subscriptions/