From mboxrd@z Thu Jan 1 00:00:00 1970 Return-Path: Received: from mails.dpdk.org (mails.dpdk.org [217.70.189.124]) by inbox.dpdk.org (Postfix) with ESMTP id BE2B1488A6 for ; Sat, 4 Oct 2025 06:38:06 +0200 (CEST) Received: from mails.dpdk.org (localhost [127.0.0.1]) by mails.dpdk.org (Postfix) with ESMTP id 95A554021F; Sat, 4 Oct 2025 06:38:06 +0200 (CEST) Received: from mail-yw1-f228.google.com (mail-yw1-f228.google.com [209.85.128.228]) by mails.dpdk.org (Postfix) with ESMTP id 277A04014F for ; Sat, 4 Oct 2025 06:38:04 +0200 (CEST) Received: by mail-yw1-f228.google.com with SMTP id 00721157ae682-71d603a9cfaso32291027b3.1 for ; Fri, 03 Oct 2025 21:38:04 -0700 (PDT) DKIM-Signature: v=1; a=rsa-sha256; c=relaxed/relaxed; d=iol.unh.edu; s=unh-iol; t=1759552684; x=1760157484; darn=dpdk.org; h=cc:to:from:subject:message-id:date:from:to:cc:subject:date :message-id:reply-to; bh=y8lnhAaGI3z4PNydGrztHoqoysG8PNH81tI2NN5I5X8=; b=R+ZukIdednvbVGrCBe3uX1zqX+lnKbXhxKdbEIOcZW8wyPEkKB4tX83EFdkH2cz3Qi ce2HNGGi+3dm4aVWpYkjw2L9cA6WDaXVNmdAOaJ3DQ4zpxHiUPXH9cO3STcVimK119zR o0Cl2y1T4ebDDyzQVY9mqRie/kBi16bNRu0+E= X-Google-DKIM-Signature: v=1; a=rsa-sha256; c=relaxed/relaxed; d=1e100.net; s=20230601; t=1759552684; x=1760157484; h=cc:to:from:subject:message-id:date:x-gm-message-state:from:to:cc :subject:date:message-id:reply-to; bh=y8lnhAaGI3z4PNydGrztHoqoysG8PNH81tI2NN5I5X8=; b=gVWmQPYKnd283VR70hBzvoah1Xc3muwXQ+14kGnER/OetZ660bLxM5WWfLNsxBKvZk gcoaqksamB2Q50bXkoVeYa3IRrFYZKcUQ1GbwFIv/ridRHVWH01T8LjCPWl76LWTzJj6 s6HKlxLaQMmLzn+mtrGJZiLVIEk/RHtkfnaAtg0QhAACrnDPhgtTVrPzBrvRevSzVwfq 652MKaVAqIOjtw4irrJwr+Yh6qRz/73C3AbwPl6/wziXF1miCDlbP6pukJMn/j4zcqFe McnBvy/ryRZjfW3zdaedwpUcpvvw1TSEw/DQRD/eLgBhzltZ85MLOPeASa07EkRbawP2 y/qA== X-Gm-Message-State: AOJu0YzOW9lWOqzJgQo1QoJ6cBPVn9z1bgy0Ym2XYLDRiaMEgucQ0z4K X/TpfE+T8j8c8smQkw9FWxDh/msyXON5743Y+eqKIJTkFjF1wzB76wIvIVDljGjyxvYS/0KhhzM 0GVsgqK5ieI/tW4xGchpRWH3c2G462GkaQY6EBZoprSWP7jTgt5Lm X-Gm-Gg: ASbGncsryKAi9IkxFb97DzozcRKIgN8e2r3xPnJPsNe1lLpZiLbW2bATKI2/e0cs2KX 4uKj40dtqJPoQUepF3CCviMay2y4iQ6tlmIrsEzgWbrW/a2de6DKsWs/lseGfG6qUZFp50w/+1j 6N9RblPg/LJKcYckZErEyjygVJC9Njzlh2B9hVPUb6inngQoRE46XswA3W9lawhE2NCIdJeqVHf hpM9QfUrbpFeME5+kUQ+0VoZuHiXpy8lAGC51CMxJqGfAk/Cmc5CK0Wi2A2GIN1Xa+8JXvcsXcL SSiV9VbCDXQaMQPiaMB5mWKxQ1ojO7BrH77X5GKJHvLyIXD9KlqAFZs= X-Google-Smtp-Source: AGHT+IFrIYZ5bx7Bib7pOh8b8FcOlggQIj6Q1ZrAt9FNwMi+Irm8M4nSxo9rDa/Mu2gbuKTQPCtjKoav5xTx X-Received: by 2002:a05:690c:6712:b0:732:39a:8218 with SMTP id 00721157ae682-77f945afd01mr72633777b3.20.1759552684183; Fri, 03 Oct 2025 21:38:04 -0700 (PDT) Received: from postal.iol.unh.edu (postal.iol.unh.edu. [2606:4100:3880:1234::84]) by smtp-relay.gmail.com with ESMTPS id 00721157ae682-77f81c35a5esm3832127b3.15.2025.10.03.21.38.04 (version=TLS1_2 cipher=ECDHE-ECDSA-AES128-GCM-SHA256 bits=128/128); Fri, 03 Oct 2025 21:38:04 -0700 (PDT) X-Relaying-Domain: iol.unh.edu Date: Fri, 03 Oct 2025 21:38:04 -0700 (PDT) Message-ID: <68e0a4ac.050a0220.1c841a.7a51SMTPIN_ADDED_MISSING@mx.google.com> Received: from [172.21.0.3] (unknown [172.18.0.240]) by postal.iol.unh.edu (Postfix) with ESMTP id D8DE56051830; Sat, 4 Oct 2025 00:38:03 -0400 (EDT) Subject: |SUCCESS| [GIT MASTER] 3b43ce3f4a54468e7ef65760c2fd7b4d6ee6d9fc From: dpdklab@iol.unh.edu To: Test Report Cc: dpdk-test-reports@iol.unh.edu, Xueming Li , Christian Ehrhardt , Kevin Traynor , Luca Boccassi Content-Type: text/plain X-BeenThere: test-report@dpdk.org X-Mailman-Version: 2.1.29 Precedence: list List-Id: automatic DPDK test reports List-Unsubscribe: , List-Archive: List-Post: List-Help: List-Subscribe: , Errors-To: test-report-bounces@dpdk.org _Testing PASS_ Branch: tags/v22.11 3b43ce3f4a54468e7ef65760c2fd7b4d6ee6d9fc --> testing pass Upstream job id: Windows-Compile-DPDK-Native#31415 Test environment and result as below: +---------------------+--------------------+-------------------------+ | Environment | dpdk_meson_compile | dpdk_llvm_clang_compile | +=====================+====================+=========================+ | Ubuntu 20.04 | PASS | SKIPPED | +---------------------+--------------------+-------------------------+ | FreeBSD 14.2 | PASS | SKIPPED | +---------------------+--------------------+-------------------------+ | Windows Server 2022 | SKIPPED | PASS | +---------------------+--------------------+-------------------------+ Ubuntu 20.04 Kernel: 4.19 Compiler: gcc gcc (Ubuntu 9.4.0-1ubuntu1~20.04.2) 9.4.0 FreeBSD 14.2 Kernel: 14.2-RELEASE Compiler: clang 18.1.6 Windows Server 2022 Kernel: 10.0.20348.2031 Compiler: clang 15.0.7, gcc 14.1.0 (MinGW), and MSVC VS 19.39.33521 To view detailed results, visit: https://lab.dpdk.org/results/dashboard/tarballs/35105/ UNH-IOL DPDK Community Lab To manage your email subscriptions, visit: https://lab.dpdk.org/results/dashboard/preferences/subscriptions/