From mboxrd@z Thu Jan 1 00:00:00 1970 Return-Path: Received: from mails.dpdk.org (mails.dpdk.org [217.70.189.124]) by inbox.dpdk.org (Postfix) with ESMTP id 06ABF488A6 for ; Sat, 4 Oct 2025 06:39:42 +0200 (CEST) Received: from mails.dpdk.org (localhost [127.0.0.1]) by mails.dpdk.org (Postfix) with ESMTP id E8DDC4014F; Sat, 4 Oct 2025 06:39:41 +0200 (CEST) Received: from mail-qv1-f100.google.com (mail-qv1-f100.google.com [209.85.219.100]) by mails.dpdk.org (Postfix) with ESMTP id AA7DC4014F for ; Sat, 4 Oct 2025 06:39:40 +0200 (CEST) Received: by mail-qv1-f100.google.com with SMTP id 6a1803df08f44-81efcad9c90so35613146d6.0 for ; Fri, 03 Oct 2025 21:39:40 -0700 (PDT) DKIM-Signature: v=1; a=rsa-sha256; c=relaxed/relaxed; d=iol.unh.edu; s=unh-iol; t=1759552780; x=1760157580; darn=dpdk.org; h=cc:to:from:subject:message-id:date:from:to:cc:subject:date :message-id:reply-to; bh=TnkDQ5fxq8v7xA/gmt0qEoIFp0U7ZYd1qDF/CTHs7xA=; b=Kf0ZwbbU+yoYHyKDKDAlwYtuFqANXR6lMS/3eGisVtfvu3GzEkOSHzR7sBffznRaOX hGoNLYkPTLL/Lu+3cHVzmtxpFAqLaTSkwMQkGuyvacf4t6rVhJc+bp/b8pCg/KqRih/X lvh+iT1NCAznBIlumDhDRUQEyPHlNtwPQBIKU= X-Google-DKIM-Signature: v=1; a=rsa-sha256; c=relaxed/relaxed; d=1e100.net; s=20230601; t=1759552780; x=1760157580; h=cc:to:from:subject:message-id:date:x-gm-message-state:from:to:cc :subject:date:message-id:reply-to; bh=TnkDQ5fxq8v7xA/gmt0qEoIFp0U7ZYd1qDF/CTHs7xA=; b=GL9N8HUS86w2iltUwFz8Gl728nLRORV0pgFL5quG9Xbv4hSa+JUjAWNAhBPc2/PyFX hKKDB/aQL6WWtIfj65UVHxqzfqpt7J+4onrpD2IlTuWNTM2CtORanwhCTcWUVtJTKZx+ yOO0slPR/mZ0g4ufJvshaY+sejo2LfAxMQLZTt2kQWVy3fqsvy3x5onMHReXj0dthyuY O8WPhpsfL2IYJJEPHv2HTOoYCQVaHjKteTHjDWcPFfmhf4zYWvNjcZU8Nn4mq+LYE1ef UBP90zvD/L4E5+ypct8CQHUpFBMT8g/nmxdxWjgzg6YEcRIjXM+/c17jfG/FYy52UsVl ocUg== X-Gm-Message-State: AOJu0YwpxviFxa2P41nfyppOlOsBU7xlC562DZFDo3PIHiQILdDg38JQ Vxx7NSaI2qodp6ZBGu9S6O7zrQCARDmjXMRJeeIcc97IbQBNHJChKrirXbMYmioHFDUi8K+EDtY IDiJCmcghK8EsCeVcvEZKnw8kiiRFMQuMuysNFF9/DmGiko0N6XHH X-Gm-Gg: ASbGncu+Vu208pGUcr7fVSK5TucnrHKx49YF9nNZByXZwpavF3xyxexfl4JDizP1M2C SdgEba4I3UoVrqdF1bomzc5l/sfsKktjgxuiTwSOkoW/U6nmBooHGqRgUAQEgRf6UrqDi+UvWNs sWHUnkJ6g8ZiBiZynCqdk6sy9zJ6gRSB1GRDSF4b47bJrNCxsufKxWgD7Keg3UaBF39P67pv+nn jhONyGb6p2nJZ4Rcek57gNhSElVFzBE66xGRWxqLdM5jZWLXx7Gw9X6vebeTGjwQ9BH75MUBZMZ DuroVvyOcgE4skKTyFTfd0Q96oshteQ3+qLDjuKJymR7qB0aM+nPogo= X-Google-Smtp-Source: AGHT+IF0wfQss2E0XzkfebjUlK5bSp0XGrhGXDin4MfN1Keg8fkWb4r1py7WiSL6xh46CjSgb+anTIPTiLPc X-Received: by 2002:a05:6214:2629:b0:77c:3347:6411 with SMTP id 6a1803df08f44-879dc77bca1mr76222656d6.14.1759552780079; Fri, 03 Oct 2025 21:39:40 -0700 (PDT) Received: from postal.iol.unh.edu (postal.iol.unh.edu. [2606:4100:3880:1234::84]) by smtp-relay.gmail.com with ESMTPS id 6a1803df08f44-878be04f725sm4699986d6.31.2025.10.03.21.39.40 (version=TLS1_2 cipher=ECDHE-ECDSA-AES128-GCM-SHA256 bits=128/128); Fri, 03 Oct 2025 21:39:40 -0700 (PDT) X-Relaying-Domain: iol.unh.edu Date: Fri, 03 Oct 2025 21:39:40 -0700 (PDT) Message-ID: <68e0a50c.050a0220.21d3b.cb16SMTPIN_ADDED_MISSING@mx.google.com> Received: from [172.21.0.2] (unknown [172.18.0.240]) by postal.iol.unh.edu (Postfix) with ESMTP id C6E026051830; Sat, 4 Oct 2025 00:39:39 -0400 (EDT) Subject: |SUCCESS| [GIT MASTER] b287e404643aeab5bb5db084c142789df187844e From: dpdklab@iol.unh.edu To: Test Report Cc: dpdk-test-reports@iol.unh.edu, Xueming Li , Christian Ehrhardt , Kevin Traynor , Luca Boccassi Content-Type: text/plain X-BeenThere: test-report@dpdk.org X-Mailman-Version: 2.1.29 Precedence: list List-Id: automatic DPDK test reports List-Unsubscribe: , List-Archive: List-Post: List-Help: List-Subscribe: , Errors-To: test-report-bounces@dpdk.org _Testing PASS_ Branch: tags/v24.11 b287e404643aeab5bb5db084c142789df187844e --> testing pass Upstream job id: Windows-Compile-DPDK-VS#7104 Test environment and result as below: +---------------------+--------------------+-------------------+ | Environment | dpdk_meson_compile | dpdk_msvc_compile | +=====================+====================+===================+ | Ubuntu 20.04 | PASS | SKIPPED | +---------------------+--------------------+-------------------+ | FreeBSD 14.2 | PASS | SKIPPED | +---------------------+--------------------+-------------------+ | Windows Server 2022 | SKIPPED | PASS | +---------------------+--------------------+-------------------+ Ubuntu 20.04 Kernel: 4.19 Compiler: gcc gcc (Ubuntu 9.4.0-1ubuntu1~20.04.2) 9.4.0 FreeBSD 14.2 Kernel: 14.2-RELEASE Compiler: clang 18.1.6 Windows Server 2022 Kernel: 10.0.20348.2031 Compiler: clang 15.0.7, gcc 14.1.0 (MinGW), and MSVC VS 19.39.33521 To view detailed results, visit: https://lab.dpdk.org/results/dashboard/tarballs/35107/ UNH-IOL DPDK Community Lab To manage your email subscriptions, visit: https://lab.dpdk.org/results/dashboard/preferences/subscriptions/