From mboxrd@z Thu Jan 1 00:00:00 1970 Return-Path: Received: from mails.dpdk.org (mails.dpdk.org [217.70.189.124]) by inbox.dpdk.org (Postfix) with ESMTP id 50231488A6 for ; Sat, 4 Oct 2025 06:41:23 +0200 (CEST) Received: from mails.dpdk.org (localhost [127.0.0.1]) by mails.dpdk.org (Postfix) with ESMTP id 4AD684014F; Sat, 4 Oct 2025 06:41:23 +0200 (CEST) Received: from mail-io1-f98.google.com (mail-io1-f98.google.com [209.85.166.98]) by mails.dpdk.org (Postfix) with ESMTP id D93B24014F for ; Sat, 4 Oct 2025 06:41:21 +0200 (CEST) Received: by mail-io1-f98.google.com with SMTP id ca18e2360f4ac-930cfdfabb3so181373339f.1 for ; Fri, 03 Oct 2025 21:41:21 -0700 (PDT) DKIM-Signature: v=1; a=rsa-sha256; c=relaxed/relaxed; d=iol.unh.edu; s=unh-iol; t=1759552881; x=1760157681; darn=dpdk.org; h=cc:to:from:subject:message-id:date:from:to:cc:subject:date :message-id:reply-to; bh=os8Lh4wjMnVFW2Rxp9yRDNoO9uZm0wMCUmO+5WI/HJQ=; b=SG/PtSN43PHRl8vaHMDdvEY4glztog8yKzrfFn1qMDFkEyCuIYFN4gXXB/6AnF89ER HAek5QQFkyc3vqGVHTRbU73x1dEzAQNfbzxygT+E/+VdoumCIdvZ8JV1yEWECeyg3Ws0 +hkGCHbqQf2WDg5Fo/BjK3KSzdZPFignjZxzs= X-Google-DKIM-Signature: v=1; a=rsa-sha256; c=relaxed/relaxed; d=1e100.net; s=20230601; t=1759552881; x=1760157681; h=cc:to:from:subject:message-id:date:x-gm-message-state:from:to:cc :subject:date:message-id:reply-to; bh=os8Lh4wjMnVFW2Rxp9yRDNoO9uZm0wMCUmO+5WI/HJQ=; b=wNUt5/rTV6mbTyVfiOxEeLgf9TIciBgCNV+XXaWXO2D1IdoyVuxhVZkd4Fr5zhyNti 8HtQWqf8PKFFgtpSU8X+avRMFkQ9YC5M40VbfOH0rdT9YmOg17iMqBjH+Upq4ElS0YUW 7g9gZIy+q+0uoSQ+fNtZPMnKNdOgce25yigq+9y1hWsZuytHIqDlq6EJGRa6Ft8+O68H KJmI0RDMmYihKasqmP/MazfJVu7Ldyb0jpv1BsuucZG4eh7xnQz2vMT899qOXJZgIqyI HOOHSuvWDwYm8+r15mu6AS3XYgUNa2zeVF7GC7aSEu4YKVZzQ+xplsE+TvJAdTV6TymK ISLw== X-Gm-Message-State: AOJu0YzwnAZa9EDGh8nD7njRCNZH26gAlAWEwyxl+xkVbItP/vAifiYH IZ9QUETQaKoPEHCSaW0/9EhZDEpM9MmHfP4dDEjT6TGPTW6Lu/bIQq0r+qqSbGTX76U1w+PY5C3 NFx0cKYUO5/RsT0y5i/eWv+oOLogixwKlA93HwmtltjoUPhKI6qda X-Gm-Gg: ASbGncs/xoX8doPj+ZLeQNJ0EDRgHHCXeTo+si55BxQG0EZhf3gSl9mpvvMKnrKzz6p mbW72QHPNvjGS5YK38dM1YYpRR2IkY+uL12SirH9O9lKasCC5iW1gKoisv+Nxfjm09dvqrgn13Y TKRYvVii37bJZvSAswmgptP0kKSoU9cd5gxmSFEdUpc7RZJi7DwQc4ERY+yGoiKuQrP09M5ghYY 1LPqx+CR4iDDS2RsCZ3tAOlQ+8dHkP6DF7F2GbRwo2wVQ2OX1lF59NVEhLVAOZ7ZtT3yMCSz877 rtzsXwkENFfNQLjSD8km75+QosVDaMaW7o3NMF6YJihgYcKXsnvCxKs= X-Google-Smtp-Source: AGHT+IEmlo8OMHm/gxalKiCLOkAiPCZqubT0F8t106O82BqqAc5kzzXRqQEra5y7XfnNJyZegUNQnGukdZFp X-Received: by 2002:a05:6e02:19ce:b0:42d:89c3:df7f with SMTP id e9e14a558f8ab-42d8b1c90c9mr103093955ab.7.1759552881218; Fri, 03 Oct 2025 21:41:21 -0700 (PDT) Received: from postal.iol.unh.edu (postal.iol.unh.edu. [2606:4100:3880:1234::84]) by smtp-relay.gmail.com with ESMTPS id 8926c6da1cb9f-57b5ed26c32sm459110173.27.2025.10.03.21.41.21 (version=TLS1_2 cipher=ECDHE-ECDSA-AES128-GCM-SHA256 bits=128/128); Fri, 03 Oct 2025 21:41:21 -0700 (PDT) X-Relaying-Domain: iol.unh.edu Date: Fri, 03 Oct 2025 21:41:21 -0700 (PDT) Message-ID: <68e0a571.050a0220.2b76de.d783SMTPIN_ADDED_MISSING@mx.google.com> Received: from [172.21.0.2] (unknown [172.18.0.240]) by postal.iol.unh.edu (Postfix) with ESMTP id E043F6051830; Sat, 4 Oct 2025 00:41:20 -0400 (EDT) Subject: |SUCCESS| [GIT MASTER] 3b43ce3f4a54468e7ef65760c2fd7b4d6ee6d9fc From: dpdklab@iol.unh.edu To: Test Report Cc: dpdk-test-reports@iol.unh.edu, Xueming Li , Christian Ehrhardt , Kevin Traynor , Luca Boccassi Content-Type: text/plain X-BeenThere: test-report@dpdk.org X-Mailman-Version: 2.1.29 Precedence: list List-Id: automatic DPDK test reports List-Unsubscribe: , List-Archive: List-Post: List-Help: List-Subscribe: , Errors-To: test-report-bounces@dpdk.org _Testing PASS_ Branch: tags/v22.11 3b43ce3f4a54468e7ef65760c2fd7b4d6ee6d9fc --> testing pass Upstream job id: Windows-Compile-DPDK-Native#31416 Test environment and result as below: +---------------------+--------------------+-------------------------+----------------------+ | Environment | dpdk_meson_compile | dpdk_llvm_clang_compile | dpdk_mingw64_compile | +=====================+====================+=========================+======================+ | Ubuntu 20.04 | PASS | SKIPPED | SKIPPED | +---------------------+--------------------+-------------------------+----------------------+ | FreeBSD 14.2 | PASS | SKIPPED | SKIPPED | +---------------------+--------------------+-------------------------+----------------------+ | Windows Server 2022 | SKIPPED | PASS | PASS | +---------------------+--------------------+-------------------------+----------------------+ Ubuntu 20.04 Kernel: 4.19 Compiler: gcc gcc (Ubuntu 9.4.0-1ubuntu1~20.04.2) 9.4.0 FreeBSD 14.2 Kernel: 14.2-RELEASE Compiler: clang 18.1.6 Windows Server 2022 Kernel: 10.0.20348.2031 Compiler: clang 15.0.7, gcc 14.1.0 (MinGW), and MSVC VS 19.39.33521 To view detailed results, visit: https://lab.dpdk.org/results/dashboard/tarballs/35105/ UNH-IOL DPDK Community Lab To manage your email subscriptions, visit: https://lab.dpdk.org/results/dashboard/preferences/subscriptions/