From mboxrd@z Thu Jan 1 00:00:00 1970 Return-Path: Received: from mails.dpdk.org (mails.dpdk.org [217.70.189.124]) by inbox.dpdk.org (Postfix) with ESMTP id 6E58A488A6 for ; Sat, 4 Oct 2025 06:42:14 +0200 (CEST) Received: from mails.dpdk.org (localhost [127.0.0.1]) by mails.dpdk.org (Postfix) with ESMTP id 657754014F; Sat, 4 Oct 2025 06:42:14 +0200 (CEST) Received: from mail-yw1-f225.google.com (mail-yw1-f225.google.com [209.85.128.225]) by mails.dpdk.org (Postfix) with ESMTP id 7092E4014F for ; Sat, 4 Oct 2025 06:42:13 +0200 (CEST) Received: by mail-yw1-f225.google.com with SMTP id 00721157ae682-743ba48eb71so59215587b3.1 for ; Fri, 03 Oct 2025 21:42:13 -0700 (PDT) DKIM-Signature: v=1; a=rsa-sha256; c=relaxed/relaxed; d=iol.unh.edu; s=unh-iol; t=1759552933; x=1760157733; darn=dpdk.org; h=references:in-reply-to:cc:to:from:subject:message-id:date:from:to :cc:subject:date:message-id:reply-to; bh=YQYC/k4/ZsMdHq+iJ/IqyMDuKq4HULpX3CDAvzss8uc=; b=WO8LoQOivb+/Q8bZpslHNFcsae+N5AVOmMRlwKasHlq4AFEe/DKsT7FqDWLre/ZGRF UgNyhU3Dyv3nncxRPPsdWktXPa5f8x2YDDi9GlFDZ+xeZ2jyBFg0K0lAW6slT46nmw0l yQRj2PgGoyt+4ouW2Qwpn4zNeAZmanNzPnwxs= X-Google-DKIM-Signature: v=1; a=rsa-sha256; c=relaxed/relaxed; d=1e100.net; s=20230601; t=1759552933; x=1760157733; h=references:in-reply-to:cc:to:from:subject:message-id:date :x-gm-message-state:from:to:cc:subject:date:message-id:reply-to; bh=YQYC/k4/ZsMdHq+iJ/IqyMDuKq4HULpX3CDAvzss8uc=; b=h28HAUd6U0XN2UPW8y1J10tTSvKir7bp8jBMDr00kGadc0meHKchYb6GFkRBR84x+l a24PGnAQneS68ug7jdnQbxprfcHjxQCnG7BEob1VFd+kp/eAJzhWCEd4wigZJ7+S8EFN ylqq8sPyCxUCc6PTgKnbgMSIwreFA32cmmZvVyGZwvcrx7Jm7QEMWihNjA5QP9Bc77Ve BAPgedMko/Sw+J2va8yTgxdRDKr8Gvoj37zAs7qgUVvKvIqX8pluGkCjDBwl2kmkz5bl Aj6Wz7rLx8+3bZwGhBt6mYGGNSobVX3hWhGIRyhDSUtf3/tQztIvFTFktd+uhs5Dp/+E rzOA== X-Gm-Message-State: AOJu0YzbS4qK3AS5aPYl2AzLZb8OIMLK474L9i+mv7YOTsuLfrFD2/0a pjj2FIbP56mQ6SzXLbzRonUQM1/cbuxevMfvi/g8qYn6U2wejyUaFp+WzHra5cUfPmI667OCLMJ DKyPsrI02QMc0vf2KwnTra4SrhQeZRnQt+157vXSPu7cuIZp/qruoQo0fcVQP X-Gm-Gg: ASbGnctpE4m/1C6mYAjVdmwKBQp7DG2loNnvYGmlznKt2ZekRtYcr67Ao3E3/vKdKpt 5sEB4rmzkU/iHr265AQlZ62bRtGlDcgMHanpVg8msQheu3AsiBz2Or1atx6rwRaPZZOc+2VPsYH Lwjm1IoITrZdLJYO6u9wcL1YglX97y31EWsCAsgikrVt2SHrti2IRSxY6ysN3X8T+xcvD/vgoFd XbOa5Nfkphm16V5q+vtA2FtYX7up3G6CFpL97DurzmqTiLqZ4ypqpTDmVSd5ybRZixlywYavO3O qfkJR/jxqaAvLz/5786OhCjF27WyyYMZGNI/Svm6zVy/TXHAW6a0IfA= X-Google-Smtp-Source: AGHT+IHVxZ32y/7766Sn3KEyc2Mz090pAxlG2LW738AGA7eAttez1bPShZH7n0okEBTbzFxJBH27cXmW/omo X-Received: by 2002:a05:690e:687:b0:635:4ed0:5722 with SMTP id 956f58d0204a3-63b99670226mr4260155d50.26.1759552932798; Fri, 03 Oct 2025 21:42:12 -0700 (PDT) Received: from postal.iol.unh.edu (postal.iol.unh.edu. [2606:4100:3880:1234::84]) by smtp-relay.gmail.com with ESMTPS id 00721157ae682-77f81d2be6esm3418107b3.32.2025.10.03.21.42.12 (version=TLS1_2 cipher=ECDHE-ECDSA-AES128-GCM-SHA256 bits=128/128); Fri, 03 Oct 2025 21:42:12 -0700 (PDT) X-Relaying-Domain: iol.unh.edu Date: Fri, 03 Oct 2025 21:42:12 -0700 (PDT) Message-ID: <68e0a5a4.050a0220.260c60.4b6dSMTPIN_ADDED_MISSING@mx.google.com> Received: from [172.21.0.3] (unknown [172.18.0.240]) by postal.iol.unh.edu (Postfix) with ESMTP id 76D6D6051830; Sat, 4 Oct 2025 00:42:12 -0400 (EDT) Subject: |SUCCESS| pw157274-157276 [PATCH] [v4,3/3] app/test: add ML crypto t From: dpdklab@iol.unh.edu To: Test Report Cc: dpdk-test-reports@iol.unh.edu In-Reply-To: <20251004032259.2707-4-gmuthukrishn@marvell.com> References: <20251004032259.2707-4-gmuthukrishn@marvell.com> Content-Type: text/plain X-BeenThere: test-report@dpdk.org X-Mailman-Version: 2.1.29 Precedence: list List-Id: automatic DPDK test reports List-Unsubscribe: , List-Archive: List-Post: List-Help: List-Subscribe: , Errors-To: test-report-bounces@dpdk.org Test-Label: iol-unit-amd64-testing Test-Status: SUCCESS http://dpdk.org/patch/157276 _Testing PASS_ Submitter: Gowrishankar Muthukrishnan Date: Saturday, October 04 2025 03:22:55 DPDK git baseline: Repo:dpdk Branch: master CommitID:76393b98bf67f94dc6aa23cf5016c32571899261 157274-157276 --> testing pass Upstream job id: Generic-VM-Unit-Test-DPDK#31583 Test environment and result as below: +-------------------------------+----------------+ | Environment | dpdk_unit_test | +===============================+================+ | CentOS Stream 9 | PASS | +-------------------------------+----------------+ | Debian GNU/Linux 12 | PASS | +-------------------------------+----------------+ | CentOS Stream 10 | PASS | +-------------------------------+----------------+ | Fedora Linux 40 | PASS | +-------------------------------+----------------+ | Fedora Linux 41 | PASS | +-------------------------------+----------------+ | Windows Server 2022 | PASS | +-------------------------------+----------------+ | Fedora Linux 42 | PASS | +-------------------------------+----------------+ | Ubuntu 20.04 | PASS | +-------------------------------+----------------+ | Ubuntu 24.04 | PASS | +-------------------------------+----------------+ | Red Hat Enterprise Linux 8.10 | PASS | +-------------------------------+----------------+ | Red Hat Enterprise Linux 9.5 | PASS | +-------------------------------+----------------+ | Ubuntu 22.04 | PASS | +-------------------------------+----------------+ CentOS Stream 9 Kernel: 5.15 Compiler: gcc gcc (GCC) 11.5.0 20240719 (Red Hat 11.5.0-11) Debian GNU/Linux 12 Kernel: 5.15 Compiler: gcc gcc (Debian 12.2.0-14+deb12u1) 12.2.0 CentOS Stream 10 Kernel: 5.15 Compiler: gcc gcc (GCC) 14.2.1 20250110 (Red Hat 14.2.1-8) Fedora Linux 40 Kernel: 5.15 Compiler: gcc gcc (GCC) 14.2.1 20240912 (Red Hat 14.2.1-3) Fedora Linux 41 Kernel: 5.15 Compiler: gcc gcc (GCC) 14.3.1 20250523 (Red Hat 14.3.1-1) Windows Server 2022 Kernel: 10.0.20348.2031 Compiler: clang 15.0.7, gcc 14.1.0 (MinGW), and MSVC VS 19.39.33521 Fedora Linux 42 Kernel: 5.15 Compiler: gcc gcc (GCC) 15.2.1 20250808 (Red Hat 15.2.1-1) Ubuntu 20.04 Kernel: 5.15 Compiler: gcc gcc (Ubuntu 9.4.0-1ubuntu1~20.04.2) 9.4.0 Ubuntu 24.04 Kernel: 5.15 Compiler: gcc gcc (Ubuntu 13.3.0-6ubuntu2~24.04) 13.3.0 Red Hat Enterprise Linux 8.10 Kernel: 5.15 Compiler: gcc gcc (GCC) 8.5.0 20210514 (Red Hat 8.5.0-22) Red Hat Enterprise Linux 9.5 Kernel: 5.15 Compiler: gcc gcc (GCC) 11.5.0 20240719 (Red Hat 11.5.0-2) Ubuntu 22.04 Kernel: 5.15 Compiler: gcc gcc (Ubuntu 11.4.0-1ubuntu1~22.04) 11.4.0 To view detailed results, visit: https://lab.dpdk.org/results/dashboard/patchsets/34215/ UNH-IOL DPDK Community Lab To manage your email subscriptions, visit: https://lab.dpdk.org/results/dashboard/preferences/subscriptions/