From mboxrd@z Thu Jan 1 00:00:00 1970 Return-Path: Received: from mails.dpdk.org (mails.dpdk.org [217.70.189.124]) by inbox.dpdk.org (Postfix) with ESMTP id C1A5A488A6 for ; Sat, 4 Oct 2025 06:52:24 +0200 (CEST) Received: from mails.dpdk.org (localhost [127.0.0.1]) by mails.dpdk.org (Postfix) with ESMTP id BB3E44014F; Sat, 4 Oct 2025 06:52:24 +0200 (CEST) Received: from mail-pl1-f228.google.com (mail-pl1-f228.google.com [209.85.214.228]) by mails.dpdk.org (Postfix) with ESMTP id 461294014F for ; Sat, 4 Oct 2025 06:52:23 +0200 (CEST) Received: by mail-pl1-f228.google.com with SMTP id d9443c01a7336-271d1305ad7so41516165ad.2 for ; Fri, 03 Oct 2025 21:52:23 -0700 (PDT) DKIM-Signature: v=1; a=rsa-sha256; c=relaxed/relaxed; d=iol.unh.edu; s=unh-iol; t=1759553542; x=1760158342; darn=dpdk.org; h=cc:to:from:subject:message-id:date:from:to:cc:subject:date :message-id:reply-to; bh=Vf8FDV8396WE+k0pTG3ijAVrPCZtBbIUlYzz55e1jDk=; b=dF99l+DjVborEPnGnqqMHJKEW2NUemcjs/onuZOFV6pPGtywIaOEHNnanIdkDPbKzI OaRFKnb7wjbm/XO0F+sKbXtRPGM2FolE/W1rcgVaRruk8qz9jHOrftQopwVuFewbA5gZ /qB9Mvb7tPKaUdKdvgfEP9szWShgQSUkqMoPk= X-Google-DKIM-Signature: v=1; a=rsa-sha256; c=relaxed/relaxed; d=1e100.net; s=20230601; t=1759553542; x=1760158342; h=cc:to:from:subject:message-id:date:x-gm-message-state:from:to:cc :subject:date:message-id:reply-to; bh=Vf8FDV8396WE+k0pTG3ijAVrPCZtBbIUlYzz55e1jDk=; b=qve74+ohpdrnHYRvZARqMckmqaa9xNzBG/tdLZedKgXL+ram93mVhy8oi1uIFlFPjE CD4mH8bm4JBSk8LqtQkt+NkF58TqvG2KQxg2ZcnXxliQGrFnMW/hgtJOkzv2FIGr31xo Dy4+45X9TLPcLjXrzGecyerhwWI17Uo/1O5HLI6YqTyKOc1qvyALWbFRrAQdTtxJ1xUZ sB8Oc6V8NLG+a1tluETH+rI9OFlv+iqRxqHuTuh9WdNnr8PU2x55M8yEvuGryA0dlHmp 0oiwHReg1oQpman/Fk8vG69bcQpmAgGgyeEibadPoqOd2b4tAG4XGvW6QfRVCOebOPoG ckMw== X-Gm-Message-State: AOJu0YxsY4HX9Sl/MzuikLQ0Ug3ky9NdP17lh2qNknR0NMg7MH40u4zY vSNeK/zGfSPUTD4Xi9pbCqtUvaR8z9aAbw2WxA1sKC5Fvm4ls2sYwr4Qs3fvdvgqd0PrAFecY+4 bbk4qFK8zIzl4pGQe/AWOiBgtA4wILAcxkqL3e04YS/LWZem+ONq9 X-Gm-Gg: ASbGnctsnJgbZi2fAiGe5Lc/XUujVkXgU8hw41g++fmJ1ftNYztDa4zNyLZdN5ZFKmB k5I/j92FWYK1RBKqZ3Y5jDk0AtuR8nCWuHKbRBqYkLR8YrFHLK1FnE+2fNInu8j+wGIVS0vmxIx T0VdqR6bkpOMjYfMU+CLnr8eYU2jri1Au0ZfFyGLPinJuCdfsNrcoWP0wcahugH3RxkAuLTbY/r gppY5eUzgbecYKlHjPwrmjw1gNt59xeFRCfnj/n9v9hF3q2Co9rt2ibsjRFVM8fNKV4WZaSXUcW xbouC+WIPsiIKKpc6h2YaGFbuXy0Iia5lVcmbHIpY94ccxMFV9dktiY= X-Google-Smtp-Source: AGHT+IHePehufBy+Zl+wYojVWLoGv+wm3ixmd3OMw+TYLcQ3C+xgcXNX+YrYQE9r3+nhVdXmkVYSfBZwnF6y X-Received: by 2002:a17:903:2404:b0:28e:7567:3c4b with SMTP id d9443c01a7336-28e9a58ff08mr52123075ad.16.1759553542568; Fri, 03 Oct 2025 21:52:22 -0700 (PDT) Received: from postal.iol.unh.edu (postal.iol.unh.edu. [2606:4100:3880:1234::84]) by smtp-relay.gmail.com with ESMTPS id d9443c01a7336-28e8d118091sm5304615ad.20.2025.10.03.21.52.22 (version=TLS1_2 cipher=ECDHE-ECDSA-AES128-GCM-SHA256 bits=128/128); Fri, 03 Oct 2025 21:52:22 -0700 (PDT) X-Relaying-Domain: iol.unh.edu Date: Fri, 03 Oct 2025 21:52:22 -0700 (PDT) Message-ID: <68e0a806.170a0220.1ed902.045fSMTPIN_ADDED_MISSING@mx.google.com> Received: from [172.21.0.2] (unknown [172.18.0.240]) by postal.iol.unh.edu (Postfix) with ESMTP id D64BC6051830; Sat, 4 Oct 2025 00:52:21 -0400 (EDT) Subject: |SUCCESS| [GIT MASTER] b287e404643aeab5bb5db084c142789df187844e From: dpdklab@iol.unh.edu To: Test Report Cc: dpdk-test-reports@iol.unh.edu, Xueming Li , Christian Ehrhardt , Kevin Traynor , Luca Boccassi Content-Type: text/plain X-BeenThere: test-report@dpdk.org X-Mailman-Version: 2.1.29 Precedence: list List-Id: automatic DPDK test reports List-Unsubscribe: , List-Archive: List-Post: List-Help: List-Subscribe: , Errors-To: test-report-bounces@dpdk.org _Testing PASS_ Branch: tags/v24.11 b287e404643aeab5bb5db084c142789df187844e --> testing pass Upstream job id: Windows-Compile-DPDK-Native#31419 Test environment and result as below: +---------------------+--------------------+-------------------+-------------------------+ | Environment | dpdk_meson_compile | dpdk_msvc_compile | dpdk_llvm_clang_compile | +=====================+====================+===================+=========================+ | Ubuntu 20.04 | PASS | SKIPPED | SKIPPED | +---------------------+--------------------+-------------------+-------------------------+ | FreeBSD 14.2 | PASS | SKIPPED | SKIPPED | +---------------------+--------------------+-------------------+-------------------------+ | Windows Server 2022 | SKIPPED | PASS | PASS | +---------------------+--------------------+-------------------+-------------------------+ Ubuntu 20.04 Kernel: 4.19 Compiler: gcc gcc (Ubuntu 9.4.0-1ubuntu1~20.04.2) 9.4.0 FreeBSD 14.2 Kernel: 14.2-RELEASE Compiler: clang 18.1.6 Windows Server 2022 Kernel: 10.0.20348.2031 Compiler: clang 15.0.7, gcc 14.1.0 (MinGW), and MSVC VS 19.39.33521 To view detailed results, visit: https://lab.dpdk.org/results/dashboard/tarballs/35107/ UNH-IOL DPDK Community Lab To manage your email subscriptions, visit: https://lab.dpdk.org/results/dashboard/preferences/subscriptions/