From mboxrd@z Thu Jan 1 00:00:00 1970 Return-Path: Received: from mails.dpdk.org (mails.dpdk.org [217.70.189.124]) by inbox.dpdk.org (Postfix) with ESMTP id 622A9488A6 for ; Sat, 4 Oct 2025 06:57:36 +0200 (CEST) Received: from mails.dpdk.org (localhost [127.0.0.1]) by mails.dpdk.org (Postfix) with ESMTP id 3D74C4014F; Sat, 4 Oct 2025 06:57:36 +0200 (CEST) Received: from mail-yw1-f226.google.com (mail-yw1-f226.google.com [209.85.128.226]) by mails.dpdk.org (Postfix) with ESMTP id E1DF74014F for ; Sat, 4 Oct 2025 06:57:34 +0200 (CEST) Received: by mail-yw1-f226.google.com with SMTP id 00721157ae682-72ce9790aceso31887467b3.3 for ; Fri, 03 Oct 2025 21:57:34 -0700 (PDT) DKIM-Signature: v=1; a=rsa-sha256; c=relaxed/relaxed; d=iol.unh.edu; s=unh-iol; t=1759553854; x=1760158654; darn=dpdk.org; h=cc:to:from:subject:message-id:date:from:to:cc:subject:date :message-id:reply-to; bh=4/JXIeOakcrKBawGEj6HhthAJ5udzC0ER2HtU/7gaBc=; b=QtT2fRL/7xNopuh5Rpa5Wt/aPNLlc+FUo7BNbFZb7SeSFszDRlndZKBLTfJwZJ4xOd Xm6/q+FJ3vEP9Eovnu+iUQVXcFcgr0nr7hXtpYqG7ayV8q4iMelw7DAHHh5EkSVX6m40 cwOPUqqZShA8wWzznxfGzer7lW2IMW/G7ix64= X-Google-DKIM-Signature: v=1; a=rsa-sha256; c=relaxed/relaxed; d=1e100.net; s=20230601; t=1759553854; x=1760158654; h=cc:to:from:subject:message-id:date:x-gm-message-state:from:to:cc :subject:date:message-id:reply-to; bh=4/JXIeOakcrKBawGEj6HhthAJ5udzC0ER2HtU/7gaBc=; b=HlHQtsZN0jkGeKOzAnQNubmmOPh/xlyGegwgwoYw7df0s4D4INDTjEbxV0WmdnSnfg LYoO04I8aJZ4UBoo5pqbfYV84fDlf1c9WXuSei0Z3JFvxWi8c5F3FqRe3D57z1Ky0wSx YhJAcU+3WUcm28z6OLyh8Y6QsC4733o2bDd27X0VExs2fpZtw2nSCYDTH6+4eGKeFGBW uVha4M9KQpi5gA9Ov3Qr3ONr64+Y7AZkiLHaI/5tnYUekHbGFeRhn9I0ywT7Rwy8yn2d wk0mjLj3mmW6M8B/TeGYvEWRCTXRkM50U16nB+siyXsuAsvkZTWc4jnS91wd70OuZO37 X19Q== X-Gm-Message-State: AOJu0YxpDQV/BvHGn55AmznwjPclqoHoDJo2RUGRHJn/fyM5EU4a1OjZ /N7VASuPIzONFmvUQ3/eI7a0xUadobBh4P9ErsECg9EQRc/JR96m3pPdt2CxtZ0zjZR7hAgQ7k6 UrxiO3EWOgbDUn2pLnHaDkqiuUsBOUkCj2dnX X-Gm-Gg: ASbGnctDblQvDZAIYLOKul5490U7NWCV5VqWQlaaNwiLYs3BvVBOHfIOrPxTs9k2Yik Zl50EdNFQybleX2RB5eT3FtGQyeUXp5XI4mjNoRC+U8kThx9PYK+4YXb6GQfgSQ2pUDwvZ7nCCm T+pby+yDgmOuw97EI8LiGylZ94W0V6tke8istfWuBuWmGaqFIvuCRhB4dnzT35t5x3KGuCGdibf URmZXL/QVGdkrFEp9E7JP2wKKTiIhnCSst92V/V+OtRxdvPDLu0jdNXiNLPatbQkONJLMYlbDzA eTSQHoV6xMH++LVkCBonVWaycE9HeEY8kEan5X8ATCuswdnzXp6nOlkZu8u7Ev70ASrYscTPr25 7gw== X-Google-Smtp-Source: AGHT+IFRk2qz+2LKzBNFeQkZRdswx9Gvk6mO3UL6qLJ0JOQXsuuFK379Fe5OCqHCG0j0N/Dp+mJ8sf8daRUl X-Received: by 2002:a05:690c:e0a:b0:773:e84f:ece5 with SMTP id 00721157ae682-77f94591e87mr74506357b3.2.1759553854134; Fri, 03 Oct 2025 21:57:34 -0700 (PDT) Received: from postal.iol.unh.edu (postal.iol.unh.edu. [132.177.123.84]) by smtp-relay.gmail.com with ESMTPS id 00721157ae682-77f94557642sm2106367b3.24.2025.10.03.21.57.34 (version=TLS1_2 cipher=ECDHE-ECDSA-AES128-GCM-SHA256 bits=128/128); Fri, 03 Oct 2025 21:57:34 -0700 (PDT) X-Relaying-Domain: iol.unh.edu Date: Fri, 03 Oct 2025 21:57:34 -0700 (PDT) Message-ID: <68e0a93e.050a0220.302f17.ce21SMTPIN_ADDED_MISSING@mx.google.com> Received: from [172.21.0.3] (unknown [172.18.0.240]) by postal.iol.unh.edu (Postfix) with ESMTP id BC85A6051830; Sat, 4 Oct 2025 00:57:33 -0400 (EDT) Subject: |SUCCESS| [GIT MASTER] b287e404643aeab5bb5db084c142789df187844e From: dpdklab@iol.unh.edu To: Test Report Cc: dpdk-test-reports@iol.unh.edu, Xueming Li , Christian Ehrhardt , Kevin Traynor , Luca Boccassi Content-Type: text/plain X-BeenThere: test-report@dpdk.org X-Mailman-Version: 2.1.29 Precedence: list List-Id: automatic DPDK test reports List-Unsubscribe: , List-Archive: List-Post: List-Help: List-Subscribe: , Errors-To: test-report-bounces@dpdk.org _Testing PASS_ Branch: tags/v24.11 b287e404643aeab5bb5db084c142789df187844e --> testing pass Upstream job id: Windows-Compile-DPDK-Native#31420 Test environment and result as below: +---------------------+--------------------+-------------------+-------------------------+----------------------+ | Environment | dpdk_meson_compile | dpdk_msvc_compile | dpdk_llvm_clang_compile | dpdk_mingw64_compile | +=====================+====================+===================+=========================+======================+ | Ubuntu 20.04 | PASS | SKIPPED | SKIPPED | SKIPPED | +---------------------+--------------------+-------------------+-------------------------+----------------------+ | FreeBSD 14.2 | PASS | SKIPPED | SKIPPED | SKIPPED | +---------------------+--------------------+-------------------+-------------------------+----------------------+ | Windows Server 2022 | SKIPPED | PASS | PASS | PASS | +---------------------+--------------------+-------------------+-------------------------+----------------------+ Ubuntu 20.04 Kernel: 4.19 Compiler: gcc gcc (Ubuntu 9.4.0-1ubuntu1~20.04.2) 9.4.0 FreeBSD 14.2 Kernel: 14.2-RELEASE Compiler: clang 18.1.6 Windows Server 2022 Kernel: 10.0.20348.2031 Compiler: clang 15.0.7, gcc 14.1.0 (MinGW), and MSVC VS 19.39.33521 To view detailed results, visit: https://lab.dpdk.org/results/dashboard/tarballs/35107/ UNH-IOL DPDK Community Lab To manage your email subscriptions, visit: https://lab.dpdk.org/results/dashboard/preferences/subscriptions/