From mboxrd@z Thu Jan 1 00:00:00 1970 Return-Path: Received: from mails.dpdk.org (mails.dpdk.org [217.70.189.124]) by inbox.dpdk.org (Postfix) with ESMTP id 906A9488A8 for ; Sat, 4 Oct 2025 08:01:07 +0200 (CEST) Received: from mails.dpdk.org (localhost [127.0.0.1]) by mails.dpdk.org (Postfix) with ESMTP id 79DBA4014F; Sat, 4 Oct 2025 08:01:07 +0200 (CEST) Received: from mail-ot1-f97.google.com (mail-ot1-f97.google.com [209.85.210.97]) by mails.dpdk.org (Postfix) with ESMTP id D61584014F for ; Sat, 4 Oct 2025 08:01:06 +0200 (CEST) Received: by mail-ot1-f97.google.com with SMTP id 46e09a7af769-7b6ac55cf86so1858213a34.1 for ; Fri, 03 Oct 2025 23:01:06 -0700 (PDT) DKIM-Signature: v=1; a=rsa-sha256; c=relaxed/relaxed; d=iol.unh.edu; s=unh-iol; t=1759557666; x=1760162466; darn=dpdk.org; h=cc:to:from:subject:message-id:date:from:to:cc:subject:date :message-id:reply-to; bh=kh0pmRyTA0wjd2RI56Y+58IgdxZTITUPOuMFVIa2oS8=; b=ES4fr8t+tjGNIqtxLt47zC0qdux5R0beQQz3Px4Q9yvFmYFCOKiH5pvwxH2fOuodAu R3TnRa+sRYsbbdaVniXrNVqIzm/rZhDHQcCqxikWOnZv2PZb1RRZ9YhqLu8JSTK+k9Zk WdQPBSJKBnpJsbo+Lk8JJxBrehvsPcFE7HGRE= X-Google-DKIM-Signature: v=1; a=rsa-sha256; c=relaxed/relaxed; d=1e100.net; s=20230601; t=1759557666; x=1760162466; h=cc:to:from:subject:message-id:date:x-gm-message-state:from:to:cc :subject:date:message-id:reply-to; bh=kh0pmRyTA0wjd2RI56Y+58IgdxZTITUPOuMFVIa2oS8=; b=WnBGkC+dO2m7h9lz8Vwl0G5fAXA0Nw1D0ewo2jn1nRhbB+k1TSC+7C4BUliXCG+oQ3 +yiDG9lp9v2I1a5T7mhIJJPNz1sVg06Jd8thZp5yz14GsLb8LjAJv70hfWvirGQZqH+7 lrb9Lp0LSQTbucq6/JXzB8p0DaD7vwqwhTHt2Ug+E3IXPYaZ8pD5fuiFzDJiOlERKAke PJY839EtDeFchl1P4B4mIai7EJwkFvF+V2+Zsx5LlKItjOuQb36m+EjhWNhqcfi6GjvQ WeCdav8n+VDeQhTsxE0YWfIJd0193CsEPvEwBf1ST/67OED3/oApAIzBKWrWPWFVwOS+ sPSw== X-Gm-Message-State: AOJu0YxKe7lr4G3tsEZLpn8SVxmS4dQjuF+2KLtjGVtO+KECchcDFXU4 oq6HnW0mslhmVGBEfih9kDs11QrZYz4Qm8mA4B4suZFFny7IV28HTbqTHb1vOZW/OlxYwznHtOr R5z8NkGWZzk2o7qDbYlIumYQt+ODtTuvHQ5zHrcrD3Vo8qUe1cTW7 X-Gm-Gg: ASbGncuTfB0j+xKEljKhwipQ8FP/FqqJImxh4vQOPcDm+ro53uS4/RFF4HFhCafSvzM 36/YAb9CBEevoeiHkXvblInWquV/GFof1Hq1WNb3xRuWgUGR1IcfsQdTDXYqCXsUBeKTpFnmE9Q TEAiNKsUKlAM3ZC5TaxBUl9VZ389sLmbAl34KrWal+1aU7lzla5f515IZYjuEIb+oga14WW3ilC 1zmpbe8VR5WqFGKWRvGjC1u9UF32w1nKMOgMvRwwTVKm66lYCvmiobwZ4EX+YTBAXF4c4bKK6bq AYddbBX/Xp10q0ZhB+7FyEoOjeHWe3EoDRyn1xlPRD+POuSyRBrapUU= X-Google-Smtp-Source: AGHT+IFF6cXUtOhyg6AzvAQXhINMj230TMEM270T+si19Z6PKTJ5oZYRtegu7mXT0F75TaZU8G69yJCqFgkE X-Received: by 2002:a05:6830:6d14:b0:7b4:116d:98c5 with SMTP id 46e09a7af769-7bf77531cbcmr2979618a34.21.1759557665992; Fri, 03 Oct 2025 23:01:05 -0700 (PDT) Received: from postal.iol.unh.edu (postal.iol.unh.edu. [2606:4100:3880:1234::84]) by smtp-relay.gmail.com with ESMTPS id 46e09a7af769-7bf4161518dsm466246a34.4.2025.10.03.23.01.05 (version=TLS1_2 cipher=ECDHE-ECDSA-AES128-GCM-SHA256 bits=128/128); Fri, 03 Oct 2025 23:01:05 -0700 (PDT) X-Relaying-Domain: iol.unh.edu Date: Fri, 03 Oct 2025 23:01:05 -0700 (PDT) Message-ID: <68e0b821.050a0220.1a6c7d.d783SMTPIN_ADDED_MISSING@mx.google.com> Received: from [172.21.0.3] (unknown [172.18.0.240]) by postal.iol.unh.edu (Postfix) with ESMTP id 7F1F36051830; Sat, 4 Oct 2025 02:01:05 -0400 (EDT) Subject: |SUCCESS| [GIT MASTER] b287e404643aeab5bb5db084c142789df187844e From: dpdklab@iol.unh.edu To: Test Report Cc: dpdk-test-reports@iol.unh.edu, Xueming Li , Christian Ehrhardt , Kevin Traynor , Luca Boccassi Content-Type: text/plain X-BeenThere: test-report@dpdk.org X-Mailman-Version: 2.1.29 Precedence: list List-Id: automatic DPDK test reports List-Unsubscribe: , List-Archive: List-Post: List-Help: List-Subscribe: , Errors-To: test-report-bounces@dpdk.org _Testing PASS_ Branch: tags/v24.11 b287e404643aeab5bb5db084c142789df187844e --> testing pass Upstream job id: Generic-Unit-Test-DPDK#378523 Test environment and result as below: +-------------------------------+----------------+ | Environment | dpdk_unit_test | +===============================+================+ | CentOS Stream 9 | PASS | +-------------------------------+----------------+ | CentOS Stream 10 | PASS | +-------------------------------+----------------+ | Debian GNU/Linux 12 | PASS | +-------------------------------+----------------+ | Fedora Linux 41 | PASS | +-------------------------------+----------------+ | Fedora Linux 40 | PASS | +-------------------------------+----------------+ | Fedora Linux 42 | PASS | +-------------------------------+----------------+ | Red Hat Enterprise Linux 8.10 | PASS | +-------------------------------+----------------+ | Ubuntu 20.04 | PASS | +-------------------------------+----------------+ | Ubuntu 24.04 | PASS | +-------------------------------+----------------+ | Red Hat Enterprise Linux 9.5 | PASS | +-------------------------------+----------------+ | Ubuntu 22.04 | PASS | +-------------------------------+----------------+ | Windows Server 2022 | PASS | +-------------------------------+----------------+ CentOS Stream 9 Kernel: 5.15 Compiler: gcc gcc (GCC) 11.5.0 20240719 (Red Hat 11.5.0-11) CentOS Stream 10 Kernel: 5.15 Compiler: gcc gcc (GCC) 14.2.1 20250110 (Red Hat 14.2.1-8) Debian GNU/Linux 12 Kernel: 5.15 Compiler: gcc gcc (Debian 12.2.0-14+deb12u1) 12.2.0 Fedora Linux 41 Kernel: 5.15 Compiler: clang gcc (GCC) 14.3.1 20250523 (Red Hat 14.3.1-1) Fedora Linux 40 Kernel: 5.15 Compiler: clang gcc (GCC) 14.2.1 20240912 (Red Hat 14.2.1-3) Fedora Linux 42 Kernel: 5.15 Compiler: gcc gcc (GCC) 15.2.1 20250808 (Red Hat 15.2.1-1) Red Hat Enterprise Linux 8.10 Kernel: 5.15 Compiler: gcc gcc (GCC) 8.5.0 20210514 (Red Hat 8.5.0-22) Ubuntu 20.04 Kernel: 5.15 Compiler: gcc gcc (Ubuntu 9.4.0-1ubuntu1~20.04.2) 9.4.0 Ubuntu 24.04 Kernel: 5.15 Compiler: gcc gcc (Ubuntu 13.3.0-6ubuntu2~24.04) 13.3.0 Red Hat Enterprise Linux 9.5 Kernel: 5.15 Compiler: gcc gcc (GCC) 11.5.0 20240719 (Red Hat 11.5.0-2) Ubuntu 22.04 Kernel: 5.15 Compiler: gcc gcc (Ubuntu 11.4.0-1ubuntu1~22.04) 11.4.0 Windows Server 2022 Kernel: 10.0.20348.2031 Compiler: clang 15.0.7, gcc 14.1.0 (MinGW), and MSVC VS 19.39.33521 To view detailed results, visit: https://lab.dpdk.org/results/dashboard/tarballs/35107/ UNH-IOL DPDK Community Lab To manage your email subscriptions, visit: https://lab.dpdk.org/results/dashboard/preferences/subscriptions/