From mboxrd@z Thu Jan 1 00:00:00 1970 Return-Path: Received: from mails.dpdk.org (mails.dpdk.org [217.70.189.124]) by inbox.dpdk.org (Postfix) with ESMTP id 069A1488A8 for ; Sat, 4 Oct 2025 08:05:10 +0200 (CEST) Received: from mails.dpdk.org (localhost [127.0.0.1]) by mails.dpdk.org (Postfix) with ESMTP id D4D064014F; Sat, 4 Oct 2025 08:05:09 +0200 (CEST) Received: from mail-pg1-f225.google.com (mail-pg1-f225.google.com [209.85.215.225]) by mails.dpdk.org (Postfix) with ESMTP id 8E29F4014F for ; Sat, 4 Oct 2025 08:05:08 +0200 (CEST) Received: by mail-pg1-f225.google.com with SMTP id 41be03b00d2f7-b57bf560703so2192034a12.2 for ; Fri, 03 Oct 2025 23:05:08 -0700 (PDT) DKIM-Signature: v=1; a=rsa-sha256; c=relaxed/relaxed; d=iol.unh.edu; s=unh-iol; t=1759557908; x=1760162708; darn=dpdk.org; h=cc:to:from:subject:message-id:date:from:to:cc:subject:date :message-id:reply-to; bh=xSJ8WAOgU395mCyIY/3BzUZcUIjIwcHXIEkGdZM5SYQ=; b=HVTnxmG+Q+wV5N2aEj1kL0j1aIe3NbL6oGVKPAJCdOJLin+VH4bp1GA18G9vABT0hn EsJy3ot8p1xoumZTRn8M9WBOp7fckZU8MQXcQ41E3fNYbDVucHsWmi7gjBYkPg0JEvV4 WAqtsO3Y5jc2LADsSNqr4OzIMIq3WPrBEXJTc= X-Google-DKIM-Signature: v=1; a=rsa-sha256; c=relaxed/relaxed; d=1e100.net; s=20230601; t=1759557908; x=1760162708; h=cc:to:from:subject:message-id:date:x-gm-message-state:from:to:cc :subject:date:message-id:reply-to; bh=xSJ8WAOgU395mCyIY/3BzUZcUIjIwcHXIEkGdZM5SYQ=; b=YNyQbMWy+yQ7mKyu6cf91VhE1CSme+YAp80khS3Jc4nOYgkLmLFVZo+EQXjqFDa+55 1JMSbKpjeY5e6JyvKIjfX/Ndz4z7QOXQeizm4/MC56JCHgg+CQbjzU86FjV8vvPNNyPN tuS3xvX4un/Uckyb1YLYLa/U8kWUi4rJqZdv6TS/nLou2PhmGcE92hgqUPJ+Hx0yy46e VoQfWlBm4rbP4KVd01LFf0Ui2+tlSxrS7w1m1Xmh0ugCVmSMlDo9Xfgn4ko7rxUnJcwt 5QK516VZsonLYNNNkFvJEaVp3H6SqFmYV9G6Zea5uu6wSZcJrWNN/xXWA5MzIy0om5qw 5VTg== X-Gm-Message-State: AOJu0Yyc940WTJsBjiMdOZcQEBcKYsUw4zlrQSoIQALgOklfGSJoTfwL QI0DZC4oJLweQjuzwGaaA381c8ZkWSJy2jS1nPjLNIH/EJ8cpAH2vfkVUEZJVAxfoFemIKJWy82 WxG2JTPo/NMw0LXTII5eCYmcmfaSWgvXQSEkQz0J12LQOMaCZ12Pz/Cw+6wfH X-Gm-Gg: ASbGncsLX/ScFelKVsN3vjkDicspSwIM7Qg3GdSMBrvVbXp2jnmtunJ+rm99nSA5DD2 J7mO6QTL/CtuSgD1o+ny2YPG8Ey5BfttcQ+cWUnizIgX6CPh0SaUEcHWlG/mKItH1hEj/4rzsWr aMKM+MCX4FVIEl8vu6W0jKVsB+l68OB/yXakyitAi+gS4pf3eU1fZJ9m315TTzux190+M75nE7V MV+9roZzfjoeDaosKBl8s4m7p+TuaruYaco2tPxxqzUbUmHMSZj7v7Fi2tycLNDnhM07sOCit6c x0wKpfO+r7s1QBNb5ffLOTha+JmTwLnT85Ewi46XqAw617e5WGfNbDI= X-Google-Smtp-Source: AGHT+IGHLxpokxOnczhRF5+ih6XMJNQjrFjVqE+9O3DLyQWd26wMHHZ9Yerc4JUMSVfXL79j7pG+5tf3LFFJ X-Received: by 2002:a17:903:1b46:b0:263:6d3f:1c48 with SMTP id d9443c01a7336-28e9a5ff430mr59896815ad.33.1759557907641; Fri, 03 Oct 2025 23:05:07 -0700 (PDT) Received: from postal.iol.unh.edu (postal.iol.unh.edu. [2606:4100:3880:1234::84]) by smtp-relay.gmail.com with ESMTPS id d9443c01a7336-28e8d1b2e69sm5327065ad.72.2025.10.03.23.05.07 (version=TLS1_2 cipher=ECDHE-ECDSA-AES128-GCM-SHA256 bits=128/128); Fri, 03 Oct 2025 23:05:07 -0700 (PDT) X-Relaying-Domain: iol.unh.edu Date: Fri, 03 Oct 2025 23:05:07 -0700 (PDT) Message-ID: <68e0b913.170a0220.19e26.0879SMTPIN_ADDED_MISSING@mx.google.com> Received: from [172.21.0.2] (unknown [172.18.0.240]) by postal.iol.unh.edu (Postfix) with ESMTP id E88C46051830; Sat, 4 Oct 2025 02:05:06 -0400 (EDT) Subject: |SUCCESS| [GIT MASTER] 2ffda8c2e357662354ee6ddcca769258c33642a9 From: dpdklab@iol.unh.edu To: Test Report Cc: dpdk-test-reports@iol.unh.edu Content-Type: text/plain X-BeenThere: test-report@dpdk.org X-Mailman-Version: 2.1.29 Precedence: list List-Id: automatic DPDK test reports List-Unsubscribe: , List-Archive: List-Post: List-Help: List-Subscribe: , Errors-To: test-report-bounces@dpdk.org _Testing PASS_ Branch: dpdk 2ffda8c2e357662354ee6ddcca769258c33642a9 --> testing pass Upstream job id: Generic-DPDK-Compile-Meson#430746 Test environment and result as below: +---------------------+--------------------+-------------------+-------------------------+----------------------+-------------------+ | Environment | dpdk_meson_compile | dpdk_msvc_compile | dpdk_llvm_clang_compile | dpdk_mingw64_compile | dpdk_compile_spdk | +=====================+====================+===================+=========================+======================+===================+ | Ubuntu 20.04 | PASS | SKIPPED | SKIPPED | SKIPPED | SKIPPED | +---------------------+--------------------+-------------------+-------------------------+----------------------+-------------------+ | FreeBSD 14.2 | PASS | SKIPPED | SKIPPED | SKIPPED | SKIPPED | +---------------------+--------------------+-------------------+-------------------------+----------------------+-------------------+ | CentOS Stream 9 | PASS | SKIPPED | SKIPPED | SKIPPED | PASS | +---------------------+--------------------+-------------------+-------------------------+----------------------+-------------------+ | Windows Server 2022 | SKIPPED | PASS | PASS | PASS | SKIPPED | +---------------------+--------------------+-------------------+-------------------------+----------------------+-------------------+ Ubuntu 20.04 Kernel: 4.19 Compiler: gcc gcc (Ubuntu 9.4.0-1ubuntu1~20.04.2) 9.4.0 FreeBSD 14.2 Kernel: 14.2-RELEASE Compiler: clang 18.1.6 CentOS Stream 9 Kernel: 5.15 Compiler: gcc gcc (GCC) 11.5.0 20240719 (Red Hat 11.5.0-11) Windows Server 2022 Kernel: 10.0.20348.2031 Compiler: clang 15.0.7, gcc 14.1.0 (MinGW), and MSVC VS 19.39.33521 To view detailed results, visit: https://lab.dpdk.org/results/dashboard/tarballs/35081/ UNH-IOL DPDK Community Lab To manage your email subscriptions, visit: https://lab.dpdk.org/results/dashboard/preferences/subscriptions/