From mboxrd@z Thu Jan 1 00:00:00 1970 Return-Path: Received: from mails.dpdk.org (mails.dpdk.org [217.70.189.124]) by inbox.dpdk.org (Postfix) with ESMTP id 516D4488A9 for ; Sat, 4 Oct 2025 08:08:47 +0200 (CEST) Received: from mails.dpdk.org (localhost [127.0.0.1]) by mails.dpdk.org (Postfix) with ESMTP id 342674014F; Sat, 4 Oct 2025 08:08:47 +0200 (CEST) Received: from mail-io1-f97.google.com (mail-io1-f97.google.com [209.85.166.97]) by mails.dpdk.org (Postfix) with ESMTP id 390E24014F for ; Sat, 4 Oct 2025 08:08:46 +0200 (CEST) Received: by mail-io1-f97.google.com with SMTP id ca18e2360f4ac-91f6ccdbfc8so161136539f.1 for ; Fri, 03 Oct 2025 23:08:46 -0700 (PDT) DKIM-Signature: v=1; a=rsa-sha256; c=relaxed/relaxed; d=iol.unh.edu; s=unh-iol; t=1759558125; x=1760162925; darn=dpdk.org; h=cc:to:from:subject:message-id:date:from:to:cc:subject:date :message-id:reply-to; bh=/iWKuqzO8Mg8WiJ4gOAcDNfKR+UuGVNb9CEqmYQ/Pnc=; b=N+ZpEMFwr3Vu6bxH3tUx5x04ndtXcd/bfi92yIRqJ6XOX8NrLeO5WR0dqjKsHJnSmb +dxXuiw6FwouuTyXhS4ab5wLTKyXbiyQS26ikkFTfDVfsYywao0dmYfWvPtFfNKJaqJN FRyl5KUZfmsEMy751Ec01r9Q+pEmiyhmtvR7k= X-Google-DKIM-Signature: v=1; a=rsa-sha256; c=relaxed/relaxed; d=1e100.net; s=20230601; t=1759558125; x=1760162925; h=cc:to:from:subject:message-id:date:x-gm-message-state:from:to:cc :subject:date:message-id:reply-to; bh=/iWKuqzO8Mg8WiJ4gOAcDNfKR+UuGVNb9CEqmYQ/Pnc=; b=mkpv/XtmtC15fIxmNUTihRMOHaEzPeIWb3/h5zmW+mXR2Mo7Fvn1EvuZFREtSsRbG2 c0Y0YxgexCzVrg8dL6gflkF9VnqEGGw4mNRgkA3n6PTnPGtxmoHyds5qy2ruslhPmZyV cR4DY6OaqwVdUwC6EhFnEVOHA93oCfFphXYl2JcaI35UnZ1PeNvznkhunQ/MkYPzy/K2 HammGxfeOpeYqO0gRNU0inT0XKPmMmnNDK5znxL5HcRxAVcob3bTG5qWtkbP+gZZgBOS koVlNvgZLcn5Msr35pJ54sBt2zoUL7FkncqWA6eqGYziaDZiUuwWossg12CCm3U0Z8h3 Yd1w== X-Gm-Message-State: AOJu0YydoWhF+MDBsYyCf4a4QSLtnT6ehSXgCtAqwu+UjOAgj0xAvOZL x9vS6JiD3P8MjPLaLeZyMblH8vCvLBMIDpA6OJWOCmcLXn256cyZhjUkBFSu3Vpiof0Q2qrbRby 7yVhW0DHLbPpjxdtsrjVlkzZVvoKiDGsyqOLigIIKekleHhyGZqLZ X-Gm-Gg: ASbGncu4wFheF7xdpj+soqtH1OLIGJQ4ELsztUTJv1NX8A1uINg5iMvNAL/yLsAqWyC /pyMVLxjXknzHlToCh+G9p9zBS5T3u37ghTKXe2dzpEmsojOruKcfN8K/Z7/8dbpNyfXal1Vg1B 4fZ4Hn3KS6YGSm2JBtHgPKphMmlpNkAl6+cTMPWoX9yemopUjI8ip1ynVbWtB8yoR3iGBroBpTQ n7akpSFza5QkT4tqaPf9oELRJbaiaC0IJq+iN0CoXPYbM9URwRvHmqejpifA69QTRMRxbF6u0mo AnZW1sSo10L4SGLUyDRU2S7WrDipFod8ll5EfHg/4fhSX6uGMHS8Emw= X-Google-Smtp-Source: AGHT+IHxTCrHp5V7K1QCk0yyQxTgCuJRHQZfymGKyqxr9lyclTK4vG4J4Dcfyt4fzUbC/gIUhmEjrZhQjNYj X-Received: by 2002:a05:6e02:1d94:b0:426:dc47:c8cc with SMTP id e9e14a558f8ab-42e7ad9a74fmr68105275ab.23.1759558125328; Fri, 03 Oct 2025 23:08:45 -0700 (PDT) Received: from postal.iol.unh.edu (postal.iol.unh.edu. [2606:4100:3880:1234::84]) by smtp-relay.gmail.com with ESMTPS id 8926c6da1cb9f-57b5eafe3f4sm522571173.13.2025.10.03.23.08.45 (version=TLS1_2 cipher=ECDHE-ECDSA-AES128-GCM-SHA256 bits=128/128); Fri, 03 Oct 2025 23:08:45 -0700 (PDT) X-Relaying-Domain: iol.unh.edu Date: Fri, 03 Oct 2025 23:08:45 -0700 (PDT) Message-ID: <68e0b9ed.050a0220.225d4c.07bbSMTPIN_ADDED_MISSING@mx.google.com> Received: from [172.21.0.4] (unknown [172.18.0.240]) by postal.iol.unh.edu (Postfix) with ESMTP id D9E426051830; Sat, 4 Oct 2025 02:08:44 -0400 (EDT) Subject: |SUCCESS| [GIT MASTER] b287e404643aeab5bb5db084c142789df187844e From: dpdklab@iol.unh.edu To: Test Report Cc: dpdk-test-reports@iol.unh.edu, Xueming Li , Christian Ehrhardt , Kevin Traynor , Luca Boccassi Content-Type: text/plain X-BeenThere: test-report@dpdk.org X-Mailman-Version: 2.1.29 Precedence: list List-Id: automatic DPDK test reports List-Unsubscribe: , List-Archive: List-Post: List-Help: List-Subscribe: , Errors-To: test-report-bounces@dpdk.org _Testing PASS_ Branch: tags/v24.11 b287e404643aeab5bb5db084c142789df187844e --> testing pass Upstream job id: Generic-DPDK-Compile-Meson#430638 Test environment and result as below: +------------------------------+--------------------+ | Environment | dpdk_meson_compile | +==============================+====================+ | Ubuntu 20.04 | PASS | +------------------------------+--------------------+ | CentOS Stream 10 | PASS | +------------------------------+--------------------+ | Red Hat Enterprise Linux 9.5 | PASS | +------------------------------+--------------------+ | Debian GNU/Linux 12 | PASS | +------------------------------+--------------------+ | Fedora Linux 42 | PASS | +------------------------------+--------------------+ | Ubuntu 22.04 | PASS | +------------------------------+--------------------+ | Ubuntu 24.04 | PASS | +------------------------------+--------------------+ | CentOS Stream 9 | PASS | +------------------------------+--------------------+ Ubuntu 20.04 Kernel: 5.4 Compiler: gcc gcc (Ubuntu 9.4.0-1ubuntu1~20.04.2) 9.4.0 CentOS Stream 10 Kernel: 5.4 Compiler: gcc gcc (GCC) 14.2.1 20250110 (Red Hat 14.2.1-8) Red Hat Enterprise Linux 9.5 Kernel: 5.4 Compiler: gcc gcc (GCC) 11.5.0 20240719 (Red Hat 11.5.0-2) Debian GNU/Linux 12 Kernel: 5.4 Compiler: gcc gcc (Debian 12.2.0-14+deb12u1) 12.2.0 Fedora Linux 42 Kernel: 5.4 Compiler: gcc gcc (GCC) 15.2.1 20250808 (Red Hat 15.2.1-1) Ubuntu 22.04 Kernel: 5.4 Compiler: gcc gcc (Ubuntu 11.4.0-1ubuntu1~22.04) 11.4.0 Ubuntu 24.04 Kernel: 5.4 Compiler: gcc gcc (Ubuntu 13.3.0-6ubuntu2~24.04) 13.3.0 CentOS Stream 9 Kernel: 5.4 Compiler: gcc gcc (GCC) 11.5.0 20240719 (Red Hat 11.5.0-11) To view detailed results, visit: https://lab.dpdk.org/results/dashboard/tarballs/35069/ UNH-IOL DPDK Community Lab To manage your email subscriptions, visit: https://lab.dpdk.org/results/dashboard/preferences/subscriptions/