From mboxrd@z Thu Jan 1 00:00:00 1970 Return-Path: Received: from mails.dpdk.org (mails.dpdk.org [217.70.189.124]) by inbox.dpdk.org (Postfix) with ESMTP id 0C46A488A9 for ; Sat, 4 Oct 2025 08:16:57 +0200 (CEST) Received: from mails.dpdk.org (localhost [127.0.0.1]) by mails.dpdk.org (Postfix) with ESMTP id 077834014F; Sat, 4 Oct 2025 08:16:57 +0200 (CEST) Received: from mail-pf1-f225.google.com (mail-pf1-f225.google.com [209.85.210.225]) by mails.dpdk.org (Postfix) with ESMTP id 459C74014F for ; Sat, 4 Oct 2025 08:16:56 +0200 (CEST) Received: by mail-pf1-f225.google.com with SMTP id d2e1a72fcca58-781997d195aso2139317b3a.3 for ; Fri, 03 Oct 2025 23:16:56 -0700 (PDT) DKIM-Signature: v=1; a=rsa-sha256; c=relaxed/relaxed; d=iol.unh.edu; s=unh-iol; t=1759558615; x=1760163415; darn=dpdk.org; h=references:in-reply-to:cc:to:from:subject:message-id:date:from:to :cc:subject:date:message-id:reply-to; bh=N3LdwrCpC328s0JT+HHebNfGNd3NHK3dyg4QVK62oOU=; b=I543lwGuDvCRJhyjeUI1EgScKlH/QaI/iHw49Sj4KpaUt+8Olmemlx97CdU4jDq4oI Jp/scdYXpHcFTbk9BP5iF4AzpvjlRDb85zVMPeRUp6C9RZTqjPVX5V5GgwN/2wdnB9LF h5j5nJxrv5z6Wc/aQ+WwMHFGYPLKd1DOfp2do= X-Google-DKIM-Signature: v=1; a=rsa-sha256; c=relaxed/relaxed; d=1e100.net; s=20230601; t=1759558615; x=1760163415; h=references:in-reply-to:cc:to:from:subject:message-id:date :x-gm-message-state:from:to:cc:subject:date:message-id:reply-to; bh=N3LdwrCpC328s0JT+HHebNfGNd3NHK3dyg4QVK62oOU=; b=mLWjkvZjMVw2eEZf5c+7W62+a8QYDUlzBiQJ1uFiS4clq2duRwardaVSf3fzCGSWtb +xI5vVM6lperh6TGUXG9Ab8sy5FjGz+fVxvngbY+wKUSnnKYR6m42VuWtMF4HFC5tKK8 Zs2LixfN/S2G9JGCsRtSwAW1hWgu9jlVGa8Ru797F9fQ2UyKE0Ei+XKWTZ2o8UrdS+Tj rlw5EwUSG4hyVl2WnkZDsBJKkXpKH1PwnZsulcM1omZVIkUKOsRU0mudfxOTygeEsTyt Zb2Zavskb2V5DHp0qrOMy32LxkVUEuzXUHeHQbRkfaqXubGa4Bmuaa+bRJb3rRnC8HJo gFUQ== X-Gm-Message-State: AOJu0YzA85D7RqgeqJrcvjdy6AWLjag7xS1W/Npkuu4f8lXqd3oygzEN csV8YBEUad8gnt6f0e4o5U9s/6O1qmxrCl2vTUP6243T+ldYnzO6jZcpmqoNihgvg0GDvGTIutb nKOZ1uNL+iQzTXxq6LxQDsQ7qJdZEA3BkBA44rBsjubUn3ROYAyrsyCBBnCR2 X-Gm-Gg: ASbGncvJtWYzcNAkSHOcke0uHOY27PR53c8lAvtjlNlINGcckaNO8LGb0vdQD9vXtFq IWAApUT3itTNvKWff0cTRnMl197mNAUsxq2T62gl4kI0MZC37i/V+wI+zOap3nyUjZ4qHk3hDid mVU9uNr6kVIV2TdEgZxry7Dpc0a+O+ZYWYzGhD1teqMXM++8XXYxGDbqKMQFhSkP88vgLHHA2ct er/u0cDl2N//aU/abcGzfAK7qj8NE44rzlVQTTxXbicoA2qZaIaM8dKge+m6FuvlWllC61BbNvS 63i0oKv3VfhwG97JbZIBDUcllls09K/b20QtbUlqQm7T/OCvCF3MWFc= X-Google-Smtp-Source: AGHT+IHtH/70wU4gp4LORHW8YiEaFHWs0vy3/LtfSkhw3xvP9IHMLigpxk6/fcf6ppTxle/C1EUFGL910zkr X-Received: by 2002:a05:6a21:999d:b0:2f6:cabe:a7a8 with SMTP id adf61e73a8af0-32b6209626amr6810577637.32.1759558615467; Fri, 03 Oct 2025 23:16:55 -0700 (PDT) Received: from postal.iol.unh.edu (postal.iol.unh.edu. [2606:4100:3880:1234::84]) by smtp-relay.gmail.com with ESMTPS id d2e1a72fcca58-78b0202e118sm555427b3a.11.2025.10.03.23.16.55 (version=TLS1_2 cipher=ECDHE-ECDSA-AES128-GCM-SHA256 bits=128/128); Fri, 03 Oct 2025 23:16:55 -0700 (PDT) X-Relaying-Domain: iol.unh.edu Date: Fri, 03 Oct 2025 23:16:55 -0700 (PDT) Message-ID: <68e0bbd7.050a0220.22b35f.2257SMTPIN_ADDED_MISSING@mx.google.com> Received: from [172.21.0.3] (unknown [172.18.0.240]) by postal.iol.unh.edu (Postfix) with ESMTP id BDAA66051830; Sat, 4 Oct 2025 02:16:54 -0400 (EDT) Subject: |SUCCESS| pw157156-157164 [PATCH] [v7,9/9] power: separate public an From: dpdklab@iol.unh.edu To: Test Report Cc: dpdk-test-reports@iol.unh.edu In-Reply-To: <20251001064512.2539269-10-david.marchand@redhat.com> References: <20251001064512.2539269-10-david.marchand@redhat.com> Content-Type: text/plain X-BeenThere: test-report@dpdk.org X-Mailman-Version: 2.1.29 Precedence: list List-Id: automatic DPDK test reports List-Unsubscribe: , List-Archive: List-Post: List-Help: List-Subscribe: , Errors-To: test-report-bounces@dpdk.org Test-Label: iol-compile-arm64-testing Test-Status: SUCCESS http://dpdk.org/patch/157164 _Testing PASS_ Submitter: David Marchand Date: Wednesday, October 01 2025 06:45:11 DPDK git baseline: Repo:dpdk Branch: master CommitID:f3878b615e69a12087a6c5d212723478cfc79c31 157156-157164 --> testing pass Upstream job id: Generic-DPDK-Compile-Meson#430657 Test environment and result as below: +------------------------------+--------------------+ | Environment | dpdk_meson_compile | +==============================+====================+ | Red Hat Enterprise Linux 9.5 | PASS | +------------------------------+--------------------+ | Ubuntu 20.04 | PASS | +------------------------------+--------------------+ | Debian GNU/Linux 12 | PASS | +------------------------------+--------------------+ | Fedora Linux 42 | PASS | +------------------------------+--------------------+ | Ubuntu 22.04 | PASS | +------------------------------+--------------------+ | Ubuntu 24.04 | PASS | +------------------------------+--------------------+ | CentOS Stream 9 | PASS | +------------------------------+--------------------+ | CentOS Stream 10 | PASS | +------------------------------+--------------------+ Red Hat Enterprise Linux 9.5 Kernel: 5.4 Compiler: gcc gcc (GCC) 11.5.0 20240719 (Red Hat 11.5.0-2) Ubuntu 20.04 Kernel: 5.15 Compiler: aarch64-linux-gnu-gcc gcc (Ubuntu 9.4.0-1ubuntu1~20.04.2) 9.4.0 Debian GNU/Linux 12 Kernel: 5.4 Compiler: gcc gcc (Debian 12.2.0-14+deb12u1) 12.2.0 Fedora Linux 42 Kernel: 5.4 Compiler: gcc gcc (GCC) 15.2.1 20250808 (Red Hat 15.2.1-1) Ubuntu 22.04 Kernel: 5.4 Compiler: gcc gcc (Ubuntu 11.4.0-1ubuntu1~22.04) 11.4.0 Ubuntu 24.04 Kernel: 5.4 Compiler: gcc gcc (Ubuntu 13.3.0-6ubuntu2~24.04) 13.3.0 CentOS Stream 9 Kernel: 5.4 Compiler: gcc gcc (GCC) 11.5.0 20240719 (Red Hat 11.5.0-11) CentOS Stream 10 Kernel: 5.4 Compiler: gcc gcc (GCC) 14.2.1 20250110 (Red Hat 14.2.1-8) To view detailed results, visit: https://lab.dpdk.org/results/dashboard/patchsets/34188/ UNH-IOL DPDK Community Lab To manage your email subscriptions, visit: https://lab.dpdk.org/results/dashboard/preferences/subscriptions/