From mboxrd@z Thu Jan 1 00:00:00 1970 Return-Path: Received: from mails.dpdk.org (mails.dpdk.org [217.70.189.124]) by inbox.dpdk.org (Postfix) with ESMTP id 1ECB8488A9 for ; Sat, 4 Oct 2025 08:17:22 +0200 (CEST) Received: from mails.dpdk.org (localhost [127.0.0.1]) by mails.dpdk.org (Postfix) with ESMTP id 1910A4014F; Sat, 4 Oct 2025 08:17:22 +0200 (CEST) Received: from mail-pj1-f98.google.com (mail-pj1-f98.google.com [209.85.216.98]) by mails.dpdk.org (Postfix) with ESMTP id CCAD44014F for ; Sat, 4 Oct 2025 08:17:20 +0200 (CEST) Received: by mail-pj1-f98.google.com with SMTP id 98e67ed59e1d1-33292adb180so3053960a91.3 for ; Fri, 03 Oct 2025 23:17:20 -0700 (PDT) DKIM-Signature: v=1; a=rsa-sha256; c=relaxed/relaxed; d=iol.unh.edu; s=unh-iol; t=1759558640; x=1760163440; darn=dpdk.org; h=references:in-reply-to:cc:to:from:subject:message-id:date:from:to :cc:subject:date:message-id:reply-to; bh=Ohva6z8+Dw/IZzyTa75VpeMW22LL8mr1xIizxBfmuak=; b=KHwupyEwLoeSTbiZxMkncWtRVdAft9bh0bS3xsM/VT82py+tgtHwRI5Gq8hAfiWr2t 6qaDmg7Y40uvipkt0k+fhoVhijWS2y13lnDyUrsynvOOpBc/T1ihtyIJ5rCR6c9gs2OH RmwBpRMkZ5p8sL850AUdh+In/JSmjYdiRkLi4= X-Google-DKIM-Signature: v=1; a=rsa-sha256; c=relaxed/relaxed; d=1e100.net; s=20230601; t=1759558640; x=1760163440; h=references:in-reply-to:cc:to:from:subject:message-id:date :x-gm-message-state:from:to:cc:subject:date:message-id:reply-to; bh=Ohva6z8+Dw/IZzyTa75VpeMW22LL8mr1xIizxBfmuak=; b=Y09xEtAqm1HChqNUWTZXWRGk2VM/Ev+5rVQ/tY1P0yaPF2wO8I/izVnELDSxQ+c0Id JiLD+tHR20tLEIkBmY+REKPXjZh77XjsZsrUvSTGz7dTlCKvC0cnFYCqFEZiw9GxdM/x vnT/DwbjjW0vrRLW8pb+4ofoCilmLIX5mrkDcqWhsGGiRmuNTfcldZgmefgkKB9JP9mX AoHXrfB2yq6BZeIxFPfTZY0/SdXCjVC3kYmU2277YKFLcjxK1xOaupdfF4DOHE6A3Xfl JwHGaezNvT0mNCaaYR+Sls0CtyTYngSybbe2tPt53wqASWaop92wbibUdawwRG32v2VQ 5N0A== X-Gm-Message-State: AOJu0YwcVT9LKyW9w0T0+d/gglZK5R4+PVQP8nOqEwJYa7DlP2gxYiQ4 IS5XHAF0ns9dL1LS7HcexaekQx5wWHLTMT6NCwGw5vzQzHViCmR4FvbPN7A/4JvNqpAYsk4Ym5D gR3y7RX4dijXFroY4gF+ZozidA1fB5ejbnPr2c0In4Sh1 X-Gm-Gg: ASbGncsbb+Zqc89FfCu3eF9dBgdJLSsITGhp/b8C/CKSflr29lFb10Y9jf05FP7PFSE Ca0LZX8I1imhZcDdeFmcGUTjokeuIXzpOWTCVMSdItIzgHl7rSQPPWjQUB8pV3HUet4uQf/oOjv YpZp2812k3UtRUNE2/1n1AFgVYVvmeOjOgATh7edQS7jyP/6v2SkxEpO3Wfy4x2HhkQnlChOCX8 4JKzScTzVbCFy1210lS2+UA1+mm7U6Nn1WDG8oOaEVOJiujRYBXe2LNfd4xXW2FJRScodiq5vPK OnEaCgwfII5OUKosYS7fil3wp0irvqZr1poVADUAwSR5TKCaJDS6oSv/kGQn5f/fuVcwhaVgw5i XZw== X-Google-Smtp-Source: AGHT+IHbKoZAVxkGbEeTthjhNx+2PkNMMe5miiBUNqUvQ4KsgKRHv7usSsx/xlY5Pr3VBt30l76IlIjm7GKE X-Received: by 2002:a17:90b:4f8a:b0:335:5e84:6d37 with SMTP id 98e67ed59e1d1-339c2707a83mr7347850a91.6.1759558640028; Fri, 03 Oct 2025 23:17:20 -0700 (PDT) Received: from postal.iol.unh.edu (postal.iol.unh.edu. [132.177.123.84]) by smtp-relay.gmail.com with ESMTPS id 98e67ed59e1d1-339b4f2291esm526480a91.5.2025.10.03.23.17.19 (version=TLS1_2 cipher=ECDHE-ECDSA-AES128-GCM-SHA256 bits=128/128); Fri, 03 Oct 2025 23:17:20 -0700 (PDT) X-Relaying-Domain: iol.unh.edu Date: Fri, 03 Oct 2025 23:17:20 -0700 (PDT) Message-ID: <68e0bbf0.170a0220.11642c.0d17SMTPIN_ADDED_MISSING@mx.google.com> Received: from [172.21.0.3] (unknown [172.18.0.240]) by postal.iol.unh.edu (Postfix) with ESMTP id 4498B6051830; Sat, 4 Oct 2025 02:17:19 -0400 (EDT) Subject: |SUCCESS| pw157156-157164 [PATCH] [v7,9/9] power: separate public an From: dpdklab@iol.unh.edu To: Test Report Cc: dpdk-test-reports@iol.unh.edu In-Reply-To: <20251001064512.2539269-10-david.marchand@redhat.com> References: <20251001064512.2539269-10-david.marchand@redhat.com> Content-Type: text/plain X-BeenThere: test-report@dpdk.org X-Mailman-Version: 2.1.29 Precedence: list List-Id: automatic DPDK test reports List-Unsubscribe: , List-Archive: List-Post: List-Help: List-Subscribe: , Errors-To: test-report-bounces@dpdk.org Test-Label: iol-compile-arm64-testing Test-Status: SUCCESS http://dpdk.org/patch/157164 _Testing PASS_ Submitter: David Marchand Date: Wednesday, October 01 2025 06:45:11 DPDK git baseline: Repo:dpdk Branch: master CommitID:f3878b615e69a12087a6c5d212723478cfc79c31 157156-157164 --> testing pass Upstream job id: Generic-DPDK-Compile-Meson#430665 Test environment and result as below: +------------------------------+--------------------+ | Environment | dpdk_meson_compile | +==============================+====================+ | Red Hat Enterprise Linux 9.5 | PASS | +------------------------------+--------------------+ | Ubuntu 20.04 | PASS | +------------------------------+--------------------+ | Debian GNU/Linux 12 | PASS | +------------------------------+--------------------+ | Fedora Linux 42 | PASS | +------------------------------+--------------------+ | Ubuntu 22.04 | PASS | +------------------------------+--------------------+ | Ubuntu 24.04 | PASS | +------------------------------+--------------------+ | CentOS Stream 9 | PASS | +------------------------------+--------------------+ | CentOS Stream 10 | PASS | +------------------------------+--------------------+ Red Hat Enterprise Linux 9.5 Kernel: 5.4 Compiler: gcc gcc (GCC) 11.5.0 20240719 (Red Hat 11.5.0-2) Ubuntu 20.04 Kernel: 5.15 Compiler: aarch64-linux-gnu-gcc gcc (Ubuntu 9.4.0-1ubuntu1~20.04.2) 9.4.0 Debian GNU/Linux 12 Kernel: 5.4 Compiler: gcc gcc (Debian 12.2.0-14+deb12u1) 12.2.0 Fedora Linux 42 Kernel: 5.4 Compiler: gcc gcc (GCC) 15.2.1 20250808 (Red Hat 15.2.1-1) Ubuntu 22.04 Kernel: 5.4 Compiler: gcc gcc (Ubuntu 11.4.0-1ubuntu1~22.04) 11.4.0 Ubuntu 24.04 Kernel: 5.4 Compiler: gcc gcc (Ubuntu 13.3.0-6ubuntu2~24.04) 13.3.0 CentOS Stream 9 Kernel: 5.4 Compiler: gcc gcc (GCC) 11.5.0 20240719 (Red Hat 11.5.0-11) CentOS Stream 10 Kernel: 5.4 Compiler: gcc gcc (GCC) 14.2.1 20250110 (Red Hat 14.2.1-8) To view detailed results, visit: https://lab.dpdk.org/results/dashboard/patchsets/34188/ UNH-IOL DPDK Community Lab To manage your email subscriptions, visit: https://lab.dpdk.org/results/dashboard/preferences/subscriptions/