From mboxrd@z Thu Jan 1 00:00:00 1970 Return-Path: Received: from mails.dpdk.org (mails.dpdk.org [217.70.189.124]) by inbox.dpdk.org (Postfix) with ESMTP id 67BF1488A9 for ; Sat, 4 Oct 2025 08:18:32 +0200 (CEST) Received: from mails.dpdk.org (localhost [127.0.0.1]) by mails.dpdk.org (Postfix) with ESMTP id 62FD94014F; Sat, 4 Oct 2025 08:18:32 +0200 (CEST) Received: from mail-pl1-f225.google.com (mail-pl1-f225.google.com [209.85.214.225]) by mails.dpdk.org (Postfix) with ESMTP id 3A9954014F for ; Sat, 4 Oct 2025 08:18:31 +0200 (CEST) Received: by mail-pl1-f225.google.com with SMTP id d9443c01a7336-279e2554b5fso22721865ad.1 for ; Fri, 03 Oct 2025 23:18:31 -0700 (PDT) DKIM-Signature: v=1; a=rsa-sha256; c=relaxed/relaxed; d=iol.unh.edu; s=unh-iol; t=1759558710; x=1760163510; darn=dpdk.org; h=references:in-reply-to:cc:to:from:subject:message-id:date:from:to :cc:subject:date:message-id:reply-to; bh=qmbKqETclVUwBkh6Gbw+F+tN2BXDBNtwz8mMiPRYbOE=; b=G+QgTWzft9Rel9Yn5DOdrT9HY7eFzn8sooLjQc455jamNOwXQOG0PDyPTwrsZPj3nP 2mC1XcaYyviXcLM9TQmAq4qlJi9GRi6ENcJJmxo9XOU24Yiexl+Wq2dJMySoVOaPPPQY qlUUfoOizyOXzyFI9L1jo3qS1n5X/k/jcCiG4= X-Google-DKIM-Signature: v=1; a=rsa-sha256; c=relaxed/relaxed; d=1e100.net; s=20230601; t=1759558710; x=1760163510; h=references:in-reply-to:cc:to:from:subject:message-id:date :x-gm-message-state:from:to:cc:subject:date:message-id:reply-to; bh=qmbKqETclVUwBkh6Gbw+F+tN2BXDBNtwz8mMiPRYbOE=; b=noWLbGyeEz+GvrdHnRkpsXGQCJBZIzFStCzdNL7CVoxvD3cyjAFPDtzo5YTRaBWp1U YdKTsy2krGy3z8fB4P0VxpFER5xlCSjajodqDK60xnys9zSKanb0AMEquysLpsX+Rswq U4T+IRBAF7uZ7tqeQvIY/xiVmIbBCqyu4xqjgsJhcioZGqqwSAESXWw19zhQXGh25Y3A zK9wgXiRmuPdWb6C3iqjvgiyIi4OmikQWTUKSSuncK8gexVQ1w2+r8h2BgM4Dd2w4m6K p6HAQkz9NFWjwnTT9TJHyadrNZG2syTM8c1cULVHDvWWIRZS12RZK0x+z5YJdD1zpiyi IZNw== X-Gm-Message-State: AOJu0YyhiRS1h/Uv32TpCzA17L7T8VPtVQn2mmdY7TS6k+6X0dR4AumM I5sn7TdletyreJP+RgKVbHNcfUmZXoc0fGafUQqLBc5ENLj2+NPiUj2kJYcJyz4jfN86nBftPI9 2YRWJFFgEGuuW8OGg7+Ixo359AJOy0bfgdzPzDOTBGK+Y X-Gm-Gg: ASbGncsRFKEo9GGZ2ReZCTSeftsyS7urPBJ2YRm5BUiUV1XLnuafqnhQ05+mH3lMLhG v7DpxHHtoLigc18233+VeNwLnP5xtltFmXtL+xE51BxT1lopyhyA079TTbrjNmvABBFTIEf+Yk+ BbUzEO0jV6/RHFZYI0v/T692v1adCMsbVzG0qbXMJZ40YEQUhAaGDLadVnMfwqknjTzywNy5yc0 M6uGH44nOMCUKP3xj9wry1gbQHj4p+eWO8+Hj015tjXYr7asfwFsaQZFO48um5mgtnNPFYZMXuO +NogsvgPntJSHxaaCNsAJlJVZTFYjXcZ+faozQKhzsLzgxI+yGhgvLY+dg4JyhmvdV0NZERYkI0 0Aw== X-Google-Smtp-Source: AGHT+IGkzkOgT+K2YjtmGfUJokn6rpxo+onEsuYRFxI+tzf6mV5l+lrkIcIfoRgRnTUpB6zkqYMgVfY5VdAv X-Received: by 2002:a17:903:1b4e:b0:271:9b0e:54c7 with SMTP id d9443c01a7336-28e8d0390f5mr105769125ad.11.1759558710304; Fri, 03 Oct 2025 23:18:30 -0700 (PDT) Received: from postal.iol.unh.edu (postal.iol.unh.edu. [132.177.123.84]) by smtp-relay.gmail.com with ESMTPS id d9443c01a7336-28e8d19bba0sm5053805ad.61.2025.10.03.23.18.30 (version=TLS1_2 cipher=ECDHE-ECDSA-AES128-GCM-SHA256 bits=128/128); Fri, 03 Oct 2025 23:18:30 -0700 (PDT) X-Relaying-Domain: iol.unh.edu Date: Fri, 03 Oct 2025 23:18:30 -0700 (PDT) Message-ID: <68e0bc36.170a0220.3a44b9.e326SMTPIN_ADDED_MISSING@mx.google.com> Received: from [172.21.0.4] (unknown [172.18.0.240]) by postal.iol.unh.edu (Postfix) with ESMTP id C5C556051830; Sat, 4 Oct 2025 02:18:29 -0400 (EDT) Subject: |SUCCESS| pw157274-157276 [PATCH] [v4,3/3] app/test: add ML crypto t From: dpdklab@iol.unh.edu To: Test Report Cc: dpdk-test-reports@iol.unh.edu In-Reply-To: <20251004032259.2707-4-gmuthukrishn@marvell.com> References: <20251004032259.2707-4-gmuthukrishn@marvell.com> Content-Type: text/plain X-BeenThere: test-report@dpdk.org X-Mailman-Version: 2.1.29 Precedence: list List-Id: automatic DPDK test reports List-Unsubscribe: , List-Archive: List-Post: List-Help: List-Subscribe: , Errors-To: test-report-bounces@dpdk.org Test-Label: iol-compile-amd64-testing Test-Status: SUCCESS http://dpdk.org/patch/157276 _Testing PASS_ Submitter: Gowrishankar Muthukrishnan Date: Saturday, October 04 2025 03:22:55 DPDK git baseline: Repo:dpdk Branch: master CommitID:76393b98bf67f94dc6aa23cf5016c32571899261 157274-157276 --> testing pass Upstream job id: Generic-DPDK-Compile-Meson#430761 Test environment and result as below: +---------------------+-------------------------+--------------------+-------------------+----------------------+-------------------+ | Environment | dpdk_llvm_clang_compile | dpdk_meson_compile | dpdk_msvc_compile | dpdk_mingw64_compile | dpdk_compile_spdk | +=====================+=========================+====================+===================+======================+===================+ | Windows Server 2022 | PASS | SKIPPED | PASS | PASS | SKIPPED | +---------------------+-------------------------+--------------------+-------------------+----------------------+-------------------+ | FreeBSD 14.2 | SKIPPED | PASS | SKIPPED | SKIPPED | SKIPPED | +---------------------+-------------------------+--------------------+-------------------+----------------------+-------------------+ | Ubuntu 20.04 | SKIPPED | PASS | SKIPPED | SKIPPED | SKIPPED | +---------------------+-------------------------+--------------------+-------------------+----------------------+-------------------+ | CentOS Stream 9 | SKIPPED | PASS | SKIPPED | SKIPPED | PASS | +---------------------+-------------------------+--------------------+-------------------+----------------------+-------------------+ Windows Server 2022 Kernel: 10.0.20348.2031 Compiler: clang 15.0.7, gcc 14.1.0 (MinGW), and MSVC VS 19.39.33521 FreeBSD 14.2 Kernel: 14.2-RELEASE Compiler: clang 18.1.6 Ubuntu 20.04 Kernel: 4.19 Compiler: gcc gcc (Ubuntu 9.4.0-1ubuntu1~20.04.2) 9.4.0 CentOS Stream 9 Kernel: 5.15 Compiler: gcc gcc (GCC) 11.5.0 20240719 (Red Hat 11.5.0-11) To view detailed results, visit: https://lab.dpdk.org/results/dashboard/patchsets/34215/ UNH-IOL DPDK Community Lab To manage your email subscriptions, visit: https://lab.dpdk.org/results/dashboard/preferences/subscriptions/