From mboxrd@z Thu Jan 1 00:00:00 1970 Return-Path: Received: from mails.dpdk.org (mails.dpdk.org [217.70.189.124]) by inbox.dpdk.org (Postfix) with ESMTP id 4FDD3488A9 for ; Sat, 4 Oct 2025 08:27:09 +0200 (CEST) Received: from mails.dpdk.org (localhost [127.0.0.1]) by mails.dpdk.org (Postfix) with ESMTP id 1B6624014F; Sat, 4 Oct 2025 08:27:09 +0200 (CEST) Received: from mail-il1-f225.google.com (mail-il1-f225.google.com [209.85.166.225]) by mails.dpdk.org (Postfix) with ESMTP id CFFA04014F for ; Sat, 4 Oct 2025 08:27:07 +0200 (CEST) Received: by mail-il1-f225.google.com with SMTP id e9e14a558f8ab-42e7b22e007so7543115ab.3 for ; Fri, 03 Oct 2025 23:27:07 -0700 (PDT) DKIM-Signature: v=1; a=rsa-sha256; c=relaxed/relaxed; d=iol.unh.edu; s=unh-iol; t=1759559227; x=1760164027; darn=dpdk.org; h=references:in-reply-to:cc:to:from:subject:message-id:date:from:to :cc:subject:date:message-id:reply-to; bh=CxDkaUKtr0ICD5rivV+zZ1+lYF7vZMJ6D1MnyRx6Mlo=; b=bFggcB1YsPt1ibQDp06+7YYhYyzt1ii4mMqlyriVTCtmBo23CXGrKV7KhyMQTyeKvw zIl/uzXPLG5Q/Smx8C37D/K+3gWzkAzWU+NlUw+7TwF76L7ulnv7p328Omj0tyGpGWn9 Cvx8UIpieLLMsWU053YSerKtAzQJIFUfchIGs= X-Google-DKIM-Signature: v=1; a=rsa-sha256; c=relaxed/relaxed; d=1e100.net; s=20230601; t=1759559227; x=1760164027; h=references:in-reply-to:cc:to:from:subject:message-id:date :x-gm-message-state:from:to:cc:subject:date:message-id:reply-to; bh=CxDkaUKtr0ICD5rivV+zZ1+lYF7vZMJ6D1MnyRx6Mlo=; b=XIhdvE7eZHxGE8++7SxFeqC9j/QAWUdHr94EXCrsAAes8JjGQvXCNcLA0lmwvVcXKS c+luRdhqU0M45G2vdLGXt6aYwg4hbKyGTAN90smGbWAxnct4a0vy4nUnxzcbV5cqQmaf XG0YdzKif/mfc7SIk5D8U4/F868TdHC8e2/V7qOfYm0K6pI+TqS9SCKova1mCDjnm+bo 9GLWoqzBEoVZQf/s+TZUYnWb9+REto6yYTnu7LmuWXtDPZReM8lRIx7wF9NT9Iof9P4c Ja8UTzWsPjqDfRNX74h0w7QXBkpRUPnUpowQwzSUXdwcWxah0FKXuWXeRdWSpTQPwGd/ 3zwA== X-Gm-Message-State: AOJu0YztHate6xmZzkSLISMlHgpTtTkfyrxGZHsWzlnGeq752GaMQ5Bv VRpEuZJVNnhwTUlhiXwavIkwAhRzxqLI8Kr/tHvntDDcKdMnrp8vKjagtApxECLb3cbDzsyr0vA 4n8JJhjXHP6hxU+oa/Ga0kSmW/eBtFCrRw5YfzFxwai8r X-Gm-Gg: ASbGncvTNM33Y3NUbnmPhDT/7nijgSVHZv4o2D0tmXKXJiPIs5kanPzLuWwPX0a9YgH M9bJAe3N5FiPjAVvDZ9ga9EaY4h2+SY+ffUtSmSHuT3m/YUUXAW4b8/kfun9e6M029b4cvooaJa L1w28NWDkO1EsCQZ022H3jQWlEkk0WcQO9H1n2VJjljf6IccJcCBcI0oAaog8rRlt0e4gvp2bHq EdGvYV2Z39U4S62AxgPll+2c3gQFJAp7QKUi9YwJUK0+6h//1Y71yrzU2T4RvSs01ZzIQOUODu0 ktWdV1NbNqrvSUU1PxKuzdiCYJ7ZoDD191i32bABcRN6W4cfPKro+h1YXqFXpS473H0zCqnphrW 06w== X-Google-Smtp-Source: AGHT+IHpN5XyHSGCHNNqJWb2RvCeiTCdizelSKI8yEBQwr7Tv3QLyHLvIzNGIv6sn5b8n1CCh1kBNhcr8tgT X-Received: by 2002:a05:6e02:16c9:b0:42e:d95:b9e2 with SMTP id e9e14a558f8ab-42e7adadbd7mr70412235ab.25.1759559227154; Fri, 03 Oct 2025 23:27:07 -0700 (PDT) Received: from postal.iol.unh.edu (postal.iol.unh.edu. [132.177.123.84]) by smtp-relay.gmail.com with ESMTPS id e9e14a558f8ab-42d8b211183sm5280365ab.12.2025.10.03.23.27.07 (version=TLS1_2 cipher=ECDHE-ECDSA-AES128-GCM-SHA256 bits=128/128); Fri, 03 Oct 2025 23:27:07 -0700 (PDT) X-Relaying-Domain: iol.unh.edu Date: Fri, 03 Oct 2025 23:27:07 -0700 (PDT) Message-ID: <68e0be3b.050a0220.3d7e48.f6acSMTPIN_ADDED_MISSING@mx.google.com> Received: from [172.21.0.2] (unknown [172.18.0.240]) by postal.iol.unh.edu (Postfix) with ESMTP id A67936051830; Sat, 4 Oct 2025 02:27:06 -0400 (EDT) Subject: |SUCCESS| pw157170 [PATCH] ci: configure Coderabbit From: dpdklab@iol.unh.edu To: Test Report Cc: dpdk-test-reports@iol.unh.edu In-Reply-To: <20251001081825.2638077-1-david.marchand@redhat.com> References: <20251001081825.2638077-1-david.marchand@redhat.com> Content-Type: text/plain X-BeenThere: test-report@dpdk.org X-Mailman-Version: 2.1.29 Precedence: list List-Id: automatic DPDK test reports List-Unsubscribe: , List-Archive: List-Post: List-Help: List-Subscribe: , Errors-To: test-report-bounces@dpdk.org Test-Label: iol-compile-amd64-testing Test-Status: SUCCESS http://dpdk.org/patch/157170 _Testing PASS_ Submitter: David Marchand Date: Wednesday, October 01 2025 08:18:25 DPDK git baseline: Repo:dpdk Branch: master CommitID:f3878b615e69a12087a6c5d212723478cfc79c31 157170 --> testing pass Upstream job id: Generic-DPDK-Compile-Meson#430762 Test environment and result as below: +-------------------------------+--------------------+-------------------+-------------------------+----------------------+-------------------+------------------+ | Environment | dpdk_meson_compile | dpdk_msvc_compile | dpdk_llvm_clang_compile | dpdk_mingw64_compile | dpdk_compile_spdk | dpdk_compile_ovs | +===============================+====================+===================+=========================+======================+===================+==================+ | Ubuntu 20.04 | PASS | SKIPPED | SKIPPED | SKIPPED | SKIPPED | SKIPPED | +-------------------------------+--------------------+-------------------+-------------------------+----------------------+-------------------+------------------+ | FreeBSD 14.2 | PASS | SKIPPED | SKIPPED | SKIPPED | SKIPPED | SKIPPED | +-------------------------------+--------------------+-------------------+-------------------------+----------------------+-------------------+------------------+ | CentOS Stream 9 | PASS | SKIPPED | SKIPPED | SKIPPED | PASS | SKIPPED | +-------------------------------+--------------------+-------------------+-------------------------+----------------------+-------------------+------------------+ | CentOS Stream 10 | PASS | SKIPPED | SKIPPED | SKIPPED | SKIPPED | SKIPPED | +-------------------------------+--------------------+-------------------+-------------------------+----------------------+-------------------+------------------+ | Debian GNU/Linux 12 | PASS | SKIPPED | SKIPPED | SKIPPED | PASS | SKIPPED | +-------------------------------+--------------------+-------------------+-------------------------+----------------------+-------------------+------------------+ | Fedora Linux 42 | PASS | SKIPPED | SKIPPED | SKIPPED | PASS | PASS | +-------------------------------+--------------------+-------------------+-------------------------+----------------------+-------------------+------------------+ | openSUSE Leap 15.6 | PASS | SKIPPED | SKIPPED | SKIPPED | SKIPPED | SKIPPED | +-------------------------------+--------------------+-------------------+-------------------------+----------------------+-------------------+------------------+ | Red Hat Enterprise Linux 8.10 | PASS | SKIPPED | SKIPPED | SKIPPED | SKIPPED | SKIPPED | +-------------------------------+--------------------+-------------------+-------------------------+----------------------+-------------------+------------------+ | Red Hat Enterprise Linux 9.5 | PASS | SKIPPED | SKIPPED | SKIPPED | SKIPPED | SKIPPED | +-------------------------------+--------------------+-------------------+-------------------------+----------------------+-------------------+------------------+ | Ubuntu 22.04 | PASS | SKIPPED | SKIPPED | SKIPPED | PASS | SKIPPED | +-------------------------------+--------------------+-------------------+-------------------------+----------------------+-------------------+------------------+ | Ubuntu 24.04 | PASS | SKIPPED | SKIPPED | SKIPPED | PASS | PASS | +-------------------------------+--------------------+-------------------+-------------------------+----------------------+-------------------+------------------+ | Alpine Linux 3.22.0 | PASS | SKIPPED | SKIPPED | SKIPPED | SKIPPED | SKIPPED | +-------------------------------+--------------------+-------------------+-------------------------+----------------------+-------------------+------------------+ | Windows Server 2022 | SKIPPED | PASS | PASS | PASS | SKIPPED | SKIPPED | +-------------------------------+--------------------+-------------------+-------------------------+----------------------+-------------------+------------------+ Ubuntu 20.04 Kernel: 4.19 Compiler: gcc gcc (Ubuntu 9.4.0-1ubuntu1~20.04.2) 9.4.0 FreeBSD 14.2 Kernel: 14.2-RELEASE Compiler: clang 18.1.6 CentOS Stream 9 Kernel: 5.15 Compiler: gcc gcc (GCC) 11.5.0 20240719 (Red Hat 11.5.0-11) CentOS Stream 10 Kernel: 5.15 Compiler: gcc gcc (GCC) 14.2.1 20250110 (Red Hat 14.2.1-8) Debian GNU/Linux 12 Kernel: 5.15 Compiler: gcc gcc (Debian 12.2.0-14+deb12u1) 12.2.0 Fedora Linux 42 Kernel: 5.15 Compiler: clang gcc (GCC) 15.2.1 20250808 (Red Hat 15.2.1-1) openSUSE Leap 15.6 Kernel: 5.15 Compiler: gcc gcc (SUSE Linux) 7.5.0 Red Hat Enterprise Linux 8.10 Kernel: 5.15 Compiler: gcc gcc (GCC) 8.5.0 20210514 (Red Hat 8.5.0-22) Red Hat Enterprise Linux 9.5 Kernel: 5.15 Compiler: gcc gcc (GCC) 11.5.0 20240719 (Red Hat 11.5.0-2) Ubuntu 22.04 Kernel: 5.15 Compiler: gcc gcc (Ubuntu 11.4.0-1ubuntu1~22.04) 11.4.0 Ubuntu 24.04 Kernel: 5.15 Compiler: gcc gcc (Ubuntu 13.3.0-6ubuntu2~24.04) 13.3.0 Alpine Linux 3.22.0 Kernel: 5.15 Compiler: gcc gcc (Alpine 14.2.0) 14.2.0 Windows Server 2022 Kernel: 10.0.20348.2031 Compiler: clang 15.0.7, gcc 14.1.0 (MinGW), and MSVC VS 19.39.33521 To view detailed results, visit: https://lab.dpdk.org/results/dashboard/patchsets/34191/ UNH-IOL DPDK Community Lab To manage your email subscriptions, visit: https://lab.dpdk.org/results/dashboard/preferences/subscriptions/