From mboxrd@z Thu Jan 1 00:00:00 1970 Return-Path: Received: from mails.dpdk.org (mails.dpdk.org [217.70.189.124]) by inbox.dpdk.org (Postfix) with ESMTP id 54CAA488A9 for ; Sat, 4 Oct 2025 08:46:30 +0200 (CEST) Received: from mails.dpdk.org (localhost [127.0.0.1]) by mails.dpdk.org (Postfix) with ESMTP id 33DCC4014F; Sat, 4 Oct 2025 08:46:30 +0200 (CEST) Received: from mail-io1-f97.google.com (mail-io1-f97.google.com [209.85.166.97]) by mails.dpdk.org (Postfix) with ESMTP id 4A6ED4014F for ; Sat, 4 Oct 2025 08:46:28 +0200 (CEST) Received: by mail-io1-f97.google.com with SMTP id ca18e2360f4ac-911afafcc20so114728839f.3 for ; Fri, 03 Oct 2025 23:46:28 -0700 (PDT) DKIM-Signature: v=1; a=rsa-sha256; c=relaxed/relaxed; d=iol.unh.edu; s=unh-iol; t=1759560387; x=1760165187; darn=dpdk.org; h=references:in-reply-to:cc:to:from:subject:message-id:date:from:to :cc:subject:date:message-id:reply-to; bh=vnJrSckCLO17D84xN95eQspZ3SJrQOlT79Gu71yTSH4=; b=C3JAxszRrudaxe/sbkabjaVp26vCr/FC4Hw2OO7yyr3ydv5ydnXTbgLpTQs6e71+7h IdC6gQxHmrIJNE2KEFUG3LjAYqqFK1NTB0A9JOS45HhGBLFbq+EzAUqN+znz51qspy84 5WsFrpcuJlkn0G8dYgoog47UcJhirQO+ADzyg= X-Google-DKIM-Signature: v=1; a=rsa-sha256; c=relaxed/relaxed; d=1e100.net; s=20230601; t=1759560387; x=1760165187; h=references:in-reply-to:cc:to:from:subject:message-id:date :x-gm-message-state:from:to:cc:subject:date:message-id:reply-to; bh=vnJrSckCLO17D84xN95eQspZ3SJrQOlT79Gu71yTSH4=; b=UA2JBCJiWF6vIMhsEEKKpLtQ4cBdUyC8wWDb2zdd2a/Yrp8gfeJvApZJXqjLIn0MPp q2gVpllNWLpULphk+RZWBYK4jB31zSirFxe08gEMJE+sR7MykfDCfeDeBAkKcFtrfgGX bc9Y8Sj1dWN/KS6V2EbJA188kYx9al3fqvxlqqMMCSmJGiJszWlWCyZK5rtkBfocEJ83 6YNqCwFN9Z7Lh/xCyNma1gBVGxmLOXxhBZxC63BqsDQvxtcehO5HGje/g+g3Y4MFiTSF peRaQAKP/RZozS9jUR3Zn8BQFlsTrhQFFOTkhjm1KIZeDtfxJ3q4mDHQU0tJjKV5gcE7 P7Rw== X-Gm-Message-State: AOJu0YyZNcX3wkcAX6lBKNME+D2OBAhSt+ZJRKN80lSE/Stvxw9n/Kdd Xja25mXzlYOvzBdjEBYl0LF+tybM5/u0cnJkKJSQjH7NaX4EjVXkiCz7PTHnmWCZFx+pYy5ggPB bNJ5ChS/hZXuXQ0b0p8paWyk+enYN55xGIPQcLtevlA1K X-Gm-Gg: ASbGncs2gjMEJTXOgmCs9Aty5Rx/WnBffSiLC4AKMK4fM4jazwr0bv4rSm1U32MhkIS hqrlYKbwUKbx55yuL9cg4ebrISMnooQrFJ1k08Ka1i/8o5sbR8yXzMpJoXvtZ3uyrba2DaEHUi+ vTcwm8Q73HHAnCwv3saJ1u33sClRNToadkqWCwYLXy8f8s2Q5KgsrUEnZf8EN5va0skRu3vryNj NIkj24IymxauxP3q68G72/O0ihUdUZOHoevIDGAw3GPmdSJZmxoUd7DzHwcHRa40N0QTp8/kNtW NuDuK+HUpfW902uQUSRQ4LuGfLpcH/E8Sz5QN43I+Mfpofc6ghJ7qLG4PWuFNWSnGKDMs13g6fn BsQ== X-Google-Smtp-Source: AGHT+IG0GbNEPyO+WKIhgwgTGIsnMz28NFO3UretrQ6unj98/2OkUW5c1bT5XlGiriOv9k0+BulmlcmmcVcL X-Received: by 2002:a92:c26c:0:b0:425:744b:52d3 with SMTP id e9e14a558f8ab-42e7ad1810emr75784305ab.11.1759560387564; Fri, 03 Oct 2025 23:46:27 -0700 (PDT) Received: from postal.iol.unh.edu (postal.iol.unh.edu. [132.177.123.84]) by smtp-relay.gmail.com with ESMTPS id e9e14a558f8ab-42d8b28b69esm5225305ab.29.2025.10.03.23.46.27 (version=TLS1_2 cipher=ECDHE-ECDSA-AES128-GCM-SHA256 bits=128/128); Fri, 03 Oct 2025 23:46:27 -0700 (PDT) X-Relaying-Domain: iol.unh.edu Date: Fri, 03 Oct 2025 23:46:27 -0700 (PDT) Message-ID: <68e0c2c3.050a0220.14533f.fe52SMTPIN_ADDED_MISSING@mx.google.com> Received: from [172.21.0.2] (unknown [172.18.0.240]) by postal.iol.unh.edu (Postfix) with ESMTP id 1AC4360003E8; Sat, 4 Oct 2025 02:46:27 -0400 (EDT) Subject: |SUCCESS| pw157274-157276 [PATCH] [v4,3/3] app/test: add ML crypto t From: dpdklab@iol.unh.edu To: Test Report Cc: dpdk-test-reports@iol.unh.edu In-Reply-To: <20251004032259.2707-4-gmuthukrishn@marvell.com> References: <20251004032259.2707-4-gmuthukrishn@marvell.com> Content-Type: text/plain X-BeenThere: test-report@dpdk.org X-Mailman-Version: 2.1.29 Precedence: list List-Id: automatic DPDK test reports List-Unsubscribe: , List-Archive: List-Post: List-Help: List-Subscribe: , Errors-To: test-report-bounces@dpdk.org Test-Label: iol-compile-amd64-testing Test-Status: SUCCESS http://dpdk.org/patch/157276 _Testing PASS_ Submitter: Gowrishankar Muthukrishnan Date: Saturday, October 04 2025 03:22:55 DPDK git baseline: Repo:dpdk Branch: master CommitID:76393b98bf67f94dc6aa23cf5016c32571899261 157274-157276 --> testing pass Upstream job id: Generic-DPDK-Compile-Meson#430794 Test environment and result as below: +---------------------+-------------------------+--------------------+-------------------+----------------------+-------------------+ | Environment | dpdk_llvm_clang_compile | dpdk_meson_compile | dpdk_msvc_compile | dpdk_mingw64_compile | dpdk_compile_spdk | +=====================+=========================+====================+===================+======================+===================+ | Windows Server 2022 | PASS | SKIPPED | PASS | PASS | SKIPPED | +---------------------+-------------------------+--------------------+-------------------+----------------------+-------------------+ | FreeBSD 14.2 | SKIPPED | PASS | SKIPPED | SKIPPED | SKIPPED | +---------------------+-------------------------+--------------------+-------------------+----------------------+-------------------+ | Ubuntu 20.04 | SKIPPED | PASS | SKIPPED | SKIPPED | SKIPPED | +---------------------+-------------------------+--------------------+-------------------+----------------------+-------------------+ | CentOS Stream 9 | SKIPPED | PASS | SKIPPED | SKIPPED | PASS | +---------------------+-------------------------+--------------------+-------------------+----------------------+-------------------+ | Ubuntu 22.04 | SKIPPED | PASS | SKIPPED | SKIPPED | PASS | +---------------------+-------------------------+--------------------+-------------------+----------------------+-------------------+ Windows Server 2022 Kernel: 10.0.20348.2031 Compiler: clang 15.0.7, gcc 14.1.0 (MinGW), and MSVC VS 19.39.33521 FreeBSD 14.2 Kernel: 14.2-RELEASE Compiler: clang 18.1.6 Ubuntu 20.04 Kernel: 4.19 Compiler: gcc gcc (Ubuntu 9.4.0-1ubuntu1~20.04.2) 9.4.0 CentOS Stream 9 Kernel: 5.15 Compiler: gcc gcc (GCC) 11.5.0 20240719 (Red Hat 11.5.0-11) Ubuntu 22.04 Kernel: 5.15 Compiler: gcc gcc (Ubuntu 11.4.0-1ubuntu1~22.04) 11.4.0 To view detailed results, visit: https://lab.dpdk.org/results/dashboard/patchsets/34215/ UNH-IOL DPDK Community Lab To manage your email subscriptions, visit: https://lab.dpdk.org/results/dashboard/preferences/subscriptions/