From mboxrd@z Thu Jan 1 00:00:00 1970 Return-Path: Received: from mails.dpdk.org (mails.dpdk.org [217.70.189.124]) by inbox.dpdk.org (Postfix) with ESMTP id CAA59488A9 for ; Sat, 4 Oct 2025 08:49:59 +0200 (CEST) Received: from mails.dpdk.org (localhost [127.0.0.1]) by mails.dpdk.org (Postfix) with ESMTP id C585E4014F; Sat, 4 Oct 2025 08:49:59 +0200 (CEST) Received: from mail-qt1-f228.google.com (mail-qt1-f228.google.com [209.85.160.228]) by mails.dpdk.org (Postfix) with ESMTP id C0FE44014F for ; Sat, 4 Oct 2025 08:49:58 +0200 (CEST) Received: by mail-qt1-f228.google.com with SMTP id d75a77b69052e-4e2d2d764a3so24186431cf.1 for ; Fri, 03 Oct 2025 23:49:58 -0700 (PDT) DKIM-Signature: v=1; a=rsa-sha256; c=relaxed/relaxed; d=iol.unh.edu; s=unh-iol; t=1759560598; x=1760165398; darn=dpdk.org; h=references:in-reply-to:cc:to:from:subject:message-id:date:from:to :cc:subject:date:message-id:reply-to; bh=K7QaBb0VL/Sig+25Ap6ncgKWTShzmWPHk3VfPAz5IMk=; b=SweUfcJ+jMy+/Ag4/L4C/5yyjfdM9RwF8zLV6AJuPIy6Ejm70LPSvqh6sJZAgw5UKk onclOqtACHIjEBT0LqHWKimnlim8pXd5kbJFq+K8TzXYe15rU+9jTenmdc2+nvJQ4ACe NFAZJYfigF4YNZ2VAUXuyep6QEgJj9NQVytz8= X-Google-DKIM-Signature: v=1; a=rsa-sha256; c=relaxed/relaxed; d=1e100.net; s=20230601; t=1759560598; x=1760165398; h=references:in-reply-to:cc:to:from:subject:message-id:date :x-gm-message-state:from:to:cc:subject:date:message-id:reply-to; bh=K7QaBb0VL/Sig+25Ap6ncgKWTShzmWPHk3VfPAz5IMk=; b=SEWmaq6HRoHtDlnQ3UUjvKb7T4I7APmdzXrinLpMNlMxgASp6gBUMHOYS4drbUOrVB ByFEe6Yy9xaSaJKdB547QsuvwLEEt6AJTT8vMeX+14rx/GWV3++D7XcRuIJgGzu5haKQ l7KydPFSaajahrR1iF1YmOrQiW864IeXy/yCIroKVkppVd92uwSie574HG0BmvL7ETI+ dNULh7N3LTxUtJyNo2lgtEh8q4sWAP/LvZQsu61BBwg+aWuA6FdiipOa3+5xWqsNC5GH ajL8wQdGkkzE+A9RviD7jd2CMS3PJjybfzFMUQgApYJrQNzzm0kKmBl2bI6p8gPleCNW Gw0A== X-Gm-Message-State: AOJu0Ywvd1l4BivglamFlX93FCqFNAZq6u9Ki725LJuKyfY4anNgCye2 s4zGnJADpdZ73CpZd1r05tYx1yj/dRkGdIYlpDFwGzUwXi6j4M8wRrcDTndmoti8B8F//TDtS2e RSYge2QUO0Mwx2KuI8lB2Zdp6m4Ecuiud2AuKkYnzxsHlu71N4QlhwRSgnvlF X-Gm-Gg: ASbGncsk4/+7TpjcKX1XFoY3jckcsn1WLp/ZtWDfKAOwpGFTLDMA89HGkGEET5G1QiH XtdVy8RZCSI5ToOSgdcti9DAxi0E1d2RVq/b2xwKEGI+eGQlGBHxh+1pSiZPI4SznGMOChp4DNM pEEsUuAs3Rw4aIAPV2IeVSMsyap0LuZv/ezNY6PmH2/sMLFvTFRou4/juiWhFA9LGuzdcIpMcZh RXYKE0PI+vIo27e6+p8RQu9EZrdMyuxqT1904Wva3zYg6BCuFzyd1YR5n/Yx79tdVUBicgIoEsK uUgnRiEzQmXaFDzG7h3bguQguSTFM1qnw9fItC37d9lHJujwYO+B9ew= X-Google-Smtp-Source: AGHT+IEosRm/bbHHjNIwEp2GZaeqA1i2d0tJa4+Uu/6YDeAdHJXVjwa3VvBmkDF/22VQlj7dzdAJwkLCpLDB X-Received: by 2002:a05:622a:488d:b0:4b6:35e7:1746 with SMTP id d75a77b69052e-4e576b16460mr90324301cf.71.1759560598154; Fri, 03 Oct 2025 23:49:58 -0700 (PDT) Received: from postal.iol.unh.edu (postal.iol.unh.edu. [2606:4100:3880:1234::84]) by smtp-relay.gmail.com with ESMTPS id d75a77b69052e-4e55c9e3ab7sm2916911cf.11.2025.10.03.23.49.58 (version=TLS1_2 cipher=ECDHE-ECDSA-AES128-GCM-SHA256 bits=128/128); Fri, 03 Oct 2025 23:49:58 -0700 (PDT) X-Relaying-Domain: iol.unh.edu Date: Fri, 03 Oct 2025 23:49:58 -0700 (PDT) Message-ID: <68e0c396.050a0220.1542d5.1d10SMTPIN_ADDED_MISSING@mx.google.com> Received: from [172.21.0.2] (unknown [172.18.0.240]) by postal.iol.unh.edu (Postfix) with ESMTP id A486A6051830; Sat, 4 Oct 2025 02:49:57 -0400 (EDT) Subject: |SUCCESS| pw157171 [PATCH] crypto/cnxk: add packet vector support From: dpdklab@iol.unh.edu To: Test Report Cc: dpdk-test-reports@iol.unh.edu In-Reply-To: <20251001103846.1130824-1-ktejasree@marvell.com> References: <20251001103846.1130824-1-ktejasree@marvell.com> Content-Type: text/plain X-BeenThere: test-report@dpdk.org X-Mailman-Version: 2.1.29 Precedence: list List-Id: automatic DPDK test reports List-Unsubscribe: , List-Archive: List-Post: List-Help: List-Subscribe: , Errors-To: test-report-bounces@dpdk.org Test-Label: iol-compile-amd64-testing Test-Status: SUCCESS http://dpdk.org/patch/157171 _Testing PASS_ Submitter: Tejasree Kondoj Date: Wednesday, October 01 2025 10:38:46 DPDK git baseline: Repo:dpdk Branch: master CommitID:f3878b615e69a12087a6c5d212723478cfc79c31 157171 --> testing pass Upstream job id: Generic-DPDK-Compile-Meson#430789 Test environment and result as below: +-------------------------------+--------------------+-------------------------+-------------------+----------------------+-------------------+------------------+ | Environment | dpdk_meson_compile | dpdk_llvm_clang_compile | dpdk_msvc_compile | dpdk_mingw64_compile | dpdk_compile_spdk | dpdk_compile_ovs | +===============================+====================+=========================+===================+======================+===================+==================+ | Ubuntu 20.04 | PASS | SKIPPED | SKIPPED | SKIPPED | SKIPPED | SKIPPED | +-------------------------------+--------------------+-------------------------+-------------------+----------------------+-------------------+------------------+ | FreeBSD 14.2 | PASS | SKIPPED | SKIPPED | SKIPPED | SKIPPED | SKIPPED | +-------------------------------+--------------------+-------------------------+-------------------+----------------------+-------------------+------------------+ | CentOS Stream 9 | PASS | SKIPPED | SKIPPED | SKIPPED | PASS | SKIPPED | +-------------------------------+--------------------+-------------------------+-------------------+----------------------+-------------------+------------------+ | CentOS Stream 10 | PASS | SKIPPED | SKIPPED | SKIPPED | SKIPPED | SKIPPED | +-------------------------------+--------------------+-------------------------+-------------------+----------------------+-------------------+------------------+ | Debian GNU/Linux 12 | PASS | SKIPPED | SKIPPED | SKIPPED | PASS | SKIPPED | +-------------------------------+--------------------+-------------------------+-------------------+----------------------+-------------------+------------------+ | Fedora Linux 42 | PASS | SKIPPED | SKIPPED | SKIPPED | PASS | PASS | +-------------------------------+--------------------+-------------------------+-------------------+----------------------+-------------------+------------------+ | openSUSE Leap 15.6 | PASS | SKIPPED | SKIPPED | SKIPPED | SKIPPED | SKIPPED | +-------------------------------+--------------------+-------------------------+-------------------+----------------------+-------------------+------------------+ | Red Hat Enterprise Linux 8.10 | PASS | SKIPPED | SKIPPED | SKIPPED | SKIPPED | SKIPPED | +-------------------------------+--------------------+-------------------------+-------------------+----------------------+-------------------+------------------+ | Red Hat Enterprise Linux 9.5 | PASS | SKIPPED | SKIPPED | SKIPPED | SKIPPED | SKIPPED | +-------------------------------+--------------------+-------------------------+-------------------+----------------------+-------------------+------------------+ | Ubuntu 22.04 | PASS | SKIPPED | SKIPPED | SKIPPED | PASS | SKIPPED | +-------------------------------+--------------------+-------------------------+-------------------+----------------------+-------------------+------------------+ | Ubuntu 24.04 | PASS | SKIPPED | SKIPPED | SKIPPED | PASS | PASS | +-------------------------------+--------------------+-------------------------+-------------------+----------------------+-------------------+------------------+ | Alpine Linux 3.22.0 | PASS | SKIPPED | SKIPPED | SKIPPED | SKIPPED | SKIPPED | +-------------------------------+--------------------+-------------------------+-------------------+----------------------+-------------------+------------------+ | Windows Server 2022 | SKIPPED | PASS | PASS | PASS | SKIPPED | SKIPPED | +-------------------------------+--------------------+-------------------------+-------------------+----------------------+-------------------+------------------+ Ubuntu 20.04 Kernel: 4.19 Compiler: gcc gcc (Ubuntu 9.4.0-1ubuntu1~20.04.2) 9.4.0 FreeBSD 14.2 Kernel: 14.2-RELEASE Compiler: clang 18.1.6 CentOS Stream 9 Kernel: 5.15 Compiler: gcc gcc (GCC) 11.5.0 20240719 (Red Hat 11.5.0-11) CentOS Stream 10 Kernel: 5.15 Compiler: gcc gcc (GCC) 14.2.1 20250110 (Red Hat 14.2.1-8) Debian GNU/Linux 12 Kernel: 5.15 Compiler: gcc gcc (Debian 12.2.0-14+deb12u1) 12.2.0 Fedora Linux 42 Kernel: 5.15 Compiler: clang gcc (GCC) 15.2.1 20250808 (Red Hat 15.2.1-1) openSUSE Leap 15.6 Kernel: 5.15 Compiler: gcc gcc (SUSE Linux) 7.5.0 Red Hat Enterprise Linux 8.10 Kernel: 5.15 Compiler: gcc gcc (GCC) 8.5.0 20210514 (Red Hat 8.5.0-22) Red Hat Enterprise Linux 9.5 Kernel: 5.15 Compiler: gcc gcc (GCC) 11.5.0 20240719 (Red Hat 11.5.0-2) Ubuntu 22.04 Kernel: 5.15 Compiler: gcc gcc (Ubuntu 11.4.0-1ubuntu1~22.04) 11.4.0 Ubuntu 24.04 Kernel: 5.15 Compiler: gcc gcc (Ubuntu 13.3.0-6ubuntu2~24.04) 13.3.0 Alpine Linux 3.22.0 Kernel: 5.15 Compiler: gcc gcc (Alpine 14.2.0) 14.2.0 Windows Server 2022 Kernel: 10.0.20348.2031 Compiler: clang 15.0.7, gcc 14.1.0 (MinGW), and MSVC VS 19.39.33521 To view detailed results, visit: https://lab.dpdk.org/results/dashboard/patchsets/34192/ UNH-IOL DPDK Community Lab To manage your email subscriptions, visit: https://lab.dpdk.org/results/dashboard/preferences/subscriptions/