From mboxrd@z Thu Jan 1 00:00:00 1970 Return-Path: Received: from mails.dpdk.org (mails.dpdk.org [217.70.189.124]) by inbox.dpdk.org (Postfix) with ESMTP id 5CC46488A9 for ; Sat, 4 Oct 2025 08:54:48 +0200 (CEST) Received: from mails.dpdk.org (localhost [127.0.0.1]) by mails.dpdk.org (Postfix) with ESMTP id 579294014F; Sat, 4 Oct 2025 08:54:48 +0200 (CEST) Received: from mail-pl1-f226.google.com (mail-pl1-f226.google.com [209.85.214.226]) by mails.dpdk.org (Postfix) with ESMTP id 971604014F for ; Sat, 4 Oct 2025 08:54:47 +0200 (CEST) Received: by mail-pl1-f226.google.com with SMTP id d9443c01a7336-27eed7bdfeeso39585685ad.0 for ; Fri, 03 Oct 2025 23:54:47 -0700 (PDT) DKIM-Signature: v=1; a=rsa-sha256; c=relaxed/relaxed; d=iol.unh.edu; s=unh-iol; t=1759560887; x=1760165687; darn=dpdk.org; h=references:in-reply-to:cc:to:from:subject:message-id:date:from:to :cc:subject:date:message-id:reply-to; bh=fCtDC+alr+nl9Y8ZBm2N/mRpwsKU/1VI7+mVseTxkKs=; b=hKLVUkIvWqd+k35i/IJtD0lphBYWzGiFcrdB79otxs6gpPyzf+5JaOjanhdHymRV6a p+v9VHpHQIQs1J8m9pE7BadD4VLOHIWxDlkiqvDci1Kp958Uzjya4sMbC2zz09Pmk3S5 v4PLuMZkaTgV3fD3XtV89t/logTGe1yN2rt0Y= X-Google-DKIM-Signature: v=1; a=rsa-sha256; c=relaxed/relaxed; d=1e100.net; s=20230601; t=1759560887; x=1760165687; h=references:in-reply-to:cc:to:from:subject:message-id:date :x-gm-message-state:from:to:cc:subject:date:message-id:reply-to; bh=fCtDC+alr+nl9Y8ZBm2N/mRpwsKU/1VI7+mVseTxkKs=; b=ESBO+jilr8A0Xm8xsaHGXqDzEpnc9nA9rmxdIuJj1zwqOXk16aR/eRUEOAjlxYU/ZO tP/Amw71HCr3SeZf7hzPW0IQ63mg8NHeGqoncn58alUX4sqqXCyObpdBNRLwWpiq66xh /ZrgwCRZecEw8Ovz2UTYbKFDL09QHwuGPsM3l0UVUk8RP6jHnjkFjnP+Xff6k2NYgInT hUk/IbbSgCifClCNXyO1xNeDBWBJ2zOaHTLVt/CDkV76WaOf+WKdghfjTN6cTH6XaoUk 9v2BqWAVhnu3qxoUt7EbqTXitsNXGMXpGV1JswLkORdPGRBor3MGj2Q6A5SEwQnqyBN4 hBSQ== X-Gm-Message-State: AOJu0YzURF5r+GKddVZBvJTa3nIRRS66qEssDPZXitPWx8l3oIKdCOMS myvVzraa4N7nB4yo9vpp81U2gX0b3epA7f37FQAhbQWPAwyXNVgF2gttvlsAKOEstVWZHKWsJrH 0rXLRZjt6jLg5UXK8T5ehDZdCdMzaOGMbQfK+rtjrz2kW X-Gm-Gg: ASbGncvk+Yrnb6RbaA5EdSHSmQz9QXjxee8VFr6LHk4fi1c/wnUmO4ZHGU0PP/YXndP a260dRTVp8fn26kCJhjUHszmkxxDi3I575OO8MLyxUC+5EgOuPwhFSjeY61MsfefjR8plBvNzoQ 6oc2U/khvAEZyeAMhMF48tGbLC1c/2zghWqNgvcC1pdRnwgyrGE/NUduS0IMVS25yGjqIlHLPsA KYw/4O1lncPDm5eddG5vEF5i+sITQVUkYN8nfk+a9RVPX+e9wN9QR9t7f7UaMUjwV3zKMbDUV1l ukeEwxyhmZ+ynlPjggq/050aHJ13QwTeZ6AWxEhYWJlCCyziHxBATUmr/enDTh9dXEBytSsJf9Y HcA== X-Google-Smtp-Source: AGHT+IFh7mDd7qHf7Qr5zfabsIWFCp/YuoKDE+wVd/2PPNF5pL7gqlFbk65PXSm/LwshkUmhQTzEoXgsJU0A X-Received: by 2002:a17:902:e541:b0:283:f19a:bffe with SMTP id d9443c01a7336-28e99cc1064mr79908985ad.7.1759560886725; Fri, 03 Oct 2025 23:54:46 -0700 (PDT) Received: from postal.iol.unh.edu (postal.iol.unh.edu. [132.177.123.84]) by smtp-relay.gmail.com with ESMTPS id d9443c01a7336-28e8d10878csm4867275ad.12.2025.10.03.23.54.46 (version=TLS1_2 cipher=ECDHE-ECDSA-AES128-GCM-SHA256 bits=128/128); Fri, 03 Oct 2025 23:54:46 -0700 (PDT) X-Relaying-Domain: iol.unh.edu Date: Fri, 03 Oct 2025 23:54:46 -0700 (PDT) Message-ID: <68e0c4b6.170a0220.282471.d463SMTPIN_ADDED_MISSING@mx.google.com> Received: from [172.21.0.2] (unknown [172.18.0.240]) by postal.iol.unh.edu (Postfix) with ESMTP id 38E9B6051830; Sat, 4 Oct 2025 02:54:46 -0400 (EDT) Subject: |SUCCESS| pw157209 [PATCH] test/debug: fix crash with mlx5 devices From: dpdklab@iol.unh.edu To: Test Report Cc: dpdk-test-reports@iol.unh.edu In-Reply-To: <20251002165546.523435-1-david.marchand@redhat.com> References: <20251002165546.523435-1-david.marchand@redhat.com> Content-Type: text/plain X-BeenThere: test-report@dpdk.org X-Mailman-Version: 2.1.29 Precedence: list List-Id: automatic DPDK test reports List-Unsubscribe: , List-Archive: List-Post: List-Help: List-Subscribe: , Errors-To: test-report-bounces@dpdk.org Test-Label: iol-compile-amd64-testing Test-Status: SUCCESS http://dpdk.org/patch/157209 _Testing PASS_ Submitter: David Marchand Date: Thursday, October 02 2025 16:55:45 DPDK git baseline: Repo:dpdk Branch: master CommitID:76393b98bf67f94dc6aa23cf5016c32571899261 157209 --> testing pass Upstream job id: Generic-DPDK-Compile-Meson#430807 Test environment and result as below: +-------------------------------+--------------------+-------------------+-------------------------+----------------------+ | Environment | dpdk_meson_compile | dpdk_msvc_compile | dpdk_llvm_clang_compile | dpdk_mingw64_compile | +===============================+====================+===================+=========================+======================+ | Ubuntu 20.04 | PASS | SKIPPED | SKIPPED | SKIPPED | +-------------------------------+--------------------+-------------------+-------------------------+----------------------+ | FreeBSD 14.2 | PASS | SKIPPED | SKIPPED | SKIPPED | +-------------------------------+--------------------+-------------------+-------------------------+----------------------+ | Red Hat Enterprise Linux 8.10 | PASS | SKIPPED | SKIPPED | SKIPPED | +-------------------------------+--------------------+-------------------+-------------------------+----------------------+ | Windows Server 2022 | SKIPPED | PASS | PASS | PASS | +-------------------------------+--------------------+-------------------+-------------------------+----------------------+ Ubuntu 20.04 Kernel: 4.19 Compiler: gcc gcc (Ubuntu 9.4.0-1ubuntu1~20.04.2) 9.4.0 FreeBSD 14.2 Kernel: 14.2-RELEASE Compiler: clang 18.1.6 Red Hat Enterprise Linux 8.10 Kernel: 5.15 Compiler: gcc gcc (GCC) 8.5.0 20210514 (Red Hat 8.5.0-22) Windows Server 2022 Kernel: 10.0.20348.2031 Compiler: clang 15.0.7, gcc 14.1.0 (MinGW), and MSVC VS 19.39.33521 To view detailed results, visit: https://lab.dpdk.org/results/dashboard/patchsets/34200/ UNH-IOL DPDK Community Lab To manage your email subscriptions, visit: https://lab.dpdk.org/results/dashboard/preferences/subscriptions/