From mboxrd@z Thu Jan 1 00:00:00 1970 Return-Path: Received: from mails.dpdk.org (mails.dpdk.org [217.70.189.124]) by inbox.dpdk.org (Postfix) with ESMTP id A3FB2488A9 for ; Sat, 4 Oct 2025 08:56:34 +0200 (CEST) Received: from mails.dpdk.org (localhost [127.0.0.1]) by mails.dpdk.org (Postfix) with ESMTP id 86D154021F; Sat, 4 Oct 2025 08:56:34 +0200 (CEST) Received: from mail-yx1-f97.google.com (mail-yx1-f97.google.com [74.125.224.97]) by mails.dpdk.org (Postfix) with ESMTP id B38204014F for ; Sat, 4 Oct 2025 08:56:33 +0200 (CEST) Received: by mail-yx1-f97.google.com with SMTP id 956f58d0204a3-637dc2292cfso3385248d50.3 for ; Fri, 03 Oct 2025 23:56:33 -0700 (PDT) DKIM-Signature: v=1; a=rsa-sha256; c=relaxed/relaxed; d=iol.unh.edu; s=unh-iol; t=1759560993; x=1760165793; darn=dpdk.org; h=cc:to:from:subject:message-id:date:from:to:cc:subject:date :message-id:reply-to; bh=ZjhgJaMMSWJN2JJxUzZAmwMGsXVQK8wKwQubksO1nIw=; b=KVs3tXzBL+zz9EDKK77gaJa4dCibLiYSrC75kwGyP3Jn4qcqIIrC+xUDPBLKNolqSx Fb7I5Dm1JK8aNQ+9g3eVrdns7O6WiyMjyzuHEl2F25zZZ1YjwXzg6jdIV8rWfEKXWJck 6ueBAVwxqhgnYccsGUIz3XlBdBt0UdBovM0zg= X-Google-DKIM-Signature: v=1; a=rsa-sha256; c=relaxed/relaxed; d=1e100.net; s=20230601; t=1759560993; x=1760165793; h=cc:to:from:subject:message-id:date:x-gm-message-state:from:to:cc :subject:date:message-id:reply-to; bh=ZjhgJaMMSWJN2JJxUzZAmwMGsXVQK8wKwQubksO1nIw=; b=lk6BlMJiQ0M7BmNiPxti1avgohCoNaRIV4Vto10dz1C6gezUMT4qHpT25EemtELI8m 8YlAsBrhJFBp471LKS5NyNFgYvdmkNAnaKBvbGmsD2AaUvyzM+50TsKPk6OCsF5qhsUs +gitGcikzU2AQLGqQTluRpkkRD183wIse8tOy6zLATn6ViDoYgHJJb9ctu/ZoFDDQYX/ 3XVF+qWqAY4/8ekqwn34ERGs/hK/6HDFV1xMlAposOCgleLZtWwJsLJ+95Dn6owse5K6 2UUeSXTbuucp8wvn7TmiyQvUfIkHZaHc7Y6j70RpFit0swRY+SWSKWgmfwp8suUKz4Td CJVA== X-Gm-Message-State: AOJu0YxeJJjJ9RQ0VcPqJOHzodaObGdQuyR0bRLdaYVCRpI1KH2ua6hu heFJ4oA13Q0jCCucdTjfHHg1VJpcrTRLr2FdrXT4XNX6QX5pXT2knYaUcK9zC54fJdU1q9EUi8z gekZPuuaPrE5cFoP7uqnTHGW1SxYz99BnfhCH X-Gm-Gg: ASbGnctpXgMtPy4OZPz37+M6DzP+dqyMBt5ae3aNS+h7paCz2IEl//nspKfKbqjLyT/ tmtamVgb19LfM1WPjzv/aTXu4LFctgcaQdx37wBxEc8IW0NoOdhcRMEWi/3/udBupBkWwbnHGFE XjQivZ//cI8pBaNJoUM2Yym75I61znf2op6gEtLtfuOY5Zcma2gQeRjDvJtE8otFYFf2CatvoL9 5q93dKGmHBkjw6NSTERUTmK5TWo0vAWx3FPhncgWvgPXdr3dn0v7U7+o8082Kz5u8uwo/YXqUzg jw4+teiQnYOccqcWW8/z4pcoo0u9raogCangrifcvWanzzyUJKydL4Dgmx5wolqGqZoEndAvNxJ o2Q== X-Google-Smtp-Source: AGHT+IEa2lkf+hY12IBZEJjrDlyysg+Ggj6IIFN3p6KYn9kDUAfnVtIK1PDMcmqoUzHRriznEspC+E90vT8B X-Received: by 2002:a05:690c:4c0e:b0:749:d874:e66e with SMTP id 00721157ae682-77f945ef5c3mr77503257b3.24.1759560993042; Fri, 03 Oct 2025 23:56:33 -0700 (PDT) Received: from postal.iol.unh.edu (postal.iol.unh.edu. [132.177.123.84]) by smtp-relay.gmail.com with ESMTPS id 00721157ae682-77f94557642sm2208187b3.24.2025.10.03.23.56.32 (version=TLS1_2 cipher=ECDHE-ECDSA-AES128-GCM-SHA256 bits=128/128); Fri, 03 Oct 2025 23:56:33 -0700 (PDT) X-Relaying-Domain: iol.unh.edu Date: Fri, 03 Oct 2025 23:56:33 -0700 (PDT) Message-ID: <68e0c521.050a0220.302f17.d5fcSMTPIN_ADDED_MISSING@mx.google.com> Received: from [172.21.0.2] (unknown [172.18.0.240]) by postal.iol.unh.edu (Postfix) with ESMTP id BD0196051830; Sat, 4 Oct 2025 02:56:32 -0400 (EDT) Subject: |SUCCESS| [GIT MASTER] b287e404643aeab5bb5db084c142789df187844e From: dpdklab@iol.unh.edu To: Test Report Cc: dpdk-test-reports@iol.unh.edu, Xueming Li , Christian Ehrhardt , Kevin Traynor , Luca Boccassi Content-Type: text/plain X-BeenThere: test-report@dpdk.org X-Mailman-Version: 2.1.29 Precedence: list List-Id: automatic DPDK test reports List-Unsubscribe: , List-Archive: List-Post: List-Help: List-Subscribe: , Errors-To: test-report-bounces@dpdk.org _Testing PASS_ Branch: tags/v24.11 b287e404643aeab5bb5db084c142789df187844e --> testing pass Upstream job id: Generic-DPDK-Compile-Meson#430814 Test environment and result as below: +------------------------------+-------------------+--------------------+-------------------------+----------------------+ | Environment | dpdk_msvc_compile | dpdk_meson_compile | dpdk_llvm_clang_compile | dpdk_mingw64_compile | +==============================+===================+====================+=========================+======================+ | Windows Server 2022 | PASS | SKIPPED | PASS | PASS | +------------------------------+-------------------+--------------------+-------------------------+----------------------+ | FreeBSD 14.2 | SKIPPED | PASS | SKIPPED | SKIPPED | +------------------------------+-------------------+--------------------+-------------------------+----------------------+ | Ubuntu 20.04 | SKIPPED | PASS | SKIPPED | SKIPPED | +------------------------------+-------------------+--------------------+-------------------------+----------------------+ | Red Hat Enterprise Linux 9.5 | SKIPPED | PASS | SKIPPED | SKIPPED | +------------------------------+-------------------+--------------------+-------------------------+----------------------+ Windows Server 2022 Kernel: 10.0.20348.2031 Compiler: clang 15.0.7, gcc 14.1.0 (MinGW), and MSVC VS 19.39.33521 FreeBSD 14.2 Kernel: 14.2-RELEASE Compiler: clang 18.1.6 Ubuntu 20.04 Kernel: 4.19 Compiler: gcc gcc (Ubuntu 9.4.0-1ubuntu1~20.04.2) 9.4.0 Red Hat Enterprise Linux 9.5 Kernel: 5.15 Compiler: gcc gcc (GCC) 11.5.0 20240719 (Red Hat 11.5.0-2) To view detailed results, visit: https://lab.dpdk.org/results/dashboard/tarballs/35083/ UNH-IOL DPDK Community Lab To manage your email subscriptions, visit: https://lab.dpdk.org/results/dashboard/preferences/subscriptions/