From mboxrd@z Thu Jan 1 00:00:00 1970 Return-Path: Received: from mails.dpdk.org (mails.dpdk.org [217.70.189.124]) by inbox.dpdk.org (Postfix) with ESMTP id A9393488A9 for ; Sat, 4 Oct 2025 08:57:15 +0200 (CEST) Received: from mails.dpdk.org (localhost [127.0.0.1]) by mails.dpdk.org (Postfix) with ESMTP id A43A94014F; Sat, 4 Oct 2025 08:57:15 +0200 (CEST) Received: from mail-il1-f228.google.com (mail-il1-f228.google.com [209.85.166.228]) by mails.dpdk.org (Postfix) with ESMTP id 8F8844014F for ; Sat, 4 Oct 2025 08:57:14 +0200 (CEST) Received: by mail-il1-f228.google.com with SMTP id e9e14a558f8ab-42b99565146so17139035ab.1 for ; Fri, 03 Oct 2025 23:57:14 -0700 (PDT) DKIM-Signature: v=1; a=rsa-sha256; c=relaxed/relaxed; d=iol.unh.edu; s=unh-iol; t=1759561034; x=1760165834; darn=dpdk.org; h=cc:to:from:subject:message-id:date:from:to:cc:subject:date :message-id:reply-to; bh=TND06mPQHQrWlQMiVY3m0gbPm7JEJd7B6EFpzGdcAX4=; b=SvN7ljKemSbW6BjLJwDa2AS1hE4HQK7hLawifeIpWW3KJ+Iz8+Tl0ePwNr1XkksiQp TEGNX6n7lOq4CLuhvjgEBg7tOKboA63wzDavqVDYWUjP6ao/4rKVAjSXnHXVGt5yXwoc bB8tHYG0MBmVswxPbHoe2/UGceuJ7bigmj3QE= X-Google-DKIM-Signature: v=1; a=rsa-sha256; c=relaxed/relaxed; d=1e100.net; s=20230601; t=1759561034; x=1760165834; h=cc:to:from:subject:message-id:date:x-gm-message-state:from:to:cc :subject:date:message-id:reply-to; bh=TND06mPQHQrWlQMiVY3m0gbPm7JEJd7B6EFpzGdcAX4=; b=lJBXa66/mYxD4Rbv05et28zJoAB6rOGK5obq4VX1WX0lr0NG/bMCdLA4fqhgpeCfUe SCrkb8u1OV1t0LKFrYJvApfQXXnmWbbxJryzjt70pvrJX+PVBE/nsMRDHZc7tGjDrPiH Hy5tfHYURXeOcqNd1jm4x1FlLDjmzWpTEWbE5ucsyFhMZVvokHKdtFVfbhSRa473OjEW ERiMqS34gdhEf0LEtNmBjLMPjHbmDSPsn4jrfaawXgOAi/mwQSYuRlptD1zgnf15YHTq FwbVGWRTERxq20T08QdtQf/KrMV38XnTEezMq/ZQGC/JzOFeyHBjWW6gEqYVDab/Tioc fjLg== X-Gm-Message-State: AOJu0YykxXDEgDCmLrLLoVy5Ja0YRfMn94NpKb8QrI8UEUTQLTfwlF0w renVONUQdfrbCA/dzr5HqBHTURbhA5D6sYCEsWjRgvv06BnynJHbt8GfEK2Eco6srWi/LG3gcaL mvirUIwPi7Mup8IxrAIPYap55Iju8y+1uhzM/I9nh2H1E X-Gm-Gg: ASbGncskHPzpPJdaHWuK0CEnBRlwyBSqYlqkT7QCdsMQ4TphT1djR5AVjc++zfEEKU4 1B8dbYG0qAPtRuqfISHBbRkMwQm7n1J1DYrdUCpaB2IYjxphr0XzQj5UY+RmRyLX2tDrzN3AGo6 1wKrjiMpE5yqEK9lS6bqy4F9KOPK8izMH2hZDAiBchtvQV3iEZUQCe3xzqSlWtx3iGJFZpNUNfg +yILNunD5RSod91DxzcWGD6Jmd6FnKj368NRjuc39MZ4jTEXbDm6qOUOBZD1MnQrdy3ZFdVdswV 9U89taUUmFZl40g++bwc4LzrY5ESFXrq1KxGNiITM/GkyNw6QLPPie1iHRUhgqoRxyeyNv+ALIT zjg== X-Google-Smtp-Source: AGHT+IFksHZLHEC/iFnFzyuXw9tbJwM65HlO/QzjzukIqF3RG8eGqRLB4jxyLs78ilR68NnCi0BjlwtKdiWe X-Received: by 2002:a92:c244:0:b0:427:215a:93fa with SMTP id e9e14a558f8ab-42d8b1a45a9mr114322175ab.2.1759561033907; Fri, 03 Oct 2025 23:57:13 -0700 (PDT) Received: from postal.iol.unh.edu (postal.iol.unh.edu. [132.177.123.84]) by smtp-relay.gmail.com with ESMTPS id 8926c6da1cb9f-57b5eaa9aecsm500408173.6.2025.10.03.23.57.13 (version=TLS1_2 cipher=ECDHE-ECDSA-AES128-GCM-SHA256 bits=128/128); Fri, 03 Oct 2025 23:57:13 -0700 (PDT) X-Relaying-Domain: iol.unh.edu Date: Fri, 03 Oct 2025 23:57:13 -0700 (PDT) Message-ID: <68e0c549.050a0220.176382.f3ccSMTPIN_ADDED_MISSING@mx.google.com> Received: from [172.21.0.2] (unknown [172.18.0.240]) by postal.iol.unh.edu (Postfix) with ESMTP id 758D36051830; Sat, 4 Oct 2025 02:57:13 -0400 (EDT) Subject: |SUCCESS| [GIT MASTER] 76393b98bf67f94dc6aa23cf5016c32571899261 From: dpdklab@iol.unh.edu To: Test Report Cc: dpdk-test-reports@iol.unh.edu Content-Type: text/plain X-BeenThere: test-report@dpdk.org X-Mailman-Version: 2.1.29 Precedence: list List-Id: automatic DPDK test reports List-Unsubscribe: , List-Archive: List-Post: List-Help: List-Subscribe: , Errors-To: test-report-bounces@dpdk.org _Testing PASS_ Branch: dpdk 76393b98bf67f94dc6aa23cf5016c32571899261 --> testing pass Upstream job id: Generic-DPDK-Compile-Meson#430816 Test environment and result as below: +---------------------+--------------------+-------------------------+-------------------+----------------------+ | Environment | dpdk_meson_compile | dpdk_llvm_clang_compile | dpdk_msvc_compile | dpdk_mingw64_compile | +=====================+====================+=========================+===================+======================+ | Ubuntu 20.04 | PASS | SKIPPED | SKIPPED | SKIPPED | +---------------------+--------------------+-------------------------+-------------------+----------------------+ | FreeBSD 14.2 | PASS | SKIPPED | SKIPPED | SKIPPED | +---------------------+--------------------+-------------------------+-------------------+----------------------+ | Windows Server 2022 | SKIPPED | PASS | PASS | PASS | +---------------------+--------------------+-------------------------+-------------------+----------------------+ Ubuntu 20.04 Kernel: 4.19 Compiler: gcc gcc (Ubuntu 9.4.0-1ubuntu1~20.04.2) 9.4.0 FreeBSD 14.2 Kernel: 14.2-RELEASE Compiler: clang 18.1.6 Windows Server 2022 Kernel: 10.0.20348.2031 Compiler: clang 15.0.7, gcc 14.1.0 (MinGW), and MSVC VS 19.39.33521 To view detailed results, visit: https://lab.dpdk.org/results/dashboard/tarballs/35103/ UNH-IOL DPDK Community Lab To manage your email subscriptions, visit: https://lab.dpdk.org/results/dashboard/preferences/subscriptions/