From mboxrd@z Thu Jan 1 00:00:00 1970 Return-Path: Received: from mails.dpdk.org (mails.dpdk.org [217.70.189.124]) by inbox.dpdk.org (Postfix) with ESMTP id BEA1D488A9 for ; Sat, 4 Oct 2025 09:09:57 +0200 (CEST) Received: from mails.dpdk.org (localhost [127.0.0.1]) by mails.dpdk.org (Postfix) with ESMTP id B72054014F; Sat, 4 Oct 2025 09:09:57 +0200 (CEST) Received: from mail-qt1-f227.google.com (mail-qt1-f227.google.com [209.85.160.227]) by mails.dpdk.org (Postfix) with ESMTP id 6BB1C4014F for ; Sat, 4 Oct 2025 09:09:56 +0200 (CEST) Received: by mail-qt1-f227.google.com with SMTP id d75a77b69052e-4ddabf2ada5so46080481cf.1 for ; Sat, 04 Oct 2025 00:09:56 -0700 (PDT) DKIM-Signature: v=1; a=rsa-sha256; c=relaxed/relaxed; d=iol.unh.edu; s=unh-iol; t=1759561796; x=1760166596; darn=dpdk.org; h=cc:to:from:subject:message-id:date:from:to:cc:subject:date :message-id:reply-to; bh=fyUdQXyF4CoRL9BTW2wDNEIVn53jXWs/4+KtLZTRmCo=; b=dMjSECmzdiAcqFq7QfDnAelWFMXDO3A3zEIXek3h38uexb+oSe4kEzB6lNPHUZchRa 2GK6/rKqVUy5hkbge2Yabl8b1egzGePhPJDA0n3B7jCXei8wsF+zZ62aSQx1buVwceBG n2rG5ss/F+Las0KnfzJnpHm8ygymST+gTiS0k= X-Google-DKIM-Signature: v=1; a=rsa-sha256; c=relaxed/relaxed; d=1e100.net; s=20230601; t=1759561796; x=1760166596; h=cc:to:from:subject:message-id:date:x-gm-message-state:from:to:cc :subject:date:message-id:reply-to; bh=fyUdQXyF4CoRL9BTW2wDNEIVn53jXWs/4+KtLZTRmCo=; b=m7bjIj/tud4KSoDumzLRibn6rXaShYYB7HscfEPUtEuPK/0qJdSgIsrco2T0zqm8uV rFpz+OUE93AIjoijoeNogiuHTTmVCHwUWml9lr98ghAbmoXtxcP+Hh5G/xAdPQtdi1JE xFoX5JEeensqH6XgJYau2S3r837VcsnItSqS7A1HmKSesK6i+ra3Qpmt2zxE+9YsXB69 KVHF1v+ufCoFPVlorZbFhs8P98/Y7e6L62mSXGXykBvXiyR/7nEfqK5ClyYqRhyMJmHV 6PtN6iupV4knIiIKXQXyH+xe20jOkB7W17HeZl5SmcCy9xu84cCof5moMghPcABHMh9y ZOow== X-Gm-Message-State: AOJu0YzAVQWnZHwVKH2oWue2VYFRWaNr5hwz/TtNI1lA7kus8YGV+OvA bv3Q+OAYqxH/Y6M3Qg36+gYHhA3sea1p+LHf5ZTx1CcCXywHAC08H/VdT8dQ1F0S+NMD2Ihdikh 4EOGPeCxvXSimC8gwGqDchFOO0gewbWn4N3SNyVb7Vvby7BZxlslE X-Gm-Gg: ASbGncv3nF2OhK+roQq+HyZxCOR9iuWvbpecnIaZHCD0Tu15VjWp20I5iKiwYlZpAzc p6j4LkVolPxtYU7s6BdNOs4cgUMOJMCmNxGiES5DpwsUpPLJIb3iOWKBb0BVFC6pdVSHV5E3MBo msEqPRD6N4uGH+xp1H3hWpuEqxlu/ZSV+n0CgvBinnwFARQ8pQuJhXDeaLxcGZIHUmtnmKCewEm g1ODzc7DFNitbfWIOPaA0/IqikFiCarNyk/xtBhGOfSk/qylO/fFVCdEcEr+bxIGc4pVoccBMgU VgIohi+RMTng9izbYInQzrHfZhJtGZqvCcww8fFi6mjFGR+8gcOTckk= X-Google-Smtp-Source: AGHT+IGBj5EVbdpr9WsnG0yR8N0ZvEH6nVoqww7/LHBAos3lQT5IW01uALUc4VZpVdBfyPDo94AdB/+B9G1u X-Received: by 2002:a05:622a:1a11:b0:4d5:d752:74e1 with SMTP id d75a77b69052e-4e576a2e758mr83307951cf.13.1759561795755; Sat, 04 Oct 2025 00:09:55 -0700 (PDT) Received: from postal.iol.unh.edu (postal.iol.unh.edu. [2606:4100:3880:1234::84]) by smtp-relay.gmail.com with ESMTPS id 6a1803df08f44-878bb254292sm5219526d6.10.2025.10.04.00.09.55 (version=TLS1_2 cipher=ECDHE-ECDSA-AES128-GCM-SHA256 bits=128/128); Sat, 04 Oct 2025 00:09:55 -0700 (PDT) X-Relaying-Domain: iol.unh.edu Date: Sat, 04 Oct 2025 00:09:55 -0700 (PDT) Message-ID: <68e0c843.d40a0220.9ccd5.f293SMTPIN_ADDED_MISSING@mx.google.com> Received: from [172.21.0.3] (unknown [172.18.0.240]) by postal.iol.unh.edu (Postfix) with ESMTP id 66A6B6051830; Sat, 4 Oct 2025 03:09:55 -0400 (EDT) Subject: |SUCCESS| [GIT MASTER] b287e404643aeab5bb5db084c142789df187844e From: dpdklab@iol.unh.edu To: Test Report Cc: dpdk-test-reports@iol.unh.edu, Xueming Li , Christian Ehrhardt , Kevin Traynor , Luca Boccassi Content-Type: text/plain X-BeenThere: test-report@dpdk.org X-Mailman-Version: 2.1.29 Precedence: list List-Id: automatic DPDK test reports List-Unsubscribe: , List-Archive: List-Post: List-Help: List-Subscribe: , Errors-To: test-report-bounces@dpdk.org _Testing PASS_ Branch: tags/v24.11 b287e404643aeab5bb5db084c142789df187844e --> testing pass Upstream job id: Generic-DPDK-Compile-Meson#430820 Test environment and result as below: +---------------------+--------------------+-------------------+-------------------------+----------------------+-------------------+ | Environment | dpdk_meson_compile | dpdk_msvc_compile | dpdk_llvm_clang_compile | dpdk_mingw64_compile | dpdk_compile_spdk | +=====================+====================+===================+=========================+======================+===================+ | Ubuntu 20.04 | PASS | SKIPPED | SKIPPED | SKIPPED | SKIPPED | +---------------------+--------------------+-------------------+-------------------------+----------------------+-------------------+ | FreeBSD 14.2 | PASS | SKIPPED | SKIPPED | SKIPPED | SKIPPED | +---------------------+--------------------+-------------------+-------------------------+----------------------+-------------------+ | Ubuntu 22.04 | PASS | SKIPPED | SKIPPED | SKIPPED | PASS | +---------------------+--------------------+-------------------+-------------------------+----------------------+-------------------+ | Windows Server 2022 | SKIPPED | PASS | PASS | PASS | SKIPPED | +---------------------+--------------------+-------------------+-------------------------+----------------------+-------------------+ Ubuntu 20.04 Kernel: 4.19 Compiler: gcc gcc (Ubuntu 9.4.0-1ubuntu1~20.04.2) 9.4.0 FreeBSD 14.2 Kernel: 14.2-RELEASE Compiler: clang 18.1.6 Ubuntu 22.04 Kernel: 5.15 Compiler: gcc gcc (Ubuntu 11.4.0-1ubuntu1~22.04) 11.4.0 Windows Server 2022 Kernel: 10.0.20348.2031 Compiler: clang 15.0.7, gcc 14.1.0 (MinGW), and MSVC VS 19.39.33521 To view detailed results, visit: https://lab.dpdk.org/results/dashboard/tarballs/35107/ UNH-IOL DPDK Community Lab To manage your email subscriptions, visit: https://lab.dpdk.org/results/dashboard/preferences/subscriptions/