From mboxrd@z Thu Jan 1 00:00:00 1970 Return-Path: Received: from mails.dpdk.org (mails.dpdk.org [217.70.189.124]) by inbox.dpdk.org (Postfix) with ESMTP id B77DD488A9 for ; Sat, 4 Oct 2025 09:19:48 +0200 (CEST) Received: from mails.dpdk.org (localhost [127.0.0.1]) by mails.dpdk.org (Postfix) with ESMTP id 921D94014F; Sat, 4 Oct 2025 09:19:48 +0200 (CEST) Received: from mail-yw1-f225.google.com (mail-yw1-f225.google.com [209.85.128.225]) by mails.dpdk.org (Postfix) with ESMTP id 8AF994014F for ; Sat, 4 Oct 2025 09:19:47 +0200 (CEST) Received: by mail-yw1-f225.google.com with SMTP id 00721157ae682-71d60110772so31835477b3.0 for ; Sat, 04 Oct 2025 00:19:47 -0700 (PDT) DKIM-Signature: v=1; a=rsa-sha256; c=relaxed/relaxed; d=iol.unh.edu; s=unh-iol; t=1759562387; x=1760167187; darn=dpdk.org; h=references:in-reply-to:cc:to:from:subject:message-id:date:from:to :cc:subject:date:message-id:reply-to; bh=ZfrjVMGkBiuKuomNpQpzYKcgfBCXmc2VwvUSux0Ni08=; b=WhACInMtmsp0BQwl9JlnLEUBjO2kRfkFU0q6JLtl/gxrs+UHVC+XVEiewd+WkNtjC8 AVLrkwqr8kxH+FfBp9n6/UsjiPloxYBw/KUXLEtCm+tDfmkEgxMzDr6ttfl/vz20CMLz ukd/drT4L3KR/2pn9R5DuH4pOspvv9Q1FDgtg= X-Google-DKIM-Signature: v=1; a=rsa-sha256; c=relaxed/relaxed; d=1e100.net; s=20230601; t=1759562387; x=1760167187; h=references:in-reply-to:cc:to:from:subject:message-id:date :x-gm-message-state:from:to:cc:subject:date:message-id:reply-to; bh=ZfrjVMGkBiuKuomNpQpzYKcgfBCXmc2VwvUSux0Ni08=; b=M511BKou3714lue7KuXt62rUXU0YAFqpron1BSXGeL7ezTlA8lTqSlE2jdswKfDplk jy7J5ZxlaBL6csedr2V6yIKtxxD8CqS5ZqzOwbeHhXuhEaTjeaNIAADxNBSzPmRR5Gpp /1S9d1mrcIPvmoZOuGsl5dfAyMjV+MKcsgNMrxJuvHf4tm+Nwe0z2Qr6vQKni6nBGQNO Pmf4UTDfqEu+4kQ7tcU4SfbV79jkRDkJitPKMzApYuVtMrV5YMcF53aDrbhPWM0in5p0 5gNkkB8pyY9ukhac/ewxaK0yHRRIG06fuFvjsDAYJGZ9mtbmEgpqJ/q3v34KUEbwaTuK /MFA== X-Gm-Message-State: AOJu0YxkzKtWLZHkCDXjcwz0ueIYDUgjsnZQCxVQtT1yUApk7SksYQHR L719SFFUmwvssr6xWH0TGZEVm1qFQS+C371z5Wzom9HlBEQ45NhGlRgJosY4c+gfWoFnyLHv5A8 zi+dqM9JgGFfPHwf/j/L1ifdVfmqnDXoMPOo/MRaNEytC X-Gm-Gg: ASbGncsWfzVwjjRjSjJFQSe8oR1pTx+ZEi2EtUxr7whTublW8AQsZNx/MxBuzZiE3AU /kmNx9ptskX74uBFMcr0zjDfDaJACKc2GRQvgyVOnNUDiQv2JXPyI30BhLcftBXMsirICopHp6m gF+2LX95dPNcAW2zlVLgVZY1d6YBJ7vI9aiCJ+B7xCo31R1J5WRQ+Jf35OOXmvRoZSAbqqhucJJ ZV3nmpLyF2jV3d1+z1KYInxlz4cRWqmiJMKkbdZ0Z5afRvoyJZpCfuL/2gaTxhhCjPkF9Femyip cvIDhoxl1KhaObX67MRaLhflpjqxzeSFMMzN4za9wfnIelYb6YbPh0ObDJs1onqYqv8nmAYxyw4 9QQ== X-Google-Smtp-Source: AGHT+IHzjFZ84pEvwiNK9ipSCTq+VMVbAJEUqGk1xUljU/kBN6jExn83ybMRXLFxz75MoCbj8OCcIsyoGZ40 X-Received: by 2002:a05:690c:7086:b0:71f:b944:101b with SMTP id 00721157ae682-77f94760289mr84333777b3.54.1759562386834; Sat, 04 Oct 2025 00:19:46 -0700 (PDT) Received: from postal.iol.unh.edu (postal.iol.unh.edu. [132.177.123.84]) by smtp-relay.gmail.com with ESMTPS id 00721157ae682-77f81d026c9sm3860827b3.21.2025.10.04.00.19.46 (version=TLS1_2 cipher=ECDHE-ECDSA-AES128-GCM-SHA256 bits=128/128); Sat, 04 Oct 2025 00:19:46 -0700 (PDT) X-Relaying-Domain: iol.unh.edu Date: Sat, 04 Oct 2025 00:19:46 -0700 (PDT) Message-ID: <68e0ca92.050a0220.2d1281.7f6dSMTPIN_ADDED_MISSING@mx.google.com> Received: from [172.21.0.2] (unknown [172.18.0.240]) by postal.iol.unh.edu (Postfix) with ESMTP id 79CBE6051830; Sat, 4 Oct 2025 03:19:46 -0400 (EDT) Subject: |SUCCESS| pw157172-157176 [PATCH] [v2,5/5] net/ice/base: update READ From: dpdklab@iol.unh.edu To: Test Report Cc: dpdk-test-reports@iol.unh.edu, Bruce Richardson In-Reply-To: <207bf21102cc183944ead4f989eaf9b26d0e7891.1759321681.git.anatoly.burakov@intel.com> References: <207bf21102cc183944ead4f989eaf9b26d0e7891.1759321681.git.anatoly.burakov@intel.com> Content-Type: text/plain X-BeenThere: test-report@dpdk.org X-Mailman-Version: 2.1.29 Precedence: list List-Id: automatic DPDK test reports List-Unsubscribe: , List-Archive: List-Post: List-Help: List-Subscribe: , Errors-To: test-report-bounces@dpdk.org Test-Label: iol-compile-amd64-testing Test-Status: SUCCESS http://dpdk.org/patch/157176 _Testing PASS_ Submitter: Burakov, Anatoly Date: Wednesday, October 01 2025 12:29:08 DPDK git baseline: Repo:dpdk-next-net-intel Branch: master CommitID:9845e5848bbe337306fb6ae2a6b1ce5e6ab5b714 157172-157176 --> testing pass Upstream job id: Generic-DPDK-Compile-Meson#430821 Test environment and result as below: +-------------------------------+-------------------------+--------------------+-------------------+----------------------+-------------------+------------------+ | Environment | dpdk_llvm_clang_compile | dpdk_meson_compile | dpdk_msvc_compile | dpdk_mingw64_compile | dpdk_compile_spdk | dpdk_compile_ovs | +===============================+=========================+====================+===================+======================+===================+==================+ | Windows Server 2022 | PASS | SKIPPED | PASS | PASS | SKIPPED | SKIPPED | +-------------------------------+-------------------------+--------------------+-------------------+----------------------+-------------------+------------------+ | Ubuntu 20.04 | SKIPPED | PASS | SKIPPED | SKIPPED | SKIPPED | SKIPPED | +-------------------------------+-------------------------+--------------------+-------------------+----------------------+-------------------+------------------+ | FreeBSD 14.2 | SKIPPED | PASS | SKIPPED | SKIPPED | SKIPPED | SKIPPED | +-------------------------------+-------------------------+--------------------+-------------------+----------------------+-------------------+------------------+ | Ubuntu 22.04 | SKIPPED | PASS | SKIPPED | SKIPPED | PASS | SKIPPED | +-------------------------------+-------------------------+--------------------+-------------------+----------------------+-------------------+------------------+ | CentOS Stream 9 | SKIPPED | PASS | SKIPPED | SKIPPED | PASS | SKIPPED | +-------------------------------+-------------------------+--------------------+-------------------+----------------------+-------------------+------------------+ | CentOS Stream 10 | SKIPPED | PASS | SKIPPED | SKIPPED | SKIPPED | SKIPPED | +-------------------------------+-------------------------+--------------------+-------------------+----------------------+-------------------+------------------+ | Debian GNU/Linux 12 | SKIPPED | PASS | SKIPPED | SKIPPED | PASS | SKIPPED | +-------------------------------+-------------------------+--------------------+-------------------+----------------------+-------------------+------------------+ | Fedora Linux 42 | SKIPPED | PASS | SKIPPED | SKIPPED | PASS | PASS | +-------------------------------+-------------------------+--------------------+-------------------+----------------------+-------------------+------------------+ | openSUSE Leap 15.6 | SKIPPED | PASS | SKIPPED | SKIPPED | SKIPPED | SKIPPED | +-------------------------------+-------------------------+--------------------+-------------------+----------------------+-------------------+------------------+ | Red Hat Enterprise Linux 8.10 | SKIPPED | PASS | SKIPPED | SKIPPED | SKIPPED | SKIPPED | +-------------------------------+-------------------------+--------------------+-------------------+----------------------+-------------------+------------------+ | Red Hat Enterprise Linux 9.5 | SKIPPED | PASS | SKIPPED | SKIPPED | SKIPPED | SKIPPED | +-------------------------------+-------------------------+--------------------+-------------------+----------------------+-------------------+------------------+ | Ubuntu 24.04 | SKIPPED | PASS | SKIPPED | SKIPPED | PASS | PASS | +-------------------------------+-------------------------+--------------------+-------------------+----------------------+-------------------+------------------+ | Alpine Linux 3.22.0 | SKIPPED | PASS | SKIPPED | SKIPPED | SKIPPED | SKIPPED | +-------------------------------+-------------------------+--------------------+-------------------+----------------------+-------------------+------------------+ Windows Server 2022 Kernel: 10.0.20348.2031 Compiler: clang 15.0.7, gcc 14.1.0 (MinGW), and MSVC VS 19.39.33521 Ubuntu 20.04 Kernel: 4.19 Compiler: gcc gcc (Ubuntu 9.4.0-1ubuntu1~20.04.2) 9.4.0 FreeBSD 14.2 Kernel: 14.2-RELEASE Compiler: clang 18.1.6 Ubuntu 22.04 Kernel: 5.15 Compiler: gcc gcc (Ubuntu 11.4.0-1ubuntu1~22.04) 11.4.0 CentOS Stream 9 Kernel: 5.15 Compiler: gcc gcc (GCC) 11.5.0 20240719 (Red Hat 11.5.0-11) CentOS Stream 10 Kernel: 5.15 Compiler: gcc gcc (GCC) 14.2.1 20250110 (Red Hat 14.2.1-8) Debian GNU/Linux 12 Kernel: 5.15 Compiler: gcc gcc (Debian 12.2.0-14+deb12u1) 12.2.0 Fedora Linux 42 Kernel: 5.15 Compiler: clang gcc (GCC) 15.2.1 20250808 (Red Hat 15.2.1-1) openSUSE Leap 15.6 Kernel: 5.15 Compiler: gcc gcc (SUSE Linux) 7.5.0 Red Hat Enterprise Linux 8.10 Kernel: 5.15 Compiler: gcc gcc (GCC) 8.5.0 20210514 (Red Hat 8.5.0-22) Red Hat Enterprise Linux 9.5 Kernel: 5.15 Compiler: gcc gcc (GCC) 11.5.0 20240719 (Red Hat 11.5.0-2) Ubuntu 24.04 Kernel: 5.15 Compiler: gcc gcc (Ubuntu 13.3.0-6ubuntu2~24.04) 13.3.0 Alpine Linux 3.22.0 Kernel: 5.15 Compiler: gcc gcc (Alpine 14.2.0) 14.2.0 To view detailed results, visit: https://lab.dpdk.org/results/dashboard/patchsets/34193/ UNH-IOL DPDK Community Lab To manage your email subscriptions, visit: https://lab.dpdk.org/results/dashboard/preferences/subscriptions/