From mboxrd@z Thu Jan 1 00:00:00 1970 Return-Path: Received: from mails.dpdk.org (mails.dpdk.org [217.70.189.124]) by inbox.dpdk.org (Postfix) with ESMTP id E36BF488AB for ; Sat, 4 Oct 2025 10:00:47 +0200 (CEST) Received: from mails.dpdk.org (localhost [127.0.0.1]) by mails.dpdk.org (Postfix) with ESMTP id BDE274014F; Sat, 4 Oct 2025 10:00:47 +0200 (CEST) Received: from mail-vs1-f100.google.com (mail-vs1-f100.google.com [209.85.217.100]) by mails.dpdk.org (Postfix) with ESMTP id 033C04014F for ; Sat, 4 Oct 2025 10:00:47 +0200 (CEST) Received: by mail-vs1-f100.google.com with SMTP id ada2fe7eead31-5d4018cb45fso1318817137.2 for ; Sat, 04 Oct 2025 01:00:46 -0700 (PDT) DKIM-Signature: v=1; a=rsa-sha256; c=relaxed/relaxed; d=iol.unh.edu; s=unh-iol; t=1759564846; x=1760169646; darn=dpdk.org; h=references:in-reply-to:cc:to:from:subject:message-id:date:from:to :cc:subject:date:message-id:reply-to; bh=UpWChRLBYqjmac7K7+eVffUsD5GZz6hkTOuAIJzqOTw=; b=Aptwmi6qqPoYSvbFMaE0e5IKL++A0G73uLkQROhIPDFbFUhRijXji2CZr6Gn4DOo9H jNVKt8raM0wRJTFmY8jiKD2qJQzWxqcZSfRrJN7w5aoerKC4s1/aN45f0ygcN/n7r1GC pE9gZM4uCm8sNZoYyj2wFbWDfhpKxy+PYxyBI= X-Google-DKIM-Signature: v=1; a=rsa-sha256; c=relaxed/relaxed; d=1e100.net; s=20230601; t=1759564846; x=1760169646; h=references:in-reply-to:cc:to:from:subject:message-id:date :x-gm-message-state:from:to:cc:subject:date:message-id:reply-to; bh=UpWChRLBYqjmac7K7+eVffUsD5GZz6hkTOuAIJzqOTw=; b=HoL4VneeqH+Z+I4yWCs4BbN4rL42jdbw6CA0c4Gn+bbUMLd96eTCsiqvek91EYh1Y3 5lfM4KJkHYpOFeVgJdQOJmIkIo7d3UoSP6b1P1A0M0Zur+2JzE6Q1WnhB3xc8F1RNB9W BgqTYihfZ1KdhqL1hNTHgiCTenv9si/0cOahJw/ZJOnMEKJjiW9Y8pS2tXGZ6SFQscox 9eE0kEl/NaGz+HbLsA0Jb528tJmuyoeqh8CtYKviC4Fq3WQbAvWRoM6aqfy1a3HnZbWk omWlAzMVIHQCM/ZKeT0+VpLMDuAyXyTDD5U0tJe9bIZ3j4vbCi5v0CX4S3emZRTRZlHI Pu/g== X-Gm-Message-State: AOJu0YznvoShyJgvKwsAOPKJZEBdlc23SmDTYXW23qJsvzueP7p5GFi1 biwFw4UOv4W/IAKbflp7DP543Z5BCGi2AD8SwAghTi6ER6eUd2jH+9p9rXGY5Z5zddmXZHpZWbd 1ZwZ/hi0ynBku6wetunAtS0Qzdy/XOuqaqpTWZ+YnUMypPMRY8FASqLv2MCRE X-Gm-Gg: ASbGncsx5s0vc8l7lI/r1l6z6NNAPOnkyc27bMprGml6g9SxFicHRMeJByDs21g5xZC X7Uw3UjnfA9iwXz8ZtCI5pEfMFA/fzvyEZucYIGhpQaxEZ7GShP8UIFIrr95K/I2h2LwqgHKGFF i04vNALNEXuOrVzztZNae6UHwzgoR2TdWFabd/ldIz9U0AtMsObUOY/EZO47BP9mnFIJQrd0Zex oCaBHoTPM3fU15gn5FbjSw3aAo/v9Af/iW6EJAwcghslU4/JoJjGRmauvKboyp6w7ChTR2v/3x3 C9WjVKSbcl0ldNo3D7w2nDTdioc3sRANRyU6iKTh4ahvkJV86N3kalI= X-Google-Smtp-Source: AGHT+IE/ravtZGvxwJxYUa4xUEwCZ0ZhR2eQ/CqEyEd98kcLnrFM+sPmHvZOP8CGF+8ENWGnbOzNQGW08AwF X-Received: by 2002:a05:6102:cd1:b0:522:a762:8e5e with SMTP id ada2fe7eead31-5d41d0e7c06mr1648987137.19.1759564846238; Sat, 04 Oct 2025 01:00:46 -0700 (PDT) Received: from postal.iol.unh.edu (postal.iol.unh.edu. [2606:4100:3880:1234::84]) by smtp-relay.gmail.com with ESMTPS id ada2fe7eead31-5d40c8658a0sm665193137.3.2025.10.04.01.00.46 (version=TLS1_2 cipher=ECDHE-ECDSA-AES128-GCM-SHA256 bits=128/128); Sat, 04 Oct 2025 01:00:46 -0700 (PDT) X-Relaying-Domain: iol.unh.edu Date: Sat, 04 Oct 2025 01:00:46 -0700 (PDT) Message-ID: <68e0d42e.050a0220.1ee648.ae45SMTPIN_ADDED_MISSING@mx.google.com> Received: from [172.21.0.3] (unknown [172.18.0.240]) by postal.iol.unh.edu (Postfix) with ESMTP id D8BE260003F7; Sat, 4 Oct 2025 04:00:45 -0400 (EDT) Subject: |SUCCESS| pw157177-157195 [PATCH] [v1,20/20] net/ntnic: rename nt lo From: dpdklab@iol.unh.edu To: Test Report Cc: dpdk-test-reports@iol.unh.edu, Stephen Hemminger In-Reply-To: <20251001151018.250671-21-sil-plv@napatech.com> References: <20251001151018.250671-21-sil-plv@napatech.com> Content-Type: text/plain X-BeenThere: test-report@dpdk.org X-Mailman-Version: 2.1.29 Precedence: list List-Id: automatic DPDK test reports List-Unsubscribe: , List-Archive: List-Post: List-Help: List-Subscribe: , Errors-To: test-report-bounces@dpdk.org Test-Label: iol-compile-amd64-testing Test-Status: SUCCESS http://dpdk.org/patch/157195 _Testing PASS_ Submitter: Serhii Iliushyk Date: Wednesday, October 01 2025 15:10:02 DPDK git baseline: Repo:dpdk-next-net Branch: master CommitID:c04bbd131b2c14b3049bf86d3ef367b34e6fdf1e 157177-157195 --> testing pass Upstream job id: Generic-DPDK-Compile-Meson#430830 Test environment and result as below: +---------------------+--------------------+-------------------------+-------------------+----------------------+-------------------+------------------+ | Environment | dpdk_meson_compile | dpdk_llvm_clang_compile | dpdk_msvc_compile | dpdk_mingw64_compile | dpdk_compile_spdk | dpdk_compile_ovs | +=====================+====================+=========================+===================+======================+===================+==================+ | Ubuntu 20.04 | PASS | SKIPPED | SKIPPED | SKIPPED | SKIPPED | SKIPPED | +---------------------+--------------------+-------------------------+-------------------+----------------------+-------------------+------------------+ | FreeBSD 14.2 | PASS | SKIPPED | SKIPPED | SKIPPED | SKIPPED | SKIPPED | +---------------------+--------------------+-------------------------+-------------------+----------------------+-------------------+------------------+ | CentOS Stream 9 | PASS | SKIPPED | SKIPPED | SKIPPED | PASS | SKIPPED | +---------------------+--------------------+-------------------------+-------------------+----------------------+-------------------+------------------+ | CentOS Stream 10 | PASS | SKIPPED | SKIPPED | SKIPPED | SKIPPED | SKIPPED | +---------------------+--------------------+-------------------------+-------------------+----------------------+-------------------+------------------+ | Debian GNU/Linux 12 | PASS | SKIPPED | SKIPPED | SKIPPED | PASS | SKIPPED | +---------------------+--------------------+-------------------------+-------------------+----------------------+-------------------+------------------+ | Fedora Linux 42 | PASS | SKIPPED | SKIPPED | SKIPPED | PASS | PASS | +---------------------+--------------------+-------------------------+-------------------+----------------------+-------------------+------------------+ | Windows Server 2022 | SKIPPED | PASS | PASS | PASS | SKIPPED | SKIPPED | +---------------------+--------------------+-------------------------+-------------------+----------------------+-------------------+------------------+ Ubuntu 20.04 Kernel: 4.19 Compiler: gcc gcc (Ubuntu 9.4.0-1ubuntu1~20.04.2) 9.4.0 FreeBSD 14.2 Kernel: 14.2-RELEASE Compiler: clang 18.1.6 CentOS Stream 9 Kernel: 5.15 Compiler: gcc gcc (GCC) 11.5.0 20240719 (Red Hat 11.5.0-11) CentOS Stream 10 Kernel: 5.15 Compiler: gcc gcc (GCC) 14.2.1 20250110 (Red Hat 14.2.1-8) Debian GNU/Linux 12 Kernel: 5.15 Compiler: gcc gcc (Debian 12.2.0-14+deb12u1) 12.2.0 Fedora Linux 42 Kernel: 5.15 Compiler: clang gcc (GCC) 15.2.1 20250808 (Red Hat 15.2.1-1) Windows Server 2022 Kernel: 10.0.20348.2031 Compiler: clang 15.0.7, gcc 14.1.0 (MinGW), and MSVC VS 19.39.33521 To view detailed results, visit: https://lab.dpdk.org/results/dashboard/patchsets/34194/ UNH-IOL DPDK Community Lab To manage your email subscriptions, visit: https://lab.dpdk.org/results/dashboard/preferences/subscriptions/