From mboxrd@z Thu Jan 1 00:00:00 1970 Return-Path: Received: from mails.dpdk.org (mails.dpdk.org [217.70.189.124]) by inbox.dpdk.org (Postfix) with ESMTP id D6ED8488AB for ; Sat, 4 Oct 2025 10:25:39 +0200 (CEST) Received: from mails.dpdk.org (localhost [127.0.0.1]) by mails.dpdk.org (Postfix) with ESMTP id B35FC4014F; Sat, 4 Oct 2025 10:25:39 +0200 (CEST) Received: from mail-il1-f225.google.com (mail-il1-f225.google.com [209.85.166.225]) by mails.dpdk.org (Postfix) with ESMTP id 06C524014F for ; Sat, 4 Oct 2025 10:25:38 +0200 (CEST) Received: by mail-il1-f225.google.com with SMTP id e9e14a558f8ab-42f67e91ae7so841285ab.0 for ; Sat, 04 Oct 2025 01:25:37 -0700 (PDT) DKIM-Signature: v=1; a=rsa-sha256; c=relaxed/relaxed; d=iol.unh.edu; s=unh-iol; t=1759566337; x=1760171137; darn=dpdk.org; h=references:in-reply-to:cc:to:from:subject:message-id:date:from:to :cc:subject:date:message-id:reply-to; bh=lYqC4kPzzrddLAS0vYUIikkZZKpgMiGBOH6yEa5B0lI=; b=BMjvhRDjrmErGTPjiBNo10v0xz0lYFhyPRBu3AytnDU8oVlAu5VWG33uxsBsnCko9y so/Su4KF4Yum8Vx5WdHeMk9NWum8aJ9D1cmLoAJgpxXsZk30boBzRmIzEH+duT5URHX7 4G8UtU+97LqhlcxUVjfpF8Ade2LIv9A8QTndM= X-Google-DKIM-Signature: v=1; a=rsa-sha256; c=relaxed/relaxed; d=1e100.net; s=20230601; t=1759566337; x=1760171137; h=references:in-reply-to:cc:to:from:subject:message-id:date :x-gm-message-state:from:to:cc:subject:date:message-id:reply-to; bh=lYqC4kPzzrddLAS0vYUIikkZZKpgMiGBOH6yEa5B0lI=; b=ob/Kx94ATn0t1EJs5jguoeiVc++xeBcwx8qsI+CRmGHVYT4KvcaBVk8YMUZuawdl4p LnRcQb17eJP4KzyKX+3TZdexFO49gPBRynjX6d7iup6H30HS/2oJwYI/S/KqjXxKoBoe 93SZMqB+GNZXZ3URRx2/Aat1PFTi46ROFncf4/2xqSupsz5PvBryf7dl5P9+4tIAAsLc 4TCOzwFA4Fo5Z4952MytozFRP3CGBvbCbojRWdGPowrRUIFuN0duDfmhKdCnRxpq/XC/ CB+3V/E7V8aRXdFGhs6HiMtaoHKx0XmWPqWr9AYvbcz07tu55greD3huOx10GLapz2NB EIkA== X-Gm-Message-State: AOJu0Yxkme2jGN2PZHO+cy1wXSqoW+DJrTmT4jWvfAqYRro8eQlhtjzR e1jY16Q4CG/js4F3j+nXXUdD76vrwQ6qhkYVrfhQQIDmL7l1Cof1RtF1BiSTqsja5hLFEdTO91a Hv92AkkVLDkQ051PRHcga19TsylwdYlwGlIhtN7/Hb2GN X-Gm-Gg: ASbGncsoQ4PHFxwgq9G1dW/e4maVzIXXbZl08jJS097/D4mERQque3edmh4W687byZz n79Os3AIri+4rSP9XMMrlXK1ooTY864AFpeaTDcdKg6yUqjv23+CIHIKaJaX96p+2VWnkE89rkq eMY/C1cJWW8l/EvVCTFHSNHWNDcNzXur7EtUrnY0POJ4PkS5XhUMbn4RqDvTwjZ2PX1aBv9fv6c UQI53D6RyMMTJudBky8TL9C9Klbuc37O/B5CoJkaKbfIFaZDfqkSy8IewcPV/NczksQRItj4XCC ss8llShvD5k3BnGtHvNE/VTdU1t1UBUadS6VBQLUzxmX/lQOfaYXvPYB+jcXs1empUUo85Nf5xF pVQ== X-Google-Smtp-Source: AGHT+IFjZv2Ag8CJYVAgtm+iJqo1JLaLDAxGy+d0fn2ugFKX67VQnMcFWGZWSU5Md2GjINW3zKzQ+kF5Xoib X-Received: by 2002:a05:6e02:216e:b0:42d:86cc:1bd2 with SMTP id e9e14a558f8ab-42e7adb977cmr80731255ab.32.1759566337263; Sat, 04 Oct 2025 01:25:37 -0700 (PDT) Received: from postal.iol.unh.edu (postal.iol.unh.edu. [132.177.123.84]) by smtp-relay.gmail.com with ESMTPS id 8926c6da1cb9f-57b5eb02709sm536822173.18.2025.10.04.01.25.37 (version=TLS1_2 cipher=ECDHE-ECDSA-AES128-GCM-SHA256 bits=128/128); Sat, 04 Oct 2025 01:25:37 -0700 (PDT) X-Relaying-Domain: iol.unh.edu Date: Sat, 04 Oct 2025 01:25:37 -0700 (PDT) Message-ID: <68e0da01.050a0220.1ac8bf.0b13SMTPIN_ADDED_MISSING@mx.google.com> Received: from [172.21.0.2] (unknown [172.18.0.240]) by postal.iol.unh.edu (Postfix) with ESMTP id C230560003F7; Sat, 4 Oct 2025 04:25:36 -0400 (EDT) Subject: |SUCCESS| pw157177-157195 [PATCH] [v1,20/20] net/ntnic: rename nt lo From: dpdklab@iol.unh.edu To: Test Report Cc: dpdk-test-reports@iol.unh.edu, Stephen Hemminger In-Reply-To: <20251001151018.250671-21-sil-plv@napatech.com> References: <20251001151018.250671-21-sil-plv@napatech.com> Content-Type: text/plain X-BeenThere: test-report@dpdk.org X-Mailman-Version: 2.1.29 Precedence: list List-Id: automatic DPDK test reports List-Unsubscribe: , List-Archive: List-Post: List-Help: List-Subscribe: , Errors-To: test-report-bounces@dpdk.org Test-Label: iol-compile-amd64-testing Test-Status: SUCCESS http://dpdk.org/patch/157195 _Testing PASS_ Submitter: Serhii Iliushyk Date: Wednesday, October 01 2025 15:10:02 DPDK git baseline: Repo:dpdk-next-net Branch: master CommitID:c04bbd131b2c14b3049bf86d3ef367b34e6fdf1e 157177-157195 --> testing pass Upstream job id: Generic-DPDK-Compile-Meson#430835 Test environment and result as below: +-------------------------------+--------------------+-------------------------+-------------------+----------------------+-------------------+------------------+ | Environment | dpdk_meson_compile | dpdk_llvm_clang_compile | dpdk_msvc_compile | dpdk_mingw64_compile | dpdk_compile_spdk | dpdk_compile_ovs | +===============================+====================+=========================+===================+======================+===================+==================+ | Ubuntu 20.04 | PASS | SKIPPED | SKIPPED | SKIPPED | SKIPPED | SKIPPED | +-------------------------------+--------------------+-------------------------+-------------------+----------------------+-------------------+------------------+ | FreeBSD 14.2 | PASS | SKIPPED | SKIPPED | SKIPPED | SKIPPED | SKIPPED | +-------------------------------+--------------------+-------------------------+-------------------+----------------------+-------------------+------------------+ | CentOS Stream 9 | PASS | SKIPPED | SKIPPED | SKIPPED | PASS | SKIPPED | +-------------------------------+--------------------+-------------------------+-------------------+----------------------+-------------------+------------------+ | CentOS Stream 10 | PASS | SKIPPED | SKIPPED | SKIPPED | SKIPPED | SKIPPED | +-------------------------------+--------------------+-------------------------+-------------------+----------------------+-------------------+------------------+ | Debian GNU/Linux 12 | PASS | SKIPPED | SKIPPED | SKIPPED | PASS | SKIPPED | +-------------------------------+--------------------+-------------------------+-------------------+----------------------+-------------------+------------------+ | Fedora Linux 42 | PASS | SKIPPED | SKIPPED | SKIPPED | PASS | PASS | +-------------------------------+--------------------+-------------------------+-------------------+----------------------+-------------------+------------------+ | openSUSE Leap 15.6 | PASS | SKIPPED | SKIPPED | SKIPPED | SKIPPED | SKIPPED | +-------------------------------+--------------------+-------------------------+-------------------+----------------------+-------------------+------------------+ | Red Hat Enterprise Linux 8.10 | PASS | SKIPPED | SKIPPED | SKIPPED | SKIPPED | SKIPPED | +-------------------------------+--------------------+-------------------------+-------------------+----------------------+-------------------+------------------+ | Windows Server 2022 | SKIPPED | PASS | PASS | PASS | SKIPPED | SKIPPED | +-------------------------------+--------------------+-------------------------+-------------------+----------------------+-------------------+------------------+ Ubuntu 20.04 Kernel: 4.19 Compiler: gcc gcc (Ubuntu 9.4.0-1ubuntu1~20.04.2) 9.4.0 FreeBSD 14.2 Kernel: 14.2-RELEASE Compiler: clang 18.1.6 CentOS Stream 9 Kernel: 5.15 Compiler: gcc gcc (GCC) 11.5.0 20240719 (Red Hat 11.5.0-11) CentOS Stream 10 Kernel: 5.15 Compiler: gcc gcc (GCC) 14.2.1 20250110 (Red Hat 14.2.1-8) Debian GNU/Linux 12 Kernel: 5.15 Compiler: gcc gcc (Debian 12.2.0-14+deb12u1) 12.2.0 Fedora Linux 42 Kernel: 5.15 Compiler: clang gcc (GCC) 15.2.1 20250808 (Red Hat 15.2.1-1) openSUSE Leap 15.6 Kernel: 5.15 Compiler: gcc gcc (SUSE Linux) 7.5.0 Red Hat Enterprise Linux 8.10 Kernel: 5.15 Compiler: gcc gcc (GCC) 8.5.0 20210514 (Red Hat 8.5.0-22) Windows Server 2022 Kernel: 10.0.20348.2031 Compiler: clang 15.0.7, gcc 14.1.0 (MinGW), and MSVC VS 19.39.33521 To view detailed results, visit: https://lab.dpdk.org/results/dashboard/patchsets/34194/ UNH-IOL DPDK Community Lab To manage your email subscriptions, visit: https://lab.dpdk.org/results/dashboard/preferences/subscriptions/