From mboxrd@z Thu Jan 1 00:00:00 1970 Return-Path: Received: from mails.dpdk.org (mails.dpdk.org [217.70.189.124]) by inbox.dpdk.org (Postfix) with ESMTP id 497BE488AB for ; Sat, 4 Oct 2025 10:29:57 +0200 (CEST) Received: from mails.dpdk.org (localhost [127.0.0.1]) by mails.dpdk.org (Postfix) with ESMTP id 2506A4014F; Sat, 4 Oct 2025 10:29:57 +0200 (CEST) Received: from mail-oo1-f97.google.com (mail-oo1-f97.google.com [209.85.161.97]) by mails.dpdk.org (Postfix) with ESMTP id B41614014F for ; Sat, 4 Oct 2025 10:29:55 +0200 (CEST) Received: by mail-oo1-f97.google.com with SMTP id 006d021491bc7-61bd4e002afso852790eaf.2 for ; Sat, 04 Oct 2025 01:29:55 -0700 (PDT) DKIM-Signature: v=1; a=rsa-sha256; c=relaxed/relaxed; d=iol.unh.edu; s=unh-iol; t=1759566595; x=1760171395; darn=dpdk.org; h=references:in-reply-to:cc:to:from:subject:message-id:date:from:to :cc:subject:date:message-id:reply-to; bh=g8spEhQM36ymVQMjSVaXlYfNAhkOg8iPSKh2wcshOOM=; b=UEk14fhI3mq5a+vAvKxklaRXWdg9f0ltpn6QIPgqOUDv7PQDLlM2HzEUpbLYM2IVnE RsyHi3Mcrcxks49SPBEfeXOEiQKXn95npfYs+jq28MIpycGEzqx//yRHHEjJwGfUVDKY ChPG4LqU5wxTI4Ty7NgmRncgJClWk4abzngYk= X-Google-DKIM-Signature: v=1; a=rsa-sha256; c=relaxed/relaxed; d=1e100.net; s=20230601; t=1759566595; x=1760171395; h=references:in-reply-to:cc:to:from:subject:message-id:date :x-gm-message-state:from:to:cc:subject:date:message-id:reply-to; bh=g8spEhQM36ymVQMjSVaXlYfNAhkOg8iPSKh2wcshOOM=; b=W9wEJbPMIUvoBc5Gcq2LU81TUbiZfhQSrpkB1hx46eSudKq6S8fbt4oCXlwltegLiO nTIjrJyzYySHMawaMqly2VSE70zhPJpTy1mJoEKh2x8nR/ftE2i1R1PzjbHHUp8tGoFX N472ZaVAmRzcr1e7ov/SIuDBeHTyTV242EPE0f1N19NotsnuBtYOledibtOPRpk14WjH J6FxwWRRZeNTPyv5MTUbJyjuq9qMt0gtonEdurw6VOHz82FzQlmm8LY73AbS39LmpTDL 3vHVFohhU9j/ncd6wANRIOJsWecAJCKuZuErDgV010DkmGzM/8ZECbsBCFmgWfD4R95w VL7w== X-Gm-Message-State: AOJu0YwuEnJkvW4uANej4KQSGmxVYygeqTq5ftq5Fo+lDySxcADde6WH jVPeA6mRApPacczPCezB0+94CPL5Bmj8FwTe5x2K+uHbY1yXsFMIj+SOVf3NS4GPkei1N4ntImk OcNQoBE3sUIm8JIKL6t5a/VYyYac4x1sI3cBduNZ40m6/ X-Gm-Gg: ASbGncu+MBxesFustu7xj3yT3kPvtfMFmghz9I+JMWGKKXcleBwcfCvtwRNIIYwVTCd fhINl6gO2sXYuYoDQKdmNr7kMwJxjwYIAS9Qm1uN9fTth9ythGEgrMOrR9PBvEOLeg78jYKzOP7 tv3b1AkpqPgAm2fLcT2vLADi3ms9jXUAZaiRM/TzPymahL1aZETiNXeuixMNP47b5rR6tzw7Xof rnPId1ik4Rfb/00kW3IHQf1UVadP18yMbHkdTvDRbfcbQKNtpclhJru272gZKi2yJTEgve5ej6M dgeV8ZLkrDElWLDwD6qYRistfVMfeKHIqEPebQBeAYJ3MWmqoJhCOh7RMWWCczaUT0ryvDWtAKt Lgw== X-Google-Smtp-Source: AGHT+IEzXYyabzUDA0z9mI2Q4NRI3hNf15EzwOJVJlGWzHhX0cWlBl6i9diLtQCEpOlqHdaXXXCKsXS2kPNs X-Received: by 2002:a05:6870:a11e:b0:372:abfa:f274 with SMTP id 586e51a60fabf-3b104759d60mr3480409fac.44.1759566594826; Sat, 04 Oct 2025 01:29:54 -0700 (PDT) Received: from postal.iol.unh.edu (postal.iol.unh.edu. [132.177.123.84]) by smtp-relay.gmail.com with ESMTPS id 586e51a60fabf-3ab917b50e2sm571174fac.16.2025.10.04.01.29.54 (version=TLS1_2 cipher=ECDHE-ECDSA-AES128-GCM-SHA256 bits=128/128); Sat, 04 Oct 2025 01:29:54 -0700 (PDT) X-Relaying-Domain: iol.unh.edu Date: Sat, 04 Oct 2025 01:29:54 -0700 (PDT) Message-ID: <68e0db02.050a0220.1edc65.23b2SMTPIN_ADDED_MISSING@mx.google.com> Received: from [172.21.0.2] (unknown [172.18.0.240]) by postal.iol.unh.edu (Postfix) with ESMTP id 0223A6051830; Sat, 4 Oct 2025 04:29:53 -0400 (EDT) Subject: |SUCCESS| pw157177-157195 [PATCH] [v1,20/20] net/ntnic: rename nt lo From: dpdklab@iol.unh.edu To: Test Report Cc: dpdk-test-reports@iol.unh.edu, Stephen Hemminger In-Reply-To: <20251001151018.250671-21-sil-plv@napatech.com> References: <20251001151018.250671-21-sil-plv@napatech.com> Content-Type: text/plain X-BeenThere: test-report@dpdk.org X-Mailman-Version: 2.1.29 Precedence: list List-Id: automatic DPDK test reports List-Unsubscribe: , List-Archive: List-Post: List-Help: List-Subscribe: , Errors-To: test-report-bounces@dpdk.org Test-Label: iol-compile-amd64-testing Test-Status: SUCCESS http://dpdk.org/patch/157195 _Testing PASS_ Submitter: Serhii Iliushyk Date: Wednesday, October 01 2025 15:10:02 DPDK git baseline: Repo:dpdk-next-net Branch: master CommitID:c04bbd131b2c14b3049bf86d3ef367b34e6fdf1e 157177-157195 --> testing pass Upstream job id: Generic-DPDK-Compile-Meson#430837 Test environment and result as below: +-------------------------------+--------------------+-------------------------+-------------------+----------------------+-------------------+------------------+ | Environment | dpdk_meson_compile | dpdk_llvm_clang_compile | dpdk_msvc_compile | dpdk_mingw64_compile | dpdk_compile_spdk | dpdk_compile_ovs | +===============================+====================+=========================+===================+======================+===================+==================+ | Ubuntu 20.04 | PASS | SKIPPED | SKIPPED | SKIPPED | SKIPPED | SKIPPED | +-------------------------------+--------------------+-------------------------+-------------------+----------------------+-------------------+------------------+ | FreeBSD 14.2 | PASS | SKIPPED | SKIPPED | SKIPPED | SKIPPED | SKIPPED | +-------------------------------+--------------------+-------------------------+-------------------+----------------------+-------------------+------------------+ | CentOS Stream 9 | PASS | SKIPPED | SKIPPED | SKIPPED | PASS | SKIPPED | +-------------------------------+--------------------+-------------------------+-------------------+----------------------+-------------------+------------------+ | CentOS Stream 10 | PASS | SKIPPED | SKIPPED | SKIPPED | SKIPPED | SKIPPED | +-------------------------------+--------------------+-------------------------+-------------------+----------------------+-------------------+------------------+ | Debian GNU/Linux 12 | PASS | SKIPPED | SKIPPED | SKIPPED | PASS | SKIPPED | +-------------------------------+--------------------+-------------------------+-------------------+----------------------+-------------------+------------------+ | Fedora Linux 42 | PASS | SKIPPED | SKIPPED | SKIPPED | PASS | PASS | +-------------------------------+--------------------+-------------------------+-------------------+----------------------+-------------------+------------------+ | openSUSE Leap 15.6 | PASS | SKIPPED | SKIPPED | SKIPPED | SKIPPED | SKIPPED | +-------------------------------+--------------------+-------------------------+-------------------+----------------------+-------------------+------------------+ | Red Hat Enterprise Linux 8.10 | PASS | SKIPPED | SKIPPED | SKIPPED | SKIPPED | SKIPPED | +-------------------------------+--------------------+-------------------------+-------------------+----------------------+-------------------+------------------+ | Red Hat Enterprise Linux 9.5 | PASS | SKIPPED | SKIPPED | SKIPPED | SKIPPED | SKIPPED | +-------------------------------+--------------------+-------------------------+-------------------+----------------------+-------------------+------------------+ | Windows Server 2022 | SKIPPED | PASS | PASS | PASS | SKIPPED | SKIPPED | +-------------------------------+--------------------+-------------------------+-------------------+----------------------+-------------------+------------------+ Ubuntu 20.04 Kernel: 4.19 Compiler: gcc gcc (Ubuntu 9.4.0-1ubuntu1~20.04.2) 9.4.0 FreeBSD 14.2 Kernel: 14.2-RELEASE Compiler: clang 18.1.6 CentOS Stream 9 Kernel: 5.15 Compiler: gcc gcc (GCC) 11.5.0 20240719 (Red Hat 11.5.0-11) CentOS Stream 10 Kernel: 5.15 Compiler: gcc gcc (GCC) 14.2.1 20250110 (Red Hat 14.2.1-8) Debian GNU/Linux 12 Kernel: 5.15 Compiler: gcc gcc (Debian 12.2.0-14+deb12u1) 12.2.0 Fedora Linux 42 Kernel: 5.15 Compiler: clang gcc (GCC) 15.2.1 20250808 (Red Hat 15.2.1-1) openSUSE Leap 15.6 Kernel: 5.15 Compiler: gcc gcc (SUSE Linux) 7.5.0 Red Hat Enterprise Linux 8.10 Kernel: 5.15 Compiler: gcc gcc (GCC) 8.5.0 20210514 (Red Hat 8.5.0-22) Red Hat Enterprise Linux 9.5 Kernel: 5.15 Compiler: gcc gcc (GCC) 11.5.0 20240719 (Red Hat 11.5.0-2) Windows Server 2022 Kernel: 10.0.20348.2031 Compiler: clang 15.0.7, gcc 14.1.0 (MinGW), and MSVC VS 19.39.33521 To view detailed results, visit: https://lab.dpdk.org/results/dashboard/patchsets/34194/ UNH-IOL DPDK Community Lab To manage your email subscriptions, visit: https://lab.dpdk.org/results/dashboard/preferences/subscriptions/