From mboxrd@z Thu Jan 1 00:00:00 1970 Return-Path: Received: from mails.dpdk.org (mails.dpdk.org [217.70.189.124]) by inbox.dpdk.org (Postfix) with ESMTP id 24410488AC for ; Sat, 4 Oct 2025 12:21:39 +0200 (CEST) Received: from mails.dpdk.org (localhost [127.0.0.1]) by mails.dpdk.org (Postfix) with ESMTP id 00DB24014F; Sat, 4 Oct 2025 12:21:39 +0200 (CEST) Received: from mail-qt1-f228.google.com (mail-qt1-f228.google.com [209.85.160.228]) by mails.dpdk.org (Postfix) with ESMTP id 121F34014F for ; Sat, 4 Oct 2025 12:21:38 +0200 (CEST) Received: by mail-qt1-f228.google.com with SMTP id d75a77b69052e-4e4d9fc4316so39141541cf.2 for ; Sat, 04 Oct 2025 03:21:38 -0700 (PDT) DKIM-Signature: v=1; a=rsa-sha256; c=relaxed/relaxed; d=iol.unh.edu; s=unh-iol; t=1759573297; x=1760178097; darn=dpdk.org; h=references:in-reply-to:cc:to:from:subject:message-id:date:from:to :cc:subject:date:message-id:reply-to; bh=g4Vfu7gSIF2BZk/rX0DYdr7g4ICrVK64bTvUfQlzY0k=; b=gUP9YMdB03mKSIGGFLFCcvFFw7ka5Djn37EpohPg6kgzA/N2g/Y1fBmMzOlSqhw+3v uWCm+T+RRkHARr5QbxbCigJM+p9S1/TN5pLWYb4ETskE+j2pzaC/BD05sW1rLoPmqQHH Cxkc776V2kR9CRPVKdjEBlA+4tdeF/dUUuvo8= X-Google-DKIM-Signature: v=1; a=rsa-sha256; c=relaxed/relaxed; d=1e100.net; s=20230601; t=1759573297; x=1760178097; h=references:in-reply-to:cc:to:from:subject:message-id:date :x-gm-message-state:from:to:cc:subject:date:message-id:reply-to; bh=g4Vfu7gSIF2BZk/rX0DYdr7g4ICrVK64bTvUfQlzY0k=; b=tDb/JlZLODiPm465lcln4jeRJybcK1lYi2FL+YiM/5pVu+7EkI+7LRFybM2G+LTOry gM/Lr/4Yl6pceEQ7rZ6rkRNcsEFqUYqsCiYkY9OX37JCV9HOVsyPfmjloRN1F86D7dGP yLO0d4qB9X9iGKECI7dAtKJKaRLEsSgfUFEF/wpA9zkTM3vHCPW2Gmf868vQDNGGRA/e I0OP2HrIsctGkY1oz9Y+TP3AMXfL5FYYOCccLw6K2jY5DyMBIm2Hya8K8fkrOJRMGLvX QFrRkuFJsNky6Zd8uP3pCezK8LW7UjijnUHqwPwOX/dZ0WGskmVbRhh5nNa0Ixyy5Yup YyPw== X-Gm-Message-State: AOJu0YwmC09aE2eBu7nM82VuKEBKNnbjHA5GQdMTnTEGum6nXbGNqBMZ ED2SOqHu0HODdw8uz2s7OOu3B3CvZJvYXovj6oUiMiKdfUy0pUAIBI9np46qBBNDi2br+g5BkrP IE5KOycZAPxkWz8lLDbFu/CzvALd6QystwSJj2sDbJW1E X-Gm-Gg: ASbGncub5B5YUvUVf7X3h+UD1CtWBflcL8dVF7432uFhyxPKFAvJVvtolScYirXRh/H G3OKu7Hz7m+txg6g2qtzHe3s73uTqkXQfr6QF5b2q9Io/v0NPQl2x4grztyPgYokhWSBLkgSi5z CfXqEcVkRR8qtvPHXq3K4j+ClUyGMXW45quzcpge6Hwc3k5xGO0GjQw7m7/POklxWmET0cjQCXy hGhSXLLOlCCKQsbNQ8qOGN3vCAFq2N9gDCXagTihqrqC2PBUxC7LW0TkYN6Z5lV91znmAbwvFDl etKhzpaMgwBx+b+pvlcgu1ONSemb8/3zUZNTe4tVAK5x7pJYItBYowkpUa2YVRESRbibMlMLZ3G yIw== X-Google-Smtp-Source: AGHT+IFwzvzOdTkWK5UlLu6/ICLDZikUuJBjp0hwSAtOr3rjlPUF5btFQhxgawCp4GPEDeNC5ZffDJHaCScT X-Received: by 2002:a05:622a:588d:b0:4dc:3e99:e412 with SMTP id d75a77b69052e-4e576a80a81mr79734701cf.32.1759573297376; Sat, 04 Oct 2025 03:21:37 -0700 (PDT) Received: from postal.iol.unh.edu (postal.iol.unh.edu. [132.177.123.84]) by smtp-relay.gmail.com with ESMTPS id 6a1803df08f44-878bda734c1sm5506086d6.24.2025.10.04.03.21.37 (version=TLS1_2 cipher=ECDHE-ECDSA-AES128-GCM-SHA256 bits=128/128); Sat, 04 Oct 2025 03:21:37 -0700 (PDT) X-Relaying-Domain: iol.unh.edu Date: Sat, 04 Oct 2025 03:21:37 -0700 (PDT) Message-ID: <68e0f531.050a0220.76fa0.1d93SMTPIN_ADDED_MISSING@mx.google.com> Received: from [172.21.0.2] (unknown [172.18.0.240]) by postal.iol.unh.edu (Postfix) with ESMTP id 17F4D6051830; Sat, 4 Oct 2025 06:21:37 -0400 (EDT) Subject: |SUCCESS| pw157177-157195 [PATCH] [v1,20/20] net/ntnic: rename nt lo From: dpdklab@iol.unh.edu To: Test Report Cc: dpdk-test-reports@iol.unh.edu, Stephen Hemminger In-Reply-To: <20251001151018.250671-21-sil-plv@napatech.com> References: <20251001151018.250671-21-sil-plv@napatech.com> Content-Type: text/plain X-BeenThere: test-report@dpdk.org X-Mailman-Version: 2.1.29 Precedence: list List-Id: automatic DPDK test reports List-Unsubscribe: , List-Archive: List-Post: List-Help: List-Subscribe: , Errors-To: test-report-bounces@dpdk.org Test-Label: iol-compile-amd64-testing Test-Status: SUCCESS http://dpdk.org/patch/157195 _Testing PASS_ Submitter: Serhii Iliushyk Date: Wednesday, October 01 2025 15:10:02 DPDK git baseline: Repo:dpdk-next-net Branch: master CommitID:c04bbd131b2c14b3049bf86d3ef367b34e6fdf1e 157177-157195 --> testing pass Upstream job id: Generic-DPDK-Compile-Meson#430847 Test environment and result as below: +-------------------------------+--------------------+-------------------------+-------------------+----------------------+-------------------+------------------+ | Environment | dpdk_meson_compile | dpdk_llvm_clang_compile | dpdk_msvc_compile | dpdk_mingw64_compile | dpdk_compile_spdk | dpdk_compile_ovs | +===============================+====================+=========================+===================+======================+===================+==================+ | Ubuntu 20.04 | PASS | SKIPPED | SKIPPED | SKIPPED | SKIPPED | SKIPPED | +-------------------------------+--------------------+-------------------------+-------------------+----------------------+-------------------+------------------+ | FreeBSD 14.2 | PASS | SKIPPED | SKIPPED | SKIPPED | SKIPPED | SKIPPED | +-------------------------------+--------------------+-------------------------+-------------------+----------------------+-------------------+------------------+ | CentOS Stream 9 | PASS | SKIPPED | SKIPPED | SKIPPED | PASS | SKIPPED | +-------------------------------+--------------------+-------------------------+-------------------+----------------------+-------------------+------------------+ | CentOS Stream 10 | PASS | SKIPPED | SKIPPED | SKIPPED | SKIPPED | SKIPPED | +-------------------------------+--------------------+-------------------------+-------------------+----------------------+-------------------+------------------+ | Debian GNU/Linux 12 | PASS | SKIPPED | SKIPPED | SKIPPED | PASS | SKIPPED | +-------------------------------+--------------------+-------------------------+-------------------+----------------------+-------------------+------------------+ | Fedora Linux 42 | PASS | SKIPPED | SKIPPED | SKIPPED | PASS | PASS | +-------------------------------+--------------------+-------------------------+-------------------+----------------------+-------------------+------------------+ | openSUSE Leap 15.6 | PASS | SKIPPED | SKIPPED | SKIPPED | SKIPPED | SKIPPED | +-------------------------------+--------------------+-------------------------+-------------------+----------------------+-------------------+------------------+ | Red Hat Enterprise Linux 8.10 | PASS | SKIPPED | SKIPPED | SKIPPED | SKIPPED | SKIPPED | +-------------------------------+--------------------+-------------------------+-------------------+----------------------+-------------------+------------------+ | Red Hat Enterprise Linux 9.5 | PASS | SKIPPED | SKIPPED | SKIPPED | SKIPPED | SKIPPED | +-------------------------------+--------------------+-------------------------+-------------------+----------------------+-------------------+------------------+ | Ubuntu 22.04 | PASS | SKIPPED | SKIPPED | SKIPPED | PASS | SKIPPED | +-------------------------------+--------------------+-------------------------+-------------------+----------------------+-------------------+------------------+ | Ubuntu 24.04 | PASS | SKIPPED | SKIPPED | SKIPPED | PASS | PASS | +-------------------------------+--------------------+-------------------------+-------------------+----------------------+-------------------+------------------+ | Alpine Linux 3.22.0 | PASS | SKIPPED | SKIPPED | SKIPPED | SKIPPED | SKIPPED | +-------------------------------+--------------------+-------------------------+-------------------+----------------------+-------------------+------------------+ | Windows Server 2022 | SKIPPED | PASS | PASS | PASS | SKIPPED | SKIPPED | +-------------------------------+--------------------+-------------------------+-------------------+----------------------+-------------------+------------------+ Ubuntu 20.04 Kernel: 4.19 Compiler: gcc gcc (Ubuntu 9.4.0-1ubuntu1~20.04.2) 9.4.0 FreeBSD 14.2 Kernel: 14.2-RELEASE Compiler: clang 18.1.6 CentOS Stream 9 Kernel: 5.15 Compiler: gcc gcc (GCC) 11.5.0 20240719 (Red Hat 11.5.0-11) CentOS Stream 10 Kernel: 5.15 Compiler: gcc gcc (GCC) 14.2.1 20250110 (Red Hat 14.2.1-8) Debian GNU/Linux 12 Kernel: 5.15 Compiler: gcc gcc (Debian 12.2.0-14+deb12u1) 12.2.0 Fedora Linux 42 Kernel: 5.15 Compiler: clang gcc (GCC) 15.2.1 20250808 (Red Hat 15.2.1-1) openSUSE Leap 15.6 Kernel: 5.15 Compiler: gcc gcc (SUSE Linux) 7.5.0 Red Hat Enterprise Linux 8.10 Kernel: 5.15 Compiler: gcc gcc (GCC) 8.5.0 20210514 (Red Hat 8.5.0-22) Red Hat Enterprise Linux 9.5 Kernel: 5.15 Compiler: gcc gcc (GCC) 11.5.0 20240719 (Red Hat 11.5.0-2) Ubuntu 22.04 Kernel: 5.15 Compiler: gcc gcc (Ubuntu 11.4.0-1ubuntu1~22.04) 11.4.0 Ubuntu 24.04 Kernel: 5.15 Compiler: gcc gcc (Ubuntu 13.3.0-6ubuntu2~24.04) 13.3.0 Alpine Linux 3.22.0 Kernel: 5.15 Compiler: gcc gcc (Alpine 14.2.0) 14.2.0 Windows Server 2022 Kernel: 10.0.20348.2031 Compiler: clang 15.0.7, gcc 14.1.0 (MinGW), and MSVC VS 19.39.33521 To view detailed results, visit: https://lab.dpdk.org/results/dashboard/patchsets/34194/ UNH-IOL DPDK Community Lab To manage your email subscriptions, visit: https://lab.dpdk.org/results/dashboard/preferences/subscriptions/