From mboxrd@z Thu Jan 1 00:00:00 1970 Return-Path: Received: from mails.dpdk.org (mails.dpdk.org [217.70.189.124]) by inbox.dpdk.org (Postfix) with ESMTP id 15942488AC for ; Sat, 4 Oct 2025 13:24:31 +0200 (CEST) Received: from mails.dpdk.org (localhost [127.0.0.1]) by mails.dpdk.org (Postfix) with ESMTP id DFF5D4014F; Sat, 4 Oct 2025 13:24:30 +0200 (CEST) Received: from mail-yw1-f228.google.com (mail-yw1-f228.google.com [209.85.128.228]) by mails.dpdk.org (Postfix) with ESMTP id BFF634014F for ; Sat, 4 Oct 2025 13:24:29 +0200 (CEST) Received: by mail-yw1-f228.google.com with SMTP id 00721157ae682-71d6051aeafso34160337b3.2 for ; Sat, 04 Oct 2025 04:24:29 -0700 (PDT) DKIM-Signature: v=1; a=rsa-sha256; c=relaxed/relaxed; d=iol.unh.edu; s=unh-iol; t=1759577069; x=1760181869; darn=dpdk.org; h=references:in-reply-to:cc:to:from:subject:message-id:date:from:to :cc:subject:date:message-id:reply-to; bh=z2ViRbWdVoNP5gevex2r/VZ5Jrde39+1/+0l51bXvw8=; b=RhoPB9XUg4Xr7mj7aQnFDY2sJBjAMIkW3UWBnOqSfiLQhp5AFa+yMKSE1FxzLqcpae BBk6kWbNi9lI1pWGFjzMhNP+4A/RmYFVUh9/bUpHcIXRirsnsCaEUOXwugdbC5uG3+nW BjAUuwzYuyvQt/aT+f/8QCU57LJkVJ3DQsXWE= X-Google-DKIM-Signature: v=1; a=rsa-sha256; c=relaxed/relaxed; d=1e100.net; s=20230601; t=1759577069; x=1760181869; h=references:in-reply-to:cc:to:from:subject:message-id:date :x-gm-message-state:from:to:cc:subject:date:message-id:reply-to; bh=z2ViRbWdVoNP5gevex2r/VZ5Jrde39+1/+0l51bXvw8=; b=go0P86+kMC16DSCCQerJnLA6+vaZSVRTPLEX0vhRNKtoTNePeBol8ZeJpuvmNfxd44 5vdgHtqy0nB+Vncom0AIuxOZuwvq3BWDIdykmP491s2rWl1C9olfPtG7dSbTRrAvSDSR vMGrbK04ruf8gc/a79aUagLFuUjVjN+hA5wcmiB/ROqWnnEjz752OwaK6Rz03BepHnd7 riiZoI5osvzV7yLXoOOerDXsMQXJ/vcKWKsl4sct6S2vl1Zb08sLiv8Ndp39Ia4lIcGR NPBHdzvm9zjzSJPbMuyDVnYbDPWo0wREfn0/s9bTDltXESmYV8JSQHN2wAcd2bKhY3zd HvUw== X-Gm-Message-State: AOJu0Yz88+IBqIzwhxz/isKgYwe6hLrtcpl29QXnanGOcJBp3W+7XkBD QA2tE674/wvypPYL7aJjslS432sDFYTwL6hp8OOpn81kiBIiOezLgbpF4eDoPgKmIt3yX3SpwSk /iX4xENhGX6EaBWhm4CiKAga8URYdyu7U9M/LpSx/O/n5Nx0SgxIJbjR5OZtZ X-Gm-Gg: ASbGnctVQpclWUSGmcAyMJ+Yn1WS4dktmwgzq9Q705rOHk08Lm0CPepDwjzvWZOQKY+ Dh+RhwDdmkz3v9ezUr2VKfr0I0F/NAeJKkU70VRJABo8BOCneKWMyqzh2ylIAI6CNFLHtJpdIAt C2RTepKYHrfmeh7Nr8W+PZXI7ONek9EZ4jh6FXSQWnq8Uon/o7YJbpgBcyk6k1SQOUMakz7jJSM rx6yqiEQK/v0kwuGDdohzCLQQqzKCroK40O0AB6lxiszc9/bm7Q3x0rHGHyzvNVBk184BtAoFX+ wu8MJH49RgvBml9QJoOhGCA5vko+Z4itZ2tpXGScgm0M3EWIoHwQyuA= X-Google-Smtp-Source: AGHT+IHtq25F8ZKUF+QALDih/zzNsDdjcD04qyl7BW9nOyrnF8qNvHG5oWT8oQHy6tzTlARi7gonzZGKRAG/ X-Received: by 2002:a05:690e:404:b0:636:1844:119 with SMTP id 956f58d0204a3-63b9a06516fmr3782468d50.3.1759577069085; Sat, 04 Oct 2025 04:24:29 -0700 (PDT) Received: from postal.iol.unh.edu (postal.iol.unh.edu. [2606:4100:3880:1234::84]) by smtp-relay.gmail.com with ESMTPS id 00721157ae682-77f81c35a5esm4223677b3.15.2025.10.04.04.24.29 (version=TLS1_2 cipher=ECDHE-ECDSA-AES128-GCM-SHA256 bits=128/128); Sat, 04 Oct 2025 04:24:29 -0700 (PDT) X-Relaying-Domain: iol.unh.edu Date: Sat, 04 Oct 2025 04:24:29 -0700 (PDT) Message-ID: <68e103ed.050a0220.1c841a.9994SMTPIN_ADDED_MISSING@mx.google.com> Received: from [172.21.0.3] (unknown [172.18.0.240]) by postal.iol.unh.edu (Postfix) with ESMTP id AA5DC60003F7; Sat, 4 Oct 2025 07:24:28 -0400 (EDT) Subject: |SUCCESS| pw157165-157167 [PATCH] [v2,3/3] app/test: add ML crypto t From: dpdklab@iol.unh.edu To: Test Report Cc: dpdk-test-reports@iol.unh.edu In-Reply-To: <20251001073758.1295-4-gmuthukrishn@marvell.com> References: <20251001073758.1295-4-gmuthukrishn@marvell.com> Content-Type: text/plain X-BeenThere: test-report@dpdk.org X-Mailman-Version: 2.1.29 Precedence: list List-Id: automatic DPDK test reports List-Unsubscribe: , List-Archive: List-Post: List-Help: List-Subscribe: , Errors-To: test-report-bounces@dpdk.org Test-Label: iol-compile-arm64-testing Test-Status: SUCCESS http://dpdk.org/patch/157167 _Testing PASS_ Submitter: Gowrishankar Muthukrishnan Date: Wednesday, October 01 2025 07:37:55 DPDK git baseline: Repo:dpdk Branch: master CommitID:f3878b615e69a12087a6c5d212723478cfc79c31 157165-157167 --> testing pass Upstream job id: Generic-DPDK-Compile-Meson#430701 Test environment and result as below: +------------------------------+--------------------+ | Environment | dpdk_meson_compile | +==============================+====================+ | Red Hat Enterprise Linux 9.5 | PASS | +------------------------------+--------------------+ | Ubuntu 20.04 | PASS | +------------------------------+--------------------+ | Debian GNU/Linux 12 | PASS | +------------------------------+--------------------+ | Fedora Linux 42 | PASS | +------------------------------+--------------------+ | Ubuntu 22.04 | PASS | +------------------------------+--------------------+ | Ubuntu 24.04 | PASS | +------------------------------+--------------------+ | CentOS Stream 9 | PASS | +------------------------------+--------------------+ | CentOS Stream 10 | PASS | +------------------------------+--------------------+ Red Hat Enterprise Linux 9.5 Kernel: 5.4 Compiler: gcc gcc (GCC) 11.5.0 20240719 (Red Hat 11.5.0-2) Ubuntu 20.04 Kernel: 5.15 Compiler: aarch64-linux-gnu-gcc gcc (Ubuntu 9.4.0-1ubuntu1~20.04.2) 9.4.0 Debian GNU/Linux 12 Kernel: 5.4 Compiler: gcc gcc (Debian 12.2.0-14+deb12u1) 12.2.0 Fedora Linux 42 Kernel: 5.4 Compiler: gcc gcc (GCC) 15.2.1 20250808 (Red Hat 15.2.1-1) Ubuntu 22.04 Kernel: 5.4 Compiler: gcc gcc (Ubuntu 11.4.0-1ubuntu1~22.04) 11.4.0 Ubuntu 24.04 Kernel: 5.4 Compiler: gcc gcc (Ubuntu 13.3.0-6ubuntu2~24.04) 13.3.0 CentOS Stream 9 Kernel: 5.4 Compiler: gcc gcc (GCC) 11.5.0 20240719 (Red Hat 11.5.0-11) CentOS Stream 10 Kernel: 5.4 Compiler: gcc gcc (GCC) 14.2.1 20250110 (Red Hat 14.2.1-8) To view detailed results, visit: https://lab.dpdk.org/results/dashboard/patchsets/34189/ UNH-IOL DPDK Community Lab To manage your email subscriptions, visit: https://lab.dpdk.org/results/dashboard/preferences/subscriptions/