From mboxrd@z Thu Jan 1 00:00:00 1970 Return-Path: Received: from mails.dpdk.org (mails.dpdk.org [217.70.189.124]) by inbox.dpdk.org (Postfix) with ESMTP id 08A03488AD for ; Sat, 4 Oct 2025 14:38:57 +0200 (CEST) Received: from mails.dpdk.org (localhost [127.0.0.1]) by mails.dpdk.org (Postfix) with ESMTP id DAB254014F; Sat, 4 Oct 2025 14:38:56 +0200 (CEST) Received: from mail-pg1-f228.google.com (mail-pg1-f228.google.com [209.85.215.228]) by mails.dpdk.org (Postfix) with ESMTP id AC6064014F for ; Sat, 4 Oct 2025 14:38:55 +0200 (CEST) Received: by mail-pg1-f228.google.com with SMTP id 41be03b00d2f7-b60971c17acso2806795a12.3 for ; Sat, 04 Oct 2025 05:38:55 -0700 (PDT) DKIM-Signature: v=1; a=rsa-sha256; c=relaxed/relaxed; d=iol.unh.edu; s=unh-iol; t=1759581535; x=1760186335; darn=dpdk.org; h=references:in-reply-to:cc:to:from:subject:message-id:date:from:to :cc:subject:date:message-id:reply-to; bh=CO7MuLadnDvEBxoT4pLilbzLf3HEP375bPl5dZIBDzw=; b=VYyB1yBeoSX7zxdTh6UN0BMMKOaqXPy3LVgfbZ+XccEET2/33wLMA/nF2/K9ds9rCf wgchr1/uLo3X3DB2I251mZtFEhsOLCHxTHY+iAi9LE4fisjVO1MGpcxItMtazbPwYhlf K8YD01g+0pvBGypWX8GPPtW6oyKEPMKqUm024= X-Google-DKIM-Signature: v=1; a=rsa-sha256; c=relaxed/relaxed; d=1e100.net; s=20230601; t=1759581535; x=1760186335; h=references:in-reply-to:cc:to:from:subject:message-id:date :x-gm-message-state:from:to:cc:subject:date:message-id:reply-to; bh=CO7MuLadnDvEBxoT4pLilbzLf3HEP375bPl5dZIBDzw=; b=dNF5HcxT6AM5XyNUklFuNt/ZIA9udykSuZI3JrsudUJMlkqfz3MUXBwDEmcGZxBl0H q83Ens0f7d3dyiUeHtpnjVlTBsrOLrw5bHpwirYzZzcoPPXSgEL69mptKMm/zAzgSOd0 PGktSd75IBZVsTbnPd8oawnyDEJ4OKXhHJ/81nRVfVcOr1iNY3JdIcOduw3XMthGCt7E JWbgUHlrKUzjcZK8evL77jxE38AcZDd8QktcFPPa/agyyeX/Ormq2eYerLOFQOOsmfok RcL7uu/eGC3pqqeGADWTS3/cJhE+aviDKXfjJRERUKc6sodpRlhmkVsZFRAribi1luo8 ET1w== X-Gm-Message-State: AOJu0Yz/A0WcAvnnA1MfPxCnXz7wQg345lelL+Q4FFHFySLygVfDwUnX /jFy6MyfpwFqQs6J704rWDaePptdPZbRfoBfcmWJVtRsSs9RryvjHG2rViFxgLiSeNzepzpmnK5 7JKL6sLML4hAWsr1Lo41KWhrWtR1/Nb48Qn/eH3/DZmQu X-Gm-Gg: ASbGncs5wd3zkMxpiTI3uUokhus94ucQA2kx4YBUlpWVWFV/KL+URXuME3iSDr5lTVJ 42CDuUPEGLDLyU+COqKcbmVJELebKWueG5wq4qB3POKrd+p52dSfXTE6pwLJzOHv9q1f+W9yz4A N2kQZXrgi21g36ljwXFs94ZMppPSSEGfUTnPYlqHGtXImy+0TniIxwRSngyHtJuFfc7eFwhULJG UyGBlFQjbjG5362ZRAaTPpwfpDkEDUhWF+aY1ZFhoyd+FlDCxkATx2rz7TqYm5xbTytFhDrg3Ne CEwThShnE0gXEpz23wdT0whbxfeXxmLetOv3rTsOQVJWB58KS9u5573FIc9eY+MpwyjlfHIbn8P PrQ== X-Google-Smtp-Source: AGHT+IEzMNaBNvrQGtvfeKZG/nqU2nisQL3s95xtJ5qagXpaV4GaI2/F1UK9q+m1QTU59SRjWTYsbOGse4cS X-Received: by 2002:a17:902:f642:b0:288:e2ec:edfd with SMTP id d9443c01a7336-28e9a5616ccmr67388585ad.10.1759581534679; Sat, 04 Oct 2025 05:38:54 -0700 (PDT) Received: from postal.iol.unh.edu (postal.iol.unh.edu. [132.177.123.84]) by smtp-relay.gmail.com with ESMTPS id d9443c01a7336-28e8d180d0asm5299205ad.38.2025.10.04.05.38.54 (version=TLS1_2 cipher=ECDHE-ECDSA-AES128-GCM-SHA256 bits=128/128); Sat, 04 Oct 2025 05:38:54 -0700 (PDT) X-Relaying-Domain: iol.unh.edu Date: Sat, 04 Oct 2025 05:38:54 -0700 (PDT) Message-ID: <68e1155e.170a0220.17379e.fc0eSMTPIN_ADDED_MISSING@mx.google.com> Received: from [172.21.0.3] (unknown [172.18.0.240]) by postal.iol.unh.edu (Postfix) with ESMTP id CAFAD6051830; Sat, 4 Oct 2025 08:38:53 -0400 (EDT) Subject: |SUCCESS| pw157197-157198 [PATCH] [v5,2/2] crypto/ipsec-mb: use cons From: dpdklab@iol.unh.edu To: Test Report Cc: dpdk-test-reports@iol.unh.edu In-Reply-To: <20251001153242.55987-2-kai.ji@intel.com> References: <20251001153242.55987-2-kai.ji@intel.com> Content-Type: text/plain X-BeenThere: test-report@dpdk.org X-Mailman-Version: 2.1.29 Precedence: list List-Id: automatic DPDK test reports List-Unsubscribe: , List-Archive: List-Post: List-Help: List-Subscribe: , Errors-To: test-report-bounces@dpdk.org Test-Label: iol-compile-amd64-testing Test-Status: SUCCESS http://dpdk.org/patch/157198 _Testing PASS_ Submitter: Kai Ji Date: Wednesday, October 01 2025 15:32:42 DPDK git baseline: Repo:dpdk Branch: master CommitID:2ffda8c2e357662354ee6ddcca769258c33642a9 157197-157198 --> testing pass Upstream job id: Generic-DPDK-Compile-Meson#430875 Test environment and result as below: +-------------------------------+--------------------+-------------------+-------------------------+----------------------+------------------+-------------------+ | Environment | dpdk_meson_compile | dpdk_msvc_compile | dpdk_llvm_clang_compile | dpdk_mingw64_compile | dpdk_compile_ovs | dpdk_compile_spdk | +===============================+====================+===================+=========================+======================+==================+===================+ | Ubuntu 20.04 | PASS | SKIPPED | SKIPPED | SKIPPED | SKIPPED | SKIPPED | +-------------------------------+--------------------+-------------------+-------------------------+----------------------+------------------+-------------------+ | FreeBSD 14.2 | PASS | SKIPPED | SKIPPED | SKIPPED | SKIPPED | SKIPPED | +-------------------------------+--------------------+-------------------+-------------------------+----------------------+------------------+-------------------+ | Fedora Linux 42 | PASS | SKIPPED | SKIPPED | SKIPPED | PASS | PASS | +-------------------------------+--------------------+-------------------+-------------------------+----------------------+------------------+-------------------+ | CentOS Stream 9 | PASS | SKIPPED | SKIPPED | SKIPPED | SKIPPED | PASS | +-------------------------------+--------------------+-------------------+-------------------------+----------------------+------------------+-------------------+ | CentOS Stream 10 | PASS | SKIPPED | SKIPPED | SKIPPED | SKIPPED | SKIPPED | +-------------------------------+--------------------+-------------------+-------------------------+----------------------+------------------+-------------------+ | Debian GNU/Linux 12 | PASS | SKIPPED | SKIPPED | SKIPPED | SKIPPED | PASS | +-------------------------------+--------------------+-------------------+-------------------------+----------------------+------------------+-------------------+ | openSUSE Leap 15.6 | PASS | SKIPPED | SKIPPED | SKIPPED | SKIPPED | SKIPPED | +-------------------------------+--------------------+-------------------+-------------------------+----------------------+------------------+-------------------+ | Red Hat Enterprise Linux 8.10 | PASS | SKIPPED | SKIPPED | SKIPPED | SKIPPED | SKIPPED | +-------------------------------+--------------------+-------------------+-------------------------+----------------------+------------------+-------------------+ | Red Hat Enterprise Linux 9.5 | PASS | SKIPPED | SKIPPED | SKIPPED | SKIPPED | SKIPPED | +-------------------------------+--------------------+-------------------+-------------------------+----------------------+------------------+-------------------+ | Ubuntu 22.04 | PASS | SKIPPED | SKIPPED | SKIPPED | SKIPPED | PASS | +-------------------------------+--------------------+-------------------+-------------------------+----------------------+------------------+-------------------+ | Ubuntu 24.04 | PASS | SKIPPED | SKIPPED | SKIPPED | PASS | PASS | +-------------------------------+--------------------+-------------------+-------------------------+----------------------+------------------+-------------------+ | Alpine Linux 3.22.0 | PASS | SKIPPED | SKIPPED | SKIPPED | SKIPPED | SKIPPED | +-------------------------------+--------------------+-------------------+-------------------------+----------------------+------------------+-------------------+ | Windows Server 2022 | SKIPPED | PASS | PASS | PASS | SKIPPED | SKIPPED | +-------------------------------+--------------------+-------------------+-------------------------+----------------------+------------------+-------------------+ Ubuntu 20.04 Kernel: 4.19 Compiler: gcc gcc (Ubuntu 9.4.0-1ubuntu1~20.04.2) 9.4.0 FreeBSD 14.2 Kernel: 14.2-RELEASE Compiler: clang 18.1.6 Fedora Linux 42 Kernel: 5.15 Compiler: gcc gcc (GCC) 15.2.1 20250808 (Red Hat 15.2.1-1) CentOS Stream 9 Kernel: 5.15 Compiler: gcc gcc (GCC) 11.5.0 20240719 (Red Hat 11.5.0-11) CentOS Stream 10 Kernel: 5.15 Compiler: gcc gcc (GCC) 14.2.1 20250110 (Red Hat 14.2.1-8) Debian GNU/Linux 12 Kernel: 5.15 Compiler: gcc gcc (Debian 12.2.0-14+deb12u1) 12.2.0 openSUSE Leap 15.6 Kernel: 5.15 Compiler: gcc gcc (SUSE Linux) 7.5.0 Red Hat Enterprise Linux 8.10 Kernel: 5.15 Compiler: gcc gcc (GCC) 8.5.0 20210514 (Red Hat 8.5.0-22) Red Hat Enterprise Linux 9.5 Kernel: 5.15 Compiler: gcc gcc (GCC) 11.5.0 20240719 (Red Hat 11.5.0-2) Ubuntu 22.04 Kernel: 5.15 Compiler: gcc gcc (Ubuntu 11.4.0-1ubuntu1~22.04) 11.4.0 Ubuntu 24.04 Kernel: 5.15 Compiler: gcc gcc (Ubuntu 13.3.0-6ubuntu2~24.04) 13.3.0 Alpine Linux 3.22.0 Kernel: 5.15 Compiler: gcc gcc (Alpine 14.2.0) 14.2.0 Windows Server 2022 Kernel: 10.0.20348.2031 Compiler: clang 15.0.7, gcc 14.1.0 (MinGW), and MSVC VS 19.39.33521 To view detailed results, visit: https://lab.dpdk.org/results/dashboard/patchsets/34195/ UNH-IOL DPDK Community Lab To manage your email subscriptions, visit: https://lab.dpdk.org/results/dashboard/preferences/subscriptions/