From mboxrd@z Thu Jan 1 00:00:00 1970 Return-Path: Received: from mails.dpdk.org (mails.dpdk.org [217.70.189.124]) by inbox.dpdk.org (Postfix) with ESMTP id C80FD488AD for ; Sat, 4 Oct 2025 14:59:37 +0200 (CEST) Received: from mails.dpdk.org (localhost [127.0.0.1]) by mails.dpdk.org (Postfix) with ESMTP id 981B54014F; Sat, 4 Oct 2025 14:59:37 +0200 (CEST) Received: from mail-vs1-f100.google.com (mail-vs1-f100.google.com [209.85.217.100]) by mails.dpdk.org (Postfix) with ESMTP id 71FCF4014F for ; Sat, 4 Oct 2025 14:59:36 +0200 (CEST) Received: by mail-vs1-f100.google.com with SMTP id ada2fe7eead31-5997f407c85so1095857137.2 for ; Sat, 04 Oct 2025 05:59:36 -0700 (PDT) DKIM-Signature: v=1; a=rsa-sha256; c=relaxed/relaxed; d=iol.unh.edu; s=unh-iol; t=1759582775; x=1760187575; darn=dpdk.org; h=references:in-reply-to:cc:to:from:subject:message-id:date:from:to :cc:subject:date:message-id:reply-to; bh=eUNkMmnKW2evQ4NLwLDuP2TJXeCe9anVO00k8HB6bg4=; b=C5ZrixPobJ7FOWGxx0eo48XNDkQnQTRWQmqmw8Ls5+N33ZsAbyBmWKL/b4Ib5elN26 m5v7adrQ+w0V42riPkLxsuqRInwYHg6N3XXokKzVi/DSHq2nnZb2PNhJ668X7RIbU4vM G7YZN+Iz5FpRpe82z1qbUBW+wa0krQ399qwT8= X-Google-DKIM-Signature: v=1; a=rsa-sha256; c=relaxed/relaxed; d=1e100.net; s=20230601; t=1759582775; x=1760187575; h=references:in-reply-to:cc:to:from:subject:message-id:date :x-gm-message-state:from:to:cc:subject:date:message-id:reply-to; bh=eUNkMmnKW2evQ4NLwLDuP2TJXeCe9anVO00k8HB6bg4=; b=Qs5EzaaJox1nhSbJEm4hpIj9xK7WGkRKs+ZTfS1XidUX69XvXJicvXGKicoAKOpG5H rkZrdjf68e0G8GICU0GgXK4H8fFY6ssr91AbH63FDl4J5DyVkMrsoO1BgZJrQ50iS6Vy SwQyAmCcpp2HcB61MCRH7f/8DbZBa0+T9vQMWHO2OSFy6PfVX6Q5YF3rPbKVEkbXBBtT iRj3UhIxZbkj8ycCfKORi+nSxbELOnTtPKhriMLmsX+T9fXHaWo18p8EHDuy8NtE39lJ OeJx/+Unw/JM3WEv00yqggUOwFAJTqW8yFHShjH3F9LZc+LHN8hkLn2fpicyfVt7z6b/ 9AjA== X-Gm-Message-State: AOJu0YyR+tIEXDV/m9vO9jbIPYaC3Swfsm5Q4TnFNIJ9Q4aEaChNuX6K sKfIUBQFjY0yn/5LIDvb47uCvzVcRjVV2CK7fRoi0Ts5GPXRGX/xouCwtRmYxWzIhGv9pX+bbFB TfvmPlWfKpOBAIWjszGbnrCiQ1LpNzQDJuvvAdH64nlUp8tDR74cABG7m1jrg X-Gm-Gg: ASbGncuvqV7mfUuB7J3sbUHo0WMq320pmkDdPDb3kve338014otIJ2VKbm/rGkom3M0 +wGq8mCwb1oagnz9xMG0G0aCzgDCu+qK2h+dM6nlDp1Lu6NniQ2i8y8fRh3S9IZz429M5mTZWNz VWtgY2N8SDk44OxEnQh7bHsU6YYOS8ua/s37MrJumwZGmCoHsnFy9vDzWgPv0vdCIUOCzNz/wQH +vuaxdyyGuM8QWq3PlXzaFPuK8zv86zH4KIfx3NPAqllAB18gYAQ6FfNNWlPG+OrfU5VJ374GO0 sWP1qgOsm9qThu03Tn8gmZAh95tHrQKDhBBsGFVp8ri0XC0vFEbTXcQ= X-Google-Smtp-Source: AGHT+IE89dVRERqMR6kxMDqZA8XUn+gTT0eFZ6q6G9DZXT1Q9nmxX/rd2/hT60qmzeLtQeT2rdiwrytkq1M7 X-Received: by 2002:a05:6102:c89:b0:592:cf84:dec1 with SMTP id ada2fe7eead31-5d41d12f6camr2146536137.33.1759582775587; Sat, 04 Oct 2025 05:59:35 -0700 (PDT) Received: from postal.iol.unh.edu (postal.iol.unh.edu. [2606:4100:3880:1234::84]) by smtp-relay.gmail.com with ESMTPS id 71dfb90a1353d-5523d031ffbsm742742e0c.5.2025.10.04.05.59.35 (version=TLS1_2 cipher=ECDHE-ECDSA-AES128-GCM-SHA256 bits=128/128); Sat, 04 Oct 2025 05:59:35 -0700 (PDT) X-Relaying-Domain: iol.unh.edu Date: Sat, 04 Oct 2025 05:59:35 -0700 (PDT) Message-ID: <68e11a37.050a0220.34a713.bc9eSMTPIN_ADDED_MISSING@mx.google.com> Received: from [172.21.0.3] (unknown [172.18.0.240]) by postal.iol.unh.edu (Postfix) with ESMTP id 1481D6051830; Sat, 4 Oct 2025 08:59:35 -0400 (EDT) Subject: |SUCCESS| pw157170 [PATCH] ci: configure Coderabbit From: dpdklab@iol.unh.edu To: Test Report Cc: dpdk-test-reports@iol.unh.edu In-Reply-To: <20251001081825.2638077-1-david.marchand@redhat.com> References: <20251001081825.2638077-1-david.marchand@redhat.com> Content-Type: text/plain X-BeenThere: test-report@dpdk.org X-Mailman-Version: 2.1.29 Precedence: list List-Id: automatic DPDK test reports List-Unsubscribe: , List-Archive: List-Post: List-Help: List-Subscribe: , Errors-To: test-report-bounces@dpdk.org Test-Label: iol-compile-arm64-testing Test-Status: SUCCESS http://dpdk.org/patch/157170 _Testing PASS_ Submitter: David Marchand Date: Wednesday, October 01 2025 08:18:25 DPDK git baseline: Repo:dpdk Branch: master CommitID:f3878b615e69a12087a6c5d212723478cfc79c31 157170 --> testing pass Upstream job id: Generic-DPDK-Compile-Meson#430754 Test environment and result as below: +------------------------------+--------------------+ | Environment | dpdk_meson_compile | +==============================+====================+ | Ubuntu 20.04 | PASS | +------------------------------+--------------------+ | Red Hat Enterprise Linux 9.5 | PASS | +------------------------------+--------------------+ | Debian GNU/Linux 12 | PASS | +------------------------------+--------------------+ | Fedora Linux 42 | PASS | +------------------------------+--------------------+ | Ubuntu 22.04 | PASS | +------------------------------+--------------------+ | Ubuntu 24.04 | PASS | +------------------------------+--------------------+ | CentOS Stream 9 | PASS | +------------------------------+--------------------+ | CentOS Stream 10 | PASS | +------------------------------+--------------------+ Ubuntu 20.04 Kernel: 5.15 Compiler: gcc gcc (Ubuntu 9.4.0-1ubuntu1~20.04.2) 9.4.0 Red Hat Enterprise Linux 9.5 Kernel: 5.4 Compiler: gcc gcc (GCC) 11.5.0 20240719 (Red Hat 11.5.0-2) Debian GNU/Linux 12 Kernel: 5.4 Compiler: gcc gcc (Debian 12.2.0-14+deb12u1) 12.2.0 Fedora Linux 42 Kernel: 5.4 Compiler: gcc gcc (GCC) 15.2.1 20250808 (Red Hat 15.2.1-1) Ubuntu 22.04 Kernel: 5.4 Compiler: gcc gcc (Ubuntu 11.4.0-1ubuntu1~22.04) 11.4.0 Ubuntu 24.04 Kernel: 5.4 Compiler: gcc gcc (Ubuntu 13.3.0-6ubuntu2~24.04) 13.3.0 CentOS Stream 9 Kernel: 5.4 Compiler: gcc gcc (GCC) 11.5.0 20240719 (Red Hat 11.5.0-11) CentOS Stream 10 Kernel: 5.4 Compiler: gcc gcc (GCC) 14.2.1 20250110 (Red Hat 14.2.1-8) To view detailed results, visit: https://lab.dpdk.org/results/dashboard/patchsets/34191/ UNH-IOL DPDK Community Lab To manage your email subscriptions, visit: https://lab.dpdk.org/results/dashboard/preferences/subscriptions/