From mboxrd@z Thu Jan 1 00:00:00 1970 Return-Path: Received: from mails.dpdk.org (mails.dpdk.org [217.70.189.124]) by inbox.dpdk.org (Postfix) with ESMTP id AE355488AD for ; Sat, 4 Oct 2025 14:59:45 +0200 (CEST) Received: from mails.dpdk.org (localhost [127.0.0.1]) by mails.dpdk.org (Postfix) with ESMTP id A6E9C4014F; Sat, 4 Oct 2025 14:59:45 +0200 (CEST) Received: from mail-il1-f225.google.com (mail-il1-f225.google.com [209.85.166.225]) by mails.dpdk.org (Postfix) with ESMTP id A9D394014F for ; Sat, 4 Oct 2025 14:59:44 +0200 (CEST) Received: by mail-il1-f225.google.com with SMTP id e9e14a558f8ab-42480cb42e9so15918845ab.0 for ; Sat, 04 Oct 2025 05:59:44 -0700 (PDT) DKIM-Signature: v=1; a=rsa-sha256; c=relaxed/relaxed; d=iol.unh.edu; s=unh-iol; t=1759582784; x=1760187584; darn=dpdk.org; h=references:in-reply-to:cc:to:from:subject:message-id:date:from:to :cc:subject:date:message-id:reply-to; bh=0tzkiuagvHi5k1hNdinlpsorD7EX4BnG/Go95b7QBAU=; b=ZL0hBuqH6NEaq/kR/VzWruMjPx72tJfSZyzb4iLhqV1ewYKLXNiiS7shWpv3/Cf3Pp mD4bZw2X6PW1ZsRG5Mnb/RBBGJI1YHNo7w8HkF6TCzVVKjEmMqOzzic6fFOxG1EvPYuW 0JHKhVpWf0Kd7rrP0x7NWL1LJ4kdsUq7tH5PQ= X-Google-DKIM-Signature: v=1; a=rsa-sha256; c=relaxed/relaxed; d=1e100.net; s=20230601; t=1759582784; x=1760187584; h=references:in-reply-to:cc:to:from:subject:message-id:date :x-gm-message-state:from:to:cc:subject:date:message-id:reply-to; bh=0tzkiuagvHi5k1hNdinlpsorD7EX4BnG/Go95b7QBAU=; b=vMSA34GlWf5kF0iwX/i5r9ugTFVkyHvQh13xDAQ2x378f1u+l/Y9QwPWTq1n0XHeu7 dDr2jLFSHrGDI48Ug3/EyEN8+UDsm8NvuVKMc0tlKTA1325ys0UGkAc9QuC8GYqnnwGR Rk0Aru47r2hdKtf/3qCayfxVQfCTyy+JV2hFEcB1mGb/IvOl6S8xF+s5Zw8Mzl7pnYDB qzM0R+GlxI2X4BXGjPTTGtfy4GwaXrz8Tp8EC79K9QTSiVmBg2YcbA+yDd1ml90yfSdL ghcox8Cq4IPuxuC4+nF02O3TGc8MCiKReq0Q6PrPG8d7gKJ1N/hu7xTMIck84URv4bJy nelw== X-Gm-Message-State: AOJu0YxTOLFmZ+BnAnQgMo/Z5qtuSZIbWheTLpKyE195eRfjVrbNXLeP 8AY9jlh12HR7TR+mjEkPBsG9lJ5JzO9PFTvS+BxCVKM0mfBVvuvXzcOzkZGGUQeNkW+foZXnkV0 /ekrVKAuu6ZUb2NQHA0xQLQU07V2SNvE2fUPYFow6YXyb X-Gm-Gg: ASbGncsn+532yckDBfPJz0Acf9c8mFHrosxZEBXKXDD2gKjcqkcGz7O6MgLH+bHCe05 LKlK/Rj3mJmkmZ16KDaEDlF55zewRL8tF4dQVw6YTiMeEufn+JGK6Za81BehSy2TIDEmP7kmw6F JRnOhv30RvfGZJV+9TmNNy4hH35/avRkh8ECslAq3IGyGZ66zN/fsF/aHzUsr6IMp8TQ4LKAIop +OVajuprx+gYTs7YSzwjwIhwYfeOAed2JoaxVlt6gxfFj/XhONGtKEBY28D5HJ9owCx6vau4hEQ bM6ttYu/r9JE1yWxU09xl4sgv3VJOilgmyUTi6ccw50mrruBmzj04ClqBRdZ3OgGO4JnpWc3Ra1 brQ== X-Google-Smtp-Source: AGHT+IH1nH5yB0KmMrZiT0erNQnbm9gW0n9NN7xwUcCFVoAyl3tOVwUCWCUyJQAEC3/Si5l1yZBm/peVJQr5 X-Received: by 2002:a05:6e02:1fe9:b0:427:64d2:358 with SMTP id e9e14a558f8ab-42e7adadc47mr78857065ab.24.1759582784021; Sat, 04 Oct 2025 05:59:44 -0700 (PDT) Received: from postal.iol.unh.edu (postal.iol.unh.edu. [132.177.123.84]) by smtp-relay.gmail.com with ESMTPS id e9e14a558f8ab-42d8b17293asm6104035ab.0.2025.10.04.05.59.43 (version=TLS1_2 cipher=ECDHE-ECDSA-AES128-GCM-SHA256 bits=128/128); Sat, 04 Oct 2025 05:59:44 -0700 (PDT) X-Relaying-Domain: iol.unh.edu Date: Sat, 04 Oct 2025 05:59:44 -0700 (PDT) Message-ID: <68e11a40.050a0220.4b19a.4365SMTPIN_ADDED_MISSING@mx.google.com> Received: from [172.21.0.5] (unknown [172.18.0.240]) by postal.iol.unh.edu (Postfix) with ESMTP id 471D56051830; Sat, 4 Oct 2025 08:59:43 -0400 (EDT) Subject: |SUCCESS| pw157171 [PATCH] crypto/cnxk: add packet vector support From: dpdklab@iol.unh.edu To: Test Report Cc: dpdk-test-reports@iol.unh.edu In-Reply-To: <20251001103846.1130824-1-ktejasree@marvell.com> References: <20251001103846.1130824-1-ktejasree@marvell.com> Content-Type: text/plain X-BeenThere: test-report@dpdk.org X-Mailman-Version: 2.1.29 Precedence: list List-Id: automatic DPDK test reports List-Unsubscribe: , List-Archive: List-Post: List-Help: List-Subscribe: , Errors-To: test-report-bounces@dpdk.org Test-Label: iol-compile-arm64-testing Test-Status: SUCCESS http://dpdk.org/patch/157171 _Testing PASS_ Submitter: Tejasree Kondoj Date: Wednesday, October 01 2025 10:38:46 DPDK git baseline: Repo:dpdk Branch: master CommitID:f3878b615e69a12087a6c5d212723478cfc79c31 157171 --> testing pass Upstream job id: Generic-DPDK-Compile-Meson#430785 Test environment and result as below: +------------------------------+--------------------+ | Environment | dpdk_meson_compile | +==============================+====================+ | Debian GNU/Linux 12 | PASS | +------------------------------+--------------------+ | Red Hat Enterprise Linux 9.5 | PASS | +------------------------------+--------------------+ | Ubuntu 20.04 | PASS | +------------------------------+--------------------+ | Fedora Linux 42 | PASS | +------------------------------+--------------------+ | Ubuntu 22.04 | PASS | +------------------------------+--------------------+ | Ubuntu 24.04 | PASS | +------------------------------+--------------------+ | CentOS Stream 9 | PASS | +------------------------------+--------------------+ | CentOS Stream 10 | PASS | +------------------------------+--------------------+ Debian GNU/Linux 12 Kernel: 5.4 Compiler: gcc gcc (Debian 12.2.0-14+deb12u1) 12.2.0 Red Hat Enterprise Linux 9.5 Kernel: 5.4 Compiler: gcc gcc (GCC) 11.5.0 20240719 (Red Hat 11.5.0-2) Ubuntu 20.04 Kernel: 5.15 Compiler: aarch64-linux-gnu-gcc gcc (Ubuntu 9.4.0-1ubuntu1~20.04.2) 9.4.0 Fedora Linux 42 Kernel: 5.4 Compiler: gcc gcc (GCC) 15.2.1 20250808 (Red Hat 15.2.1-1) Ubuntu 22.04 Kernel: 5.4 Compiler: gcc gcc (Ubuntu 11.4.0-1ubuntu1~22.04) 11.4.0 Ubuntu 24.04 Kernel: 5.4 Compiler: gcc gcc (Ubuntu 13.3.0-6ubuntu2~24.04) 13.3.0 CentOS Stream 9 Kernel: 5.4 Compiler: gcc gcc (GCC) 11.5.0 20240719 (Red Hat 11.5.0-11) CentOS Stream 10 Kernel: 5.4 Compiler: gcc gcc (GCC) 14.2.1 20250110 (Red Hat 14.2.1-8) To view detailed results, visit: https://lab.dpdk.org/results/dashboard/patchsets/34192/ UNH-IOL DPDK Community Lab To manage your email subscriptions, visit: https://lab.dpdk.org/results/dashboard/preferences/subscriptions/