From mboxrd@z Thu Jan 1 00:00:00 1970 Return-Path: Received: from mails.dpdk.org (mails.dpdk.org [217.70.189.124]) by inbox.dpdk.org (Postfix) with ESMTP id 05CD4488AD for ; Sat, 4 Oct 2025 15:27:38 +0200 (CEST) Received: from mails.dpdk.org (localhost [127.0.0.1]) by mails.dpdk.org (Postfix) with ESMTP id D504F4014F; Sat, 4 Oct 2025 15:27:38 +0200 (CEST) Received: from mail-pj1-f100.google.com (mail-pj1-f100.google.com [209.85.216.100]) by mails.dpdk.org (Postfix) with ESMTP id 414ED4014F for ; Sat, 4 Oct 2025 15:27:37 +0200 (CEST) Received: by mail-pj1-f100.google.com with SMTP id 98e67ed59e1d1-3306d93e562so3507213a91.1 for ; Sat, 04 Oct 2025 06:27:37 -0700 (PDT) DKIM-Signature: v=1; a=rsa-sha256; c=relaxed/relaxed; d=iol.unh.edu; s=unh-iol; t=1759584456; x=1760189256; darn=dpdk.org; h=references:in-reply-to:cc:to:from:subject:message-id:date:from:to :cc:subject:date:message-id:reply-to; bh=VabOmufGPEMdvnGPqnvcliUjlqKtg/AtA5XnaaEmlSU=; b=bgd+YECUWOLARnzgfb1R26V6CG/fZ6FNXr/LRrdnuO5Bi5BAAJFGL0/nYPx0LWuTgn 2U9ORgYGRXqgeDxrv5EslkUgUqB12h46xRID88urrVPrUkdmKF4Wt5CNSi9N8KhtosyO rKG+nantDyqaQ+7gIeWfRnRjWlfDET5ags3wA= X-Google-DKIM-Signature: v=1; a=rsa-sha256; c=relaxed/relaxed; d=1e100.net; s=20230601; t=1759584456; x=1760189256; h=references:in-reply-to:cc:to:from:subject:message-id:date :x-gm-message-state:from:to:cc:subject:date:message-id:reply-to; bh=VabOmufGPEMdvnGPqnvcliUjlqKtg/AtA5XnaaEmlSU=; b=WMiT6n51KUJySGDGztC6H0ZcYSuwuJYw16Cx6tNLxR7KZZswh7ExK6hyPASjpVE3tj u2hA/H8+Se2oz8/8wbKLNNPrRWg4sfPFySPRU+1B3/rfN3WH68rTwaTD0DSXZbrakREK LAaWx5ecsqFtoWLKPQxPMHbQd1Ln6mhJVRIjyECE4J7JPcJrZwW0mBevlnOGhfedhEQp KQpko/EGdZup9eTdTq4Zjvickgg+opXxr/qnEeP1+7qnPPG3N0bfEmdCV+yi3IwNF45i Wpn2+xR9dvSfV3DGK5mprpmAB1OIziVIPTNTkE4lzesINtwJ/PCZhNa0iuAqEfDnFiCy QDZA== X-Gm-Message-State: AOJu0Yw6K+PK1NAcnxt8lbuG/KybXKfiWGV4Ej2XehMLi0w1UeiZMlpo lhJnhH6BnwHB9T+H725h5ccPNYfgbX/t/IfY/iMXTW6w0dr1wbHtJ+5oa2eIBy65gcqexsPQ/G7 hbIaRYKd9m9npr4oKwOocLoWg2SWoCJ3+qlKX46W0LgJn X-Gm-Gg: ASbGncuDjjU98pXM1+On0ckEnDXlUL+pCfmT8SvesQ6S27ESxX27W/qreHKhFgh5emk oJ0SkDyHeJpvzC/fsw0ITcthn8E+5cCtU+wlpIUSwqCRVQgsR42GGHxF6oGuxGO4mJC9DyR/TJf +G8js7jksbfbtzvr5n+V3h7zGIYvs0GxTECTSXCRW8A0hkffxo7tthn6JqGp4m0wpB2/N0lWTCy L14P6tcdujlZk1xVUEs2HlX9kCnd2nvuXo1HuGiOvYhDQ8lzlEoeA4SnuyU7m77ZrMnHAQ/Q3uG j1po7Yt/LoCMiIfsDo4nd+mvfOiMKCmy6B96b6oS+rEilWKWkG4KuPOPB0HFbhLtzTJpzG31l+f pzA== X-Google-Smtp-Source: AGHT+IEWsvtCJ75DNO7ryfmJNOf9PTOMc3Zc16Gexj+zQSROwK8EMRmm2pJRi7PcVqxoaqOYG7rmRDIe1HSZ X-Received: by 2002:a17:903:8cc:b0:261:cb35:5a08 with SMTP id d9443c01a7336-28e9a65654amr78943255ad.38.1759584456132; Sat, 04 Oct 2025 06:27:36 -0700 (PDT) Received: from postal.iol.unh.edu (postal.iol.unh.edu. [132.177.123.84]) by smtp-relay.gmail.com with ESMTPS id d9443c01a7336-28e8d180b2dsm5672295ad.35.2025.10.04.06.27.36 (version=TLS1_2 cipher=ECDHE-ECDSA-AES128-GCM-SHA256 bits=128/128); Sat, 04 Oct 2025 06:27:36 -0700 (PDT) X-Relaying-Domain: iol.unh.edu Date: Sat, 04 Oct 2025 06:27:36 -0700 (PDT) Message-ID: <68e120c8.170a0220.2518a8.20c7SMTPIN_ADDED_MISSING@mx.google.com> Received: from [172.21.0.2] (unknown [172.18.0.240]) by postal.iol.unh.edu (Postfix) with ESMTP id 2A3F46051830; Sat, 4 Oct 2025 09:27:35 -0400 (EDT) Subject: |SUCCESS| pw157199-157201 [PATCH] [v3,3/3] app/test: add ML crypto t From: dpdklab@iol.unh.edu To: Test Report Cc: dpdk-test-reports@iol.unh.edu In-Reply-To: <20251001175658.2303-4-gmuthukrishn@marvell.com> References: <20251001175658.2303-4-gmuthukrishn@marvell.com> Content-Type: text/plain X-BeenThere: test-report@dpdk.org X-Mailman-Version: 2.1.29 Precedence: list List-Id: automatic DPDK test reports List-Unsubscribe: , List-Archive: List-Post: List-Help: List-Subscribe: , Errors-To: test-report-bounces@dpdk.org Test-Label: iol-compile-amd64-testing Test-Status: SUCCESS http://dpdk.org/patch/157201 _Testing PASS_ Submitter: Gowrishankar Muthukrishnan Date: Wednesday, October 01 2025 17:56:53 DPDK git baseline: Repo:dpdk Branch: master CommitID:2ffda8c2e357662354ee6ddcca769258c33642a9 157199-157201 --> testing pass Upstream job id: Generic-DPDK-Compile-Meson#430901 Test environment and result as below: +-------------------------------+--------------------+-------------------------+-------------------+----------------------+-------------------+------------------+ | Environment | dpdk_meson_compile | dpdk_llvm_clang_compile | dpdk_msvc_compile | dpdk_mingw64_compile | dpdk_compile_spdk | dpdk_compile_ovs | +===============================+====================+=========================+===================+======================+===================+==================+ | Ubuntu 20.04 | PASS | SKIPPED | SKIPPED | SKIPPED | SKIPPED | SKIPPED | +-------------------------------+--------------------+-------------------------+-------------------+----------------------+-------------------+------------------+ | FreeBSD 14.2 | PASS | SKIPPED | SKIPPED | SKIPPED | SKIPPED | SKIPPED | +-------------------------------+--------------------+-------------------------+-------------------+----------------------+-------------------+------------------+ | CentOS Stream 9 | PASS | SKIPPED | SKIPPED | SKIPPED | PASS | SKIPPED | +-------------------------------+--------------------+-------------------------+-------------------+----------------------+-------------------+------------------+ | CentOS Stream 10 | PASS | SKIPPED | SKIPPED | SKIPPED | SKIPPED | SKIPPED | +-------------------------------+--------------------+-------------------------+-------------------+----------------------+-------------------+------------------+ | Debian GNU/Linux 12 | PASS | SKIPPED | SKIPPED | SKIPPED | PASS | SKIPPED | +-------------------------------+--------------------+-------------------------+-------------------+----------------------+-------------------+------------------+ | Fedora Linux 42 | PASS | SKIPPED | SKIPPED | SKIPPED | PASS | PASS | +-------------------------------+--------------------+-------------------------+-------------------+----------------------+-------------------+------------------+ | openSUSE Leap 15.6 | PASS | SKIPPED | SKIPPED | SKIPPED | SKIPPED | SKIPPED | +-------------------------------+--------------------+-------------------------+-------------------+----------------------+-------------------+------------------+ | Red Hat Enterprise Linux 8.10 | PASS | SKIPPED | SKIPPED | SKIPPED | SKIPPED | SKIPPED | +-------------------------------+--------------------+-------------------------+-------------------+----------------------+-------------------+------------------+ | Red Hat Enterprise Linux 9.5 | PASS | SKIPPED | SKIPPED | SKIPPED | SKIPPED | SKIPPED | +-------------------------------+--------------------+-------------------------+-------------------+----------------------+-------------------+------------------+ | Ubuntu 22.04 | PASS | SKIPPED | SKIPPED | SKIPPED | PASS | SKIPPED | +-------------------------------+--------------------+-------------------------+-------------------+----------------------+-------------------+------------------+ | Ubuntu 24.04 | PASS | SKIPPED | SKIPPED | SKIPPED | PASS | PASS | +-------------------------------+--------------------+-------------------------+-------------------+----------------------+-------------------+------------------+ | Alpine Linux 3.22.0 | PASS | SKIPPED | SKIPPED | SKIPPED | SKIPPED | SKIPPED | +-------------------------------+--------------------+-------------------------+-------------------+----------------------+-------------------+------------------+ | Windows Server 2022 | SKIPPED | PASS | PASS | PASS | SKIPPED | SKIPPED | +-------------------------------+--------------------+-------------------------+-------------------+----------------------+-------------------+------------------+ Ubuntu 20.04 Kernel: 4.19 Compiler: gcc gcc (Ubuntu 9.4.0-1ubuntu1~20.04.2) 9.4.0 FreeBSD 14.2 Kernel: 14.2-RELEASE Compiler: clang 18.1.6 CentOS Stream 9 Kernel: 5.15 Compiler: gcc gcc (GCC) 11.5.0 20240719 (Red Hat 11.5.0-11) CentOS Stream 10 Kernel: 5.15 Compiler: gcc gcc (GCC) 14.2.1 20250110 (Red Hat 14.2.1-8) Debian GNU/Linux 12 Kernel: 5.15 Compiler: gcc gcc (Debian 12.2.0-14+deb12u1) 12.2.0 Fedora Linux 42 Kernel: 5.15 Compiler: clang gcc (GCC) 15.2.1 20250808 (Red Hat 15.2.1-1) openSUSE Leap 15.6 Kernel: 5.15 Compiler: gcc gcc (SUSE Linux) 7.5.0 Red Hat Enterprise Linux 8.10 Kernel: 5.15 Compiler: gcc gcc (GCC) 8.5.0 20210514 (Red Hat 8.5.0-22) Red Hat Enterprise Linux 9.5 Kernel: 5.15 Compiler: gcc gcc (GCC) 11.5.0 20240719 (Red Hat 11.5.0-2) Ubuntu 22.04 Kernel: 5.15 Compiler: gcc gcc (Ubuntu 11.4.0-1ubuntu1~22.04) 11.4.0 Ubuntu 24.04 Kernel: 5.15 Compiler: gcc gcc (Ubuntu 13.3.0-6ubuntu2~24.04) 13.3.0 Alpine Linux 3.22.0 Kernel: 5.15 Compiler: gcc gcc (Alpine 14.2.0) 14.2.0 Windows Server 2022 Kernel: 10.0.20348.2031 Compiler: clang 15.0.7, gcc 14.1.0 (MinGW), and MSVC VS 19.39.33521 To view detailed results, visit: https://lab.dpdk.org/results/dashboard/patchsets/34196/ UNH-IOL DPDK Community Lab To manage your email subscriptions, visit: https://lab.dpdk.org/results/dashboard/preferences/subscriptions/