From mboxrd@z Thu Jan 1 00:00:00 1970 Return-Path: Received: from mails.dpdk.org (mails.dpdk.org [217.70.189.124]) by inbox.dpdk.org (Postfix) with ESMTP id 1B609488AD for ; Sat, 4 Oct 2025 15:53:33 +0200 (CEST) Received: from mails.dpdk.org (localhost [127.0.0.1]) by mails.dpdk.org (Postfix) with ESMTP id DE9B14014F; Sat, 4 Oct 2025 15:53:32 +0200 (CEST) Received: from mail-pj1-f100.google.com (mail-pj1-f100.google.com [209.85.216.100]) by mails.dpdk.org (Postfix) with ESMTP id 3480D4014F for ; Sat, 4 Oct 2025 15:53:31 +0200 (CEST) Received: by mail-pj1-f100.google.com with SMTP id 98e67ed59e1d1-33255011eafso3124078a91.1 for ; Sat, 04 Oct 2025 06:53:31 -0700 (PDT) DKIM-Signature: v=1; a=rsa-sha256; c=relaxed/relaxed; d=iol.unh.edu; s=unh-iol; t=1759586010; x=1760190810; darn=dpdk.org; h=cc:to:from:subject:message-id:date:from:to:cc:subject:date :message-id:reply-to; bh=03C9+gKMOb+aLejIhhs5zqrpU477u9FepQOkCs/WbNI=; b=KkxuFYsKnIG21t6QUl8Aq4Q0h5hohy27dM4RpNH3Dmt7OYjvdiR4fEaI+32/QCPUVd SpNlxu7woaxuYE2dHzdLuJyrvjWwbur6S9Bog3ir7w2meBAcbQsfMb4hiTgbwfCAuYaP VSnJFIMheQW26G3mt0E2ValhyGVqGv6aFuAcg= X-Google-DKIM-Signature: v=1; a=rsa-sha256; c=relaxed/relaxed; d=1e100.net; s=20230601; t=1759586010; x=1760190810; h=cc:to:from:subject:message-id:date:x-gm-message-state:from:to:cc :subject:date:message-id:reply-to; bh=03C9+gKMOb+aLejIhhs5zqrpU477u9FepQOkCs/WbNI=; b=JbrrAuKAJdkjScm3vkFnaBcAU2+N7sqOlK65pg9RPDtW7SJyZf0ZiMsjGczkJaDD8b hW74n3UdMeplLhDDEOOtSQB68dII0CNjnfvRqWjewZSNC+Xm3UpJLd6R7Ahx+wn32PnU JjNglY77YaVK3v0aS9E8TaieP35mbpjmEugAZ0UxqBLSJzH12zn5lFnBpOs/b37R8v1m tEAahaDXs6au47NN/fasuYEjSQf6iWUU6ygWxvB03Dxy70Yalb3uFVmiqXYLWtF96R1+ c+IuDTSBRGY6OzUJjgZEHMYPNTNkyQc8juPJcO4WrOATNeBmRJkzOSezCMUSHumUnTcE tBlg== X-Gm-Message-State: AOJu0YweSr5vCku6OienzXrXwdsZjfuKI4V/fhoE/uEyaf8dAuN7fbAN df60tlUsfHRqk1gepWSixy5o2JSXCeDHHkhQSwqoSfZ/+uqLlcficczbLUi/HsqpKNGG3lINZFt sjHLrzQev31cS84f0OzAJ+2uumqNjLtcqW7MpaE1eKtUq2AGkxhzxvZ86BXv5 X-Gm-Gg: ASbGncv8WSZIZUnAjnd4HIU2z01VMI5jMNZpv2cjX/6LfVZAoKbfWcZ75atkr6a8sgY ck9OtJJJDOK5hQDx+qQN6F1AgKur3O0IuEOa1xGOabS8ISWMX9oZB3N+QoV0SRnJIyZFT9UDvKb ZemSEm4xdFeGC2GbnU7igX7/LzKTKkKF26MgUA497xAhxomfpL1xhaGrMawYnV3sZ1i7x8nIw7C 4f2GaN4BFMDUW4v9kHUoHkASEsVSf3D/NO2To7B+/2pO/QpMYYSEieNoHKEwwk9dw5XmKbhcPzQ uzOzkzit7WBvOHCWrqNBq63W4q/hSA6ntYOolfYKqoog4LD+JeDpBOc= X-Google-Smtp-Source: AGHT+IHcBn1FfjDn9zGqhf3SmYIYCnPbC4yXhjtRl+DByyDBsZV2T/vAB0HM4FU/EcLguTxjUfzqunLQimG6 X-Received: by 2002:a17:902:f68d:b0:24c:7b94:2f87 with SMTP id d9443c01a7336-28e9a5fa15dmr94963025ad.14.1759586010224; Sat, 04 Oct 2025 06:53:30 -0700 (PDT) Received: from postal.iol.unh.edu (postal.iol.unh.edu. [2606:4100:3880:1234::84]) by smtp-relay.gmail.com with ESMTPS id d9443c01a7336-28e8d11809csm6060465ad.26.2025.10.04.06.53.30 (version=TLS1_2 cipher=ECDHE-ECDSA-AES128-GCM-SHA256 bits=128/128); Sat, 04 Oct 2025 06:53:30 -0700 (PDT) X-Relaying-Domain: iol.unh.edu Date: Sat, 04 Oct 2025 06:53:30 -0700 (PDT) Message-ID: <68e126da.170a0220.35468b.49ceSMTPIN_ADDED_MISSING@mx.google.com> Received: from [172.21.0.3] (unknown [172.18.0.240]) by postal.iol.unh.edu (Postfix) with ESMTP id A053F60003F7; Sat, 4 Oct 2025 09:53:29 -0400 (EDT) Subject: |SUCCESS| [GIT MASTER] caa17cb4b057a31ee04067459fe543f7d7ae1079 From: dpdklab@iol.unh.edu To: Test Report Cc: dpdk-test-reports@iol.unh.edu, Akhil Goyal Content-Type: text/plain X-BeenThere: test-report@dpdk.org X-Mailman-Version: 2.1.29 Precedence: list List-Id: automatic DPDK test reports List-Unsubscribe: , List-Archive: List-Post: List-Help: List-Subscribe: , Errors-To: test-report-bounces@dpdk.org _Testing PASS_ Branch: dpdk-next-crypto caa17cb4b057a31ee04067459fe543f7d7ae1079 --> testing pass Upstream job id: Generic-DPDK-Compile-Meson#430905 Test environment and result as below: +-------------------------------+--------------------+-------------------------+-------------------+------------------+-------------------+----------------------+ | Environment | dpdk_meson_compile | dpdk_llvm_clang_compile | dpdk_msvc_compile | dpdk_compile_ovs | dpdk_compile_spdk | dpdk_mingw64_compile | +===============================+====================+=========================+===================+==================+===================+======================+ | Ubuntu 20.04 | PASS | SKIPPED | SKIPPED | SKIPPED | SKIPPED | SKIPPED | +-------------------------------+--------------------+-------------------------+-------------------+------------------+-------------------+----------------------+ | FreeBSD 14.2 | PASS | SKIPPED | SKIPPED | SKIPPED | SKIPPED | SKIPPED | +-------------------------------+--------------------+-------------------------+-------------------+------------------+-------------------+----------------------+ | Fedora Linux 42 | PASS | SKIPPED | SKIPPED | PASS | PASS | SKIPPED | +-------------------------------+--------------------+-------------------------+-------------------+------------------+-------------------+----------------------+ | CentOS Stream 10 | PASS | SKIPPED | SKIPPED | SKIPPED | SKIPPED | SKIPPED | +-------------------------------+--------------------+-------------------------+-------------------+------------------+-------------------+----------------------+ | CentOS Stream 9 | PASS | SKIPPED | SKIPPED | SKIPPED | PASS | SKIPPED | +-------------------------------+--------------------+-------------------------+-------------------+------------------+-------------------+----------------------+ | Debian GNU/Linux 12 | PASS | SKIPPED | SKIPPED | SKIPPED | PASS | SKIPPED | +-------------------------------+--------------------+-------------------------+-------------------+------------------+-------------------+----------------------+ | openSUSE Leap 15.6 | PASS | SKIPPED | SKIPPED | SKIPPED | SKIPPED | SKIPPED | +-------------------------------+--------------------+-------------------------+-------------------+------------------+-------------------+----------------------+ | Red Hat Enterprise Linux 8.10 | PASS | SKIPPED | SKIPPED | SKIPPED | SKIPPED | SKIPPED | +-------------------------------+--------------------+-------------------------+-------------------+------------------+-------------------+----------------------+ | Red Hat Enterprise Linux 9.5 | PASS | SKIPPED | SKIPPED | SKIPPED | SKIPPED | SKIPPED | +-------------------------------+--------------------+-------------------------+-------------------+------------------+-------------------+----------------------+ | Windows Server 2022 | SKIPPED | PASS | PASS | SKIPPED | SKIPPED | PASS | +-------------------------------+--------------------+-------------------------+-------------------+------------------+-------------------+----------------------+ Ubuntu 20.04 Kernel: 4.19 Compiler: gcc gcc (Ubuntu 9.4.0-1ubuntu1~20.04.2) 9.4.0 FreeBSD 14.2 Kernel: 14.2-RELEASE Compiler: clang 18.1.6 Fedora Linux 42 Kernel: 5.15 Compiler: gcc gcc (GCC) 15.2.1 20250808 (Red Hat 15.2.1-1) CentOS Stream 10 Kernel: 5.15 Compiler: gcc gcc (GCC) 14.2.1 20250110 (Red Hat 14.2.1-8) CentOS Stream 9 Kernel: 5.15 Compiler: gcc gcc (GCC) 11.5.0 20240719 (Red Hat 11.5.0-11) Debian GNU/Linux 12 Kernel: 5.15 Compiler: gcc gcc (Debian 12.2.0-14+deb12u1) 12.2.0 openSUSE Leap 15.6 Kernel: 5.15 Compiler: gcc gcc (SUSE Linux) 7.5.0 Red Hat Enterprise Linux 8.10 Kernel: 5.15 Compiler: gcc gcc (GCC) 8.5.0 20210514 (Red Hat 8.5.0-22) Red Hat Enterprise Linux 9.5 Kernel: 5.15 Compiler: gcc gcc (GCC) 11.5.0 20240719 (Red Hat 11.5.0-2) Windows Server 2022 Kernel: 10.0.20348.2031 Compiler: clang 15.0.7, gcc 14.1.0 (MinGW), and MSVC VS 19.39.33521 To view detailed results, visit: https://lab.dpdk.org/results/dashboard/tarballs/35079/ UNH-IOL DPDK Community Lab To manage your email subscriptions, visit: https://lab.dpdk.org/results/dashboard/preferences/subscriptions/