From mboxrd@z Thu Jan 1 00:00:00 1970 Return-Path: Received: from mails.dpdk.org (mails.dpdk.org [217.70.189.124]) by inbox.dpdk.org (Postfix) with ESMTP id A7A6C488AE for ; Sat, 4 Oct 2025 16:25:11 +0200 (CEST) Received: from mails.dpdk.org (localhost [127.0.0.1]) by mails.dpdk.org (Postfix) with ESMTP id 822984014F; Sat, 4 Oct 2025 16:25:11 +0200 (CEST) Received: from mail-qt1-f227.google.com (mail-qt1-f227.google.com [209.85.160.227]) by mails.dpdk.org (Postfix) with ESMTP id 3D7FD4014F for ; Sat, 4 Oct 2025 16:25:10 +0200 (CEST) Received: by mail-qt1-f227.google.com with SMTP id d75a77b69052e-4dd7233b407so40218111cf.1 for ; Sat, 04 Oct 2025 07:25:10 -0700 (PDT) DKIM-Signature: v=1; a=rsa-sha256; c=relaxed/relaxed; d=iol.unh.edu; s=unh-iol; t=1759587909; x=1760192709; darn=dpdk.org; h=cc:to:from:subject:message-id:date:from:to:cc:subject:date :message-id:reply-to; bh=wb3DNwavNm7MtHfJsFB0fJ32NVFPQvIeEp8hHrwhIe4=; b=ST88zYmJP9oIjeU1t1dfPeogxmsElxdXPVaQuyB3v9a0n3BgVHDraPBuSRwpOXrPXf PTh5frmtl+lqkSZwikxd6/qELtcOWwUN9XNLZkV6HYY4kN6dhNMVXop9cGEa5t+8w2Cz nB8lAI+hETKhbaGSdq1aoEBsbg62DpbPwYDnY= X-Google-DKIM-Signature: v=1; a=rsa-sha256; c=relaxed/relaxed; d=1e100.net; s=20230601; t=1759587909; x=1760192709; h=cc:to:from:subject:message-id:date:x-gm-message-state:from:to:cc :subject:date:message-id:reply-to; bh=wb3DNwavNm7MtHfJsFB0fJ32NVFPQvIeEp8hHrwhIe4=; b=wOHWExBpXFI6IziWH191D4s94v2urdMtc787eEHMa8wcBto1qTCqxSAx1tc8u0wsUq qOGGtb6JDn2IJgPN0D9+FQkj7HZ3+yW4lNbyatiq0yugOJ/bhHQdtkfQnL5UfaPJPKWr VzdrLj6BflaSwk//maqAUxENV4Lsns0AkETDyP++u8ACPQKUJmEq4I0vI8bZDlLBng11 GMb5gMqIczLepf5w3ghlqb28iQXmxD+7A3PjCcjW16wUNlllAZH29kjRgQWWGbGI9eFh WfEF913CwX777h3zxwpOP10xgB8YX63ily4lG7ZvLtW1taNoDJXRO+7CH3Mo64vPtOsy yeKQ== X-Gm-Message-State: AOJu0Ywmv4t1HdRUw6j7DNz6SBUONl2B6xcje83G2QOKPV4tmup+NkC/ qSzkxNA8LtdDPqnAF+ffirbZCD/5EyKUFTOJuSfZAmdGtw3RVrgswh41eWgUUMZdy3mPWzjA8mb AB8VqDO7mMMA12Fj8i8+7RTPAZu3q0INNRpm7Yf7uxDFo X-Gm-Gg: ASbGncuqeBAdEE1WOfKya3uA/3XaJM9dF2NBgCiJ3t925vDgZ/ko+T7Gare5hVz9TGz /L109rCJZCfI1WGy0rBpVI7/P0fOrfRHsdk00Cq39osRTyGu9Pu6QI3H/PLgZAz+Ok6v61XJidz zydYvcYCP84Ym81RuumW/kqxb/SDPFeN3C97RcH4k5iNsDVkkOCBsUMulMoPDDZwMaUyUq3o+c8 D7Sz64zN8S3b+8Ve4IkLz60C2/bpSZ4+nB6HryomwGS+yAxta1fp0ZxCwNAiQqh5Yl36wQBHFdl T17pg91B35zW+Gh5/DucylZ/zgLYTeXdxR2vOx0wXefCthOO0GrXZvngjQj74s1Q1ue82kcJixV c/g== X-Google-Smtp-Source: AGHT+IEbZmzF55eTy5CANUtgO58dHylVY2luKo/bSK/mKXiETtlEG/mUjZ2M51/6mXjDajYNJjYJMhFrP3sk X-Received: by 2002:a05:622a:394:b0:4cf:dc5c:8c79 with SMTP id d75a77b69052e-4e576b13fabmr83850891cf.60.1759587909523; Sat, 04 Oct 2025 07:25:09 -0700 (PDT) Received: from postal.iol.unh.edu (postal.iol.unh.edu. [132.177.123.84]) by smtp-relay.gmail.com with ESMTPS id 6a1803df08f44-878be71f54fsm5485276d6.38.2025.10.04.07.25.09 (version=TLS1_2 cipher=ECDHE-ECDSA-AES128-GCM-SHA256 bits=128/128); Sat, 04 Oct 2025 07:25:09 -0700 (PDT) X-Relaying-Domain: iol.unh.edu Date: Sat, 04 Oct 2025 07:25:09 -0700 (PDT) Message-ID: <68e12e45.d40a0220.cf2ec.0cc2SMTPIN_ADDED_MISSING@mx.google.com> Received: from [172.21.0.2] (unknown [172.18.0.240]) by postal.iol.unh.edu (Postfix) with ESMTP id E60B660003F7; Sat, 4 Oct 2025 10:25:08 -0400 (EDT) Subject: |SUCCESS| [GIT MASTER] caa17cb4b057a31ee04067459fe543f7d7ae1079 From: dpdklab@iol.unh.edu To: Test Report Cc: dpdk-test-reports@iol.unh.edu, Akhil Goyal Content-Type: text/plain X-BeenThere: test-report@dpdk.org X-Mailman-Version: 2.1.29 Precedence: list List-Id: automatic DPDK test reports List-Unsubscribe: , List-Archive: List-Post: List-Help: List-Subscribe: , Errors-To: test-report-bounces@dpdk.org _Testing PASS_ Branch: dpdk-next-crypto caa17cb4b057a31ee04067459fe543f7d7ae1079 --> testing pass Upstream job id: Generic-DPDK-Compile-Meson#430917 Test environment and result as below: +-------------------------------+--------------------+-------------------------+-------------------+------------------+-------------------+----------------------+ | Environment | dpdk_meson_compile | dpdk_llvm_clang_compile | dpdk_msvc_compile | dpdk_compile_ovs | dpdk_compile_spdk | dpdk_mingw64_compile | +===============================+====================+=========================+===================+==================+===================+======================+ | Ubuntu 20.04 | PASS | SKIPPED | SKIPPED | SKIPPED | SKIPPED | SKIPPED | +-------------------------------+--------------------+-------------------------+-------------------+------------------+-------------------+----------------------+ | FreeBSD 14.2 | PASS | SKIPPED | SKIPPED | SKIPPED | SKIPPED | SKIPPED | +-------------------------------+--------------------+-------------------------+-------------------+------------------+-------------------+----------------------+ | Fedora Linux 42 | PASS | SKIPPED | SKIPPED | PASS | PASS | SKIPPED | +-------------------------------+--------------------+-------------------------+-------------------+------------------+-------------------+----------------------+ | CentOS Stream 10 | PASS | SKIPPED | SKIPPED | SKIPPED | SKIPPED | SKIPPED | +-------------------------------+--------------------+-------------------------+-------------------+------------------+-------------------+----------------------+ | CentOS Stream 9 | PASS | SKIPPED | SKIPPED | SKIPPED | PASS | SKIPPED | +-------------------------------+--------------------+-------------------------+-------------------+------------------+-------------------+----------------------+ | Debian GNU/Linux 12 | PASS | SKIPPED | SKIPPED | SKIPPED | PASS | SKIPPED | +-------------------------------+--------------------+-------------------------+-------------------+------------------+-------------------+----------------------+ | openSUSE Leap 15.6 | PASS | SKIPPED | SKIPPED | SKIPPED | SKIPPED | SKIPPED | +-------------------------------+--------------------+-------------------------+-------------------+------------------+-------------------+----------------------+ | Red Hat Enterprise Linux 8.10 | PASS | SKIPPED | SKIPPED | SKIPPED | SKIPPED | SKIPPED | +-------------------------------+--------------------+-------------------------+-------------------+------------------+-------------------+----------------------+ | Red Hat Enterprise Linux 9.5 | PASS | SKIPPED | SKIPPED | SKIPPED | SKIPPED | SKIPPED | +-------------------------------+--------------------+-------------------------+-------------------+------------------+-------------------+----------------------+ | Ubuntu 22.04 | PASS | SKIPPED | SKIPPED | SKIPPED | PASS | SKIPPED | +-------------------------------+--------------------+-------------------------+-------------------+------------------+-------------------+----------------------+ | Windows Server 2022 | SKIPPED | PASS | PASS | SKIPPED | SKIPPED | PASS | +-------------------------------+--------------------+-------------------------+-------------------+------------------+-------------------+----------------------+ Ubuntu 20.04 Kernel: 4.19 Compiler: gcc gcc (Ubuntu 9.4.0-1ubuntu1~20.04.2) 9.4.0 FreeBSD 14.2 Kernel: 14.2-RELEASE Compiler: clang 18.1.6 Fedora Linux 42 Kernel: 5.15 Compiler: gcc gcc (GCC) 15.2.1 20250808 (Red Hat 15.2.1-1) CentOS Stream 10 Kernel: 5.15 Compiler: gcc gcc (GCC) 14.2.1 20250110 (Red Hat 14.2.1-8) CentOS Stream 9 Kernel: 5.15 Compiler: gcc gcc (GCC) 11.5.0 20240719 (Red Hat 11.5.0-11) Debian GNU/Linux 12 Kernel: 5.15 Compiler: gcc gcc (Debian 12.2.0-14+deb12u1) 12.2.0 openSUSE Leap 15.6 Kernel: 5.15 Compiler: gcc gcc (SUSE Linux) 7.5.0 Red Hat Enterprise Linux 8.10 Kernel: 5.15 Compiler: gcc gcc (GCC) 8.5.0 20210514 (Red Hat 8.5.0-22) Red Hat Enterprise Linux 9.5 Kernel: 5.15 Compiler: gcc gcc (GCC) 11.5.0 20240719 (Red Hat 11.5.0-2) Ubuntu 22.04 Kernel: 5.15 Compiler: gcc gcc (Ubuntu 11.4.0-1ubuntu1~22.04) 11.4.0 Windows Server 2022 Kernel: 10.0.20348.2031 Compiler: clang 15.0.7, gcc 14.1.0 (MinGW), and MSVC VS 19.39.33521 To view detailed results, visit: https://lab.dpdk.org/results/dashboard/tarballs/35079/ UNH-IOL DPDK Community Lab To manage your email subscriptions, visit: https://lab.dpdk.org/results/dashboard/preferences/subscriptions/