From mboxrd@z Thu Jan 1 00:00:00 1970 Return-Path: Received: from mails.dpdk.org (mails.dpdk.org [217.70.189.124]) by inbox.dpdk.org (Postfix) with ESMTP id A08DD488AE for ; Sat, 4 Oct 2025 16:36:49 +0200 (CEST) Received: from mails.dpdk.org (localhost [127.0.0.1]) by mails.dpdk.org (Postfix) with ESMTP id 7D06F4014F; Sat, 4 Oct 2025 16:36:49 +0200 (CEST) Received: from mail-pl1-f226.google.com (mail-pl1-f226.google.com [209.85.214.226]) by mails.dpdk.org (Postfix) with ESMTP id 7EDC94014F for ; Sat, 4 Oct 2025 16:36:47 +0200 (CEST) Received: by mail-pl1-f226.google.com with SMTP id d9443c01a7336-2681660d604so33672045ad.0 for ; Sat, 04 Oct 2025 07:36:47 -0700 (PDT) DKIM-Signature: v=1; a=rsa-sha256; c=relaxed/relaxed; d=iol.unh.edu; s=unh-iol; t=1759588606; x=1760193406; darn=dpdk.org; h=cc:to:from:subject:message-id:date:from:to:cc:subject:date :message-id:reply-to; bh=jR6fm3e6JeCwTR65b4eVc2BJB1lWrjDglw8YoASuQY8=; b=UDFjKpmYUck7rnGmF0v1x44Kbz5aeug1LVW50Asfg/z3mO0WJ/UWmB3HwT71ANdI83 u2WfRCEc1KhQ9Hj5vkVoHy7J+wbC648u0DWKvotpaZCPZBEPCImzC+zJ4rLxbzWji9lS 2Px1dMJnktnezZ/rxN3TttbVNaN3ImkYM96GI= X-Google-DKIM-Signature: v=1; a=rsa-sha256; c=relaxed/relaxed; d=1e100.net; s=20230601; t=1759588606; x=1760193406; h=cc:to:from:subject:message-id:date:x-gm-message-state:from:to:cc :subject:date:message-id:reply-to; bh=jR6fm3e6JeCwTR65b4eVc2BJB1lWrjDglw8YoASuQY8=; b=lK7oGkY93hXbX8cQYd44UWfjVYm+rw++Fk8wDPJbma0IPdWe/8tW9Eikf/+4koXr+C a1pxvjBEVlT84UKMQjzeY7LjigT8VT5R34BQP3W7rg+zWLU4SC8qvEmVrqX6AFeEzQKO UB7O3YKJcreAi17A+qsRJcijyJ6GMwUoTiFJzddO/Y8+SVluSeJLwB5pCVFQEshWccuJ GAJ2Fmk3UTrXN6LCV7rYu9+EnS9stIaeJbZwMGxwcDKKTh9pg3IIl4GTcserFGGihmnT QbDhL9AF1TGfhncuIUCaCufh6RgCrzM3UUApnXxYJ3MsNeJbD73j+rE4JmbojY6ntE+j 9CBA== X-Gm-Message-State: AOJu0YzKUG9kqsoVBdLQX/k8PrWF3tr5MfGJeXlX5WNtX588wvtK5Uiy FDeNg3TVxdT+brqwO2Utjv/G0JCm7tgFYORJngXLnM3tXgCHJTrk6xMyzGnsfCJBWTnilDWQVG3 6EItFfdVDh6O5+YnwU7mbDUsIL+BaliJxxL0vDxUJjDxg X-Gm-Gg: ASbGncvBJG44sug9AP1GABpvRAp6MEknYGymypivwRaloWqdWU+9NO7CmKRh2HAbfP0 O7Rr96jGEcf7WZD8zhuMuK4nBASj9RriO2zrKtuhmHgaAfe3/HJyPsY/O7M4EEP7EBrsws90+gc ha2hLyuCShdATzUh7H1n1ZX4yar9ElpEqDJEXk94hEs4ekkp8ARTbo19uMBkCKwGzlrL4HHbs8/ S15J/2dg5q+ecvfmxUhebPw2RwiV+Zupgo4qkyzEi3ZDFlK196j2fG/H5XW1J0AsFENJkbdzwiU VH0SV0CaKvI+qCNUz/jUdWCd2nL3bzof1WTehnFNNdjwjmzlumUkPuwaEQJauQ+XhaEP895ybVw ynA== X-Google-Smtp-Source: AGHT+IHV3wM9Nisl+ItSAojwsQHNb7EbZwXzAql1+UKlskib+C+u/FSr5s7ZXMJFLCeyMX3RKYyz6yynt1N1 X-Received: by 2002:a17:903:2a88:b0:250:999f:31c6 with SMTP id d9443c01a7336-28e9a5f71e9mr72254405ad.32.1759588606560; Sat, 04 Oct 2025 07:36:46 -0700 (PDT) Received: from postal.iol.unh.edu (postal.iol.unh.edu. [132.177.123.84]) by smtp-relay.gmail.com with ESMTPS id d9443c01a7336-28e8d108429sm5153765ad.15.2025.10.04.07.36.46 (version=TLS1_2 cipher=ECDHE-ECDSA-AES128-GCM-SHA256 bits=128/128); Sat, 04 Oct 2025 07:36:46 -0700 (PDT) X-Relaying-Domain: iol.unh.edu Date: Sat, 04 Oct 2025 07:36:46 -0700 (PDT) Message-ID: <68e130fe.170a0220.272a5b.efa8SMTPIN_ADDED_MISSING@mx.google.com> Received: from [172.21.0.2] (unknown [172.18.0.240]) by postal.iol.unh.edu (Postfix) with ESMTP id BFFF160003F7; Sat, 4 Oct 2025 10:36:45 -0400 (EDT) Subject: |SUCCESS| [GIT MASTER] caa17cb4b057a31ee04067459fe543f7d7ae1079 From: dpdklab@iol.unh.edu To: Test Report Cc: dpdk-test-reports@iol.unh.edu, Akhil Goyal Content-Type: text/plain X-BeenThere: test-report@dpdk.org X-Mailman-Version: 2.1.29 Precedence: list List-Id: automatic DPDK test reports List-Unsubscribe: , List-Archive: List-Post: List-Help: List-Subscribe: , Errors-To: test-report-bounces@dpdk.org _Testing PASS_ Branch: dpdk-next-crypto caa17cb4b057a31ee04067459fe543f7d7ae1079 --> testing pass Upstream job id: Generic-DPDK-Compile-Meson#430919 Test environment and result as below: +-------------------------------+--------------------+-------------------------+-------------------+------------------+-------------------+----------------------+ | Environment | dpdk_meson_compile | dpdk_llvm_clang_compile | dpdk_msvc_compile | dpdk_compile_ovs | dpdk_compile_spdk | dpdk_mingw64_compile | +===============================+====================+=========================+===================+==================+===================+======================+ | Ubuntu 20.04 | PASS | SKIPPED | SKIPPED | SKIPPED | SKIPPED | SKIPPED | +-------------------------------+--------------------+-------------------------+-------------------+------------------+-------------------+----------------------+ | FreeBSD 14.2 | PASS | SKIPPED | SKIPPED | SKIPPED | SKIPPED | SKIPPED | +-------------------------------+--------------------+-------------------------+-------------------+------------------+-------------------+----------------------+ | Fedora Linux 42 | PASS | SKIPPED | SKIPPED | PASS | PASS | SKIPPED | +-------------------------------+--------------------+-------------------------+-------------------+------------------+-------------------+----------------------+ | CentOS Stream 10 | PASS | SKIPPED | SKIPPED | SKIPPED | SKIPPED | SKIPPED | +-------------------------------+--------------------+-------------------------+-------------------+------------------+-------------------+----------------------+ | CentOS Stream 9 | PASS | SKIPPED | SKIPPED | SKIPPED | PASS | SKIPPED | +-------------------------------+--------------------+-------------------------+-------------------+------------------+-------------------+----------------------+ | Debian GNU/Linux 12 | PASS | SKIPPED | SKIPPED | SKIPPED | PASS | SKIPPED | +-------------------------------+--------------------+-------------------------+-------------------+------------------+-------------------+----------------------+ | openSUSE Leap 15.6 | PASS | SKIPPED | SKIPPED | SKIPPED | SKIPPED | SKIPPED | +-------------------------------+--------------------+-------------------------+-------------------+------------------+-------------------+----------------------+ | Red Hat Enterprise Linux 8.10 | PASS | SKIPPED | SKIPPED | SKIPPED | SKIPPED | SKIPPED | +-------------------------------+--------------------+-------------------------+-------------------+------------------+-------------------+----------------------+ | Red Hat Enterprise Linux 9.5 | PASS | SKIPPED | SKIPPED | SKIPPED | SKIPPED | SKIPPED | +-------------------------------+--------------------+-------------------------+-------------------+------------------+-------------------+----------------------+ | Ubuntu 22.04 | PASS | SKIPPED | SKIPPED | SKIPPED | PASS | SKIPPED | +-------------------------------+--------------------+-------------------------+-------------------+------------------+-------------------+----------------------+ | Ubuntu 24.04 | PASS | SKIPPED | SKIPPED | PASS | PASS | SKIPPED | +-------------------------------+--------------------+-------------------------+-------------------+------------------+-------------------+----------------------+ | Windows Server 2022 | SKIPPED | PASS | PASS | SKIPPED | SKIPPED | PASS | +-------------------------------+--------------------+-------------------------+-------------------+------------------+-------------------+----------------------+ Ubuntu 20.04 Kernel: 4.19 Compiler: gcc gcc (Ubuntu 9.4.0-1ubuntu1~20.04.2) 9.4.0 FreeBSD 14.2 Kernel: 14.2-RELEASE Compiler: clang 18.1.6 Fedora Linux 42 Kernel: 5.15 Compiler: gcc gcc (GCC) 15.2.1 20250808 (Red Hat 15.2.1-1) CentOS Stream 10 Kernel: 5.15 Compiler: gcc gcc (GCC) 14.2.1 20250110 (Red Hat 14.2.1-8) CentOS Stream 9 Kernel: 5.15 Compiler: gcc gcc (GCC) 11.5.0 20240719 (Red Hat 11.5.0-11) Debian GNU/Linux 12 Kernel: 5.15 Compiler: gcc gcc (Debian 12.2.0-14+deb12u1) 12.2.0 openSUSE Leap 15.6 Kernel: 5.15 Compiler: gcc gcc (SUSE Linux) 7.5.0 Red Hat Enterprise Linux 8.10 Kernel: 5.15 Compiler: gcc gcc (GCC) 8.5.0 20210514 (Red Hat 8.5.0-22) Red Hat Enterprise Linux 9.5 Kernel: 5.15 Compiler: gcc gcc (GCC) 11.5.0 20240719 (Red Hat 11.5.0-2) Ubuntu 22.04 Kernel: 5.15 Compiler: gcc gcc (Ubuntu 11.4.0-1ubuntu1~22.04) 11.4.0 Ubuntu 24.04 Kernel: 5.15 Compiler: gcc gcc (Ubuntu 13.3.0-6ubuntu2~24.04) 13.3.0 Windows Server 2022 Kernel: 10.0.20348.2031 Compiler: clang 15.0.7, gcc 14.1.0 (MinGW), and MSVC VS 19.39.33521 To view detailed results, visit: https://lab.dpdk.org/results/dashboard/tarballs/35079/ UNH-IOL DPDK Community Lab To manage your email subscriptions, visit: https://lab.dpdk.org/results/dashboard/preferences/subscriptions/