From mboxrd@z Thu Jan 1 00:00:00 1970 Return-Path: Received: from mails.dpdk.org (mails.dpdk.org [217.70.189.124]) by inbox.dpdk.org (Postfix) with ESMTP id E19DE488B0 for ; Sat, 4 Oct 2025 21:15:56 +0200 (CEST) Received: from mails.dpdk.org (localhost [127.0.0.1]) by mails.dpdk.org (Postfix) with ESMTP id B81624014F; Sat, 4 Oct 2025 21:15:56 +0200 (CEST) Received: from mail-il1-f228.google.com (mail-il1-f228.google.com [209.85.166.228]) by mails.dpdk.org (Postfix) with ESMTP id 7ED3A4014F for ; Sat, 4 Oct 2025 21:15:55 +0200 (CEST) Received: by mail-il1-f228.google.com with SMTP id e9e14a558f8ab-42f5f2d238fso6418265ab.0 for ; Sat, 04 Oct 2025 12:15:55 -0700 (PDT) DKIM-Signature: v=1; a=rsa-sha256; c=relaxed/relaxed; d=iol.unh.edu; s=unh-iol; t=1759605354; x=1760210154; darn=dpdk.org; h=cc:to:from:subject:message-id:date:from:to:cc:subject:date :message-id:reply-to; bh=3eqtzI8xydfU+v3jNSN9+OrF0gW1uOGeoRaRMBgatAQ=; b=MIsosYcvx8JlsAkRQVQREC5J4WvJ9Pges9irqizgqgGO/aByRtQvmGZ5V9OBtk4v/X 80PcnCwbiTkY8vA1c23J2R9gVLTQx+zAggpfIPmfJ60ajhaycIYWtt/HpTm0d932abrn EA+uNPo0NPgGi4qa7wLBgMPhdGjcd490gbE2Q= X-Google-DKIM-Signature: v=1; a=rsa-sha256; c=relaxed/relaxed; d=1e100.net; s=20230601; t=1759605354; x=1760210154; h=cc:to:from:subject:message-id:date:x-gm-message-state:from:to:cc :subject:date:message-id:reply-to; bh=3eqtzI8xydfU+v3jNSN9+OrF0gW1uOGeoRaRMBgatAQ=; b=Cnm+t6N/M9WnflbJ5b6v/IKvuX39Buf7uNbBLtcfqPzsYMVgefiqdk2hAfM6MsD7V0 /capvkVhnrcOxmzCZLhF2PyRUCm2bafz7LFeNiV03F96Dcyjy5N0jipNbHr83Vzma1+M peNm/Hs8LhF5JZ2Ob/ehlsXXcxL4FAg/AzlvSg3OdHE4WNaiHpCqXXMEep3CEm5aOS4B Z+JWftX2dYALe9R2/ulPTWZmOU08soxWsRxdJ/dEYZLajeabYlBOlFfd4p+ucOVd/5cm TxCCUqiDRbNXf6FwJ07AJHL0UqCaSE42FYUJ68uBWFmU4Pdsn8Mn8Ohrn4s6xFScICpz tc7g== X-Gm-Message-State: AOJu0YxfYRgVA2Tf9n9n411Z+jnxwe3IglOqw1yXWnos0sLGCYI4c0cU 4/7woz/+wHLJokKQcKSQOuO6e3xUS2/59bktTiLGRMS6/QB1XuEa1x8G2/xcxpH/lDSOFEcukI1 BfXv6A4Qq6M+uL2AQJm0TvKeyf0AhU0PQoNGJHFQ+lmdC X-Gm-Gg: ASbGncshGqrMUSav3aaom3j2GK4Pky7/VAktLSRJbWxkMJ3XIvSZlsXgyft46KhKso4 I3UHBNjphduCsLaFPBI4WjbKn977SyVFMdPIw9i/ALQBrxwJJclz5pTiqUF1ZfNyeOKXiM8aLCR wuUQDUqkxTSdpR+MbPW23CW4SGl04vg3GrElXEBiHOY8jkoO7QL+rbcEcH3Y3G3S/+GoKG1xPTP PA7kHSzb8fQGBpmCFeSmqNuHoA6rU7Ar3f6bkI2FeT8yzzEVlo2fH0x0+lzha3UpOlcbeLXmnhB e48EJmL7UJCLbCBp1OUmOwaVdKabW+c1SyQbVQQwFioaR8hRdft2ThbI3YEnHGNEjTArq+DDvl5 yzQ== X-Google-Smtp-Source: AGHT+IGLdH3+KF9I1Ol/0d73TBoXhxjlhSEFLsuYqeUpHQ5Nhri5e5fyG9snaQ2TY1yeOgNWBq9Cwvpc3A6q X-Received: by 2002:a05:6e02:1c0b:b0:427:6510:650a with SMTP id e9e14a558f8ab-42e7ad9cd38mr100608495ab.25.1759605354675; Sat, 04 Oct 2025 12:15:54 -0700 (PDT) Received: from postal.iol.unh.edu (postal.iol.unh.edu. [132.177.123.84]) by smtp-relay.gmail.com with ESMTPS id 8926c6da1cb9f-57b5edd266asm576299173.47.2025.10.04.12.15.54 (version=TLS1_2 cipher=ECDHE-ECDSA-AES128-GCM-SHA256 bits=128/128); Sat, 04 Oct 2025 12:15:54 -0700 (PDT) X-Relaying-Domain: iol.unh.edu Date: Sat, 04 Oct 2025 12:15:54 -0700 (PDT) Message-ID: <68e1726a.050a0220.1a9098.1cbfSMTPIN_ADDED_MISSING@mx.google.com> Received: from [172.21.0.2] (unknown [172.18.0.240]) by postal.iol.unh.edu (Postfix) with ESMTP id E5C7260003F7; Sat, 4 Oct 2025 15:15:53 -0400 (EDT) Subject: |SUCCESS| [GIT MASTER] caa17cb4b057a31ee04067459fe543f7d7ae1079 From: dpdklab@iol.unh.edu To: Test Report Cc: dpdk-test-reports@iol.unh.edu, Akhil Goyal Content-Type: text/plain X-BeenThere: test-report@dpdk.org X-Mailman-Version: 2.1.29 Precedence: list List-Id: automatic DPDK test reports List-Unsubscribe: , List-Archive: List-Post: List-Help: List-Subscribe: , Errors-To: test-report-bounces@dpdk.org _Testing PASS_ Branch: dpdk-next-crypto caa17cb4b057a31ee04067459fe543f7d7ae1079 --> testing pass Upstream job id: Generic-DPDK-Compile-Meson#430925 Test environment and result as below: +-------------------------------+--------------------+-------------------------+-------------------+------------------+-------------------+----------------------+ | Environment | dpdk_meson_compile | dpdk_llvm_clang_compile | dpdk_msvc_compile | dpdk_compile_ovs | dpdk_compile_spdk | dpdk_mingw64_compile | +===============================+====================+=========================+===================+==================+===================+======================+ | Ubuntu 20.04 | PASS | SKIPPED | SKIPPED | SKIPPED | SKIPPED | SKIPPED | +-------------------------------+--------------------+-------------------------+-------------------+------------------+-------------------+----------------------+ | FreeBSD 14.2 | PASS | SKIPPED | SKIPPED | SKIPPED | SKIPPED | SKIPPED | +-------------------------------+--------------------+-------------------------+-------------------+------------------+-------------------+----------------------+ | Fedora Linux 42 | PASS | SKIPPED | SKIPPED | PASS | PASS | SKIPPED | +-------------------------------+--------------------+-------------------------+-------------------+------------------+-------------------+----------------------+ | CentOS Stream 10 | PASS | SKIPPED | SKIPPED | SKIPPED | SKIPPED | SKIPPED | +-------------------------------+--------------------+-------------------------+-------------------+------------------+-------------------+----------------------+ | CentOS Stream 9 | PASS | SKIPPED | SKIPPED | SKIPPED | PASS | SKIPPED | +-------------------------------+--------------------+-------------------------+-------------------+------------------+-------------------+----------------------+ | Debian GNU/Linux 12 | PASS | SKIPPED | SKIPPED | SKIPPED | PASS | SKIPPED | +-------------------------------+--------------------+-------------------------+-------------------+------------------+-------------------+----------------------+ | openSUSE Leap 15.6 | PASS | SKIPPED | SKIPPED | SKIPPED | SKIPPED | SKIPPED | +-------------------------------+--------------------+-------------------------+-------------------+------------------+-------------------+----------------------+ | Red Hat Enterprise Linux 8.10 | PASS | SKIPPED | SKIPPED | SKIPPED | SKIPPED | SKIPPED | +-------------------------------+--------------------+-------------------------+-------------------+------------------+-------------------+----------------------+ | Red Hat Enterprise Linux 9.5 | PASS | SKIPPED | SKIPPED | SKIPPED | SKIPPED | SKIPPED | +-------------------------------+--------------------+-------------------------+-------------------+------------------+-------------------+----------------------+ | Ubuntu 22.04 | PASS | SKIPPED | SKIPPED | SKIPPED | PASS | SKIPPED | +-------------------------------+--------------------+-------------------------+-------------------+------------------+-------------------+----------------------+ | Ubuntu 24.04 | PASS | SKIPPED | SKIPPED | PASS | PASS | SKIPPED | +-------------------------------+--------------------+-------------------------+-------------------+------------------+-------------------+----------------------+ | Alpine Linux 3.22.0 | PASS | SKIPPED | SKIPPED | SKIPPED | SKIPPED | SKIPPED | +-------------------------------+--------------------+-------------------------+-------------------+------------------+-------------------+----------------------+ | Windows Server 2022 | SKIPPED | PASS | PASS | SKIPPED | SKIPPED | PASS | +-------------------------------+--------------------+-------------------------+-------------------+------------------+-------------------+----------------------+ Ubuntu 20.04 Kernel: 4.19 Compiler: gcc gcc (Ubuntu 9.4.0-1ubuntu1~20.04.2) 9.4.0 FreeBSD 14.2 Kernel: 14.2-RELEASE Compiler: clang 18.1.6 Fedora Linux 42 Kernel: 5.15 Compiler: gcc gcc (GCC) 15.2.1 20250808 (Red Hat 15.2.1-1) CentOS Stream 10 Kernel: 5.15 Compiler: gcc gcc (GCC) 14.2.1 20250110 (Red Hat 14.2.1-8) CentOS Stream 9 Kernel: 5.15 Compiler: gcc gcc (GCC) 11.5.0 20240719 (Red Hat 11.5.0-11) Debian GNU/Linux 12 Kernel: 5.15 Compiler: gcc gcc (Debian 12.2.0-14+deb12u1) 12.2.0 openSUSE Leap 15.6 Kernel: 5.15 Compiler: gcc gcc (SUSE Linux) 7.5.0 Red Hat Enterprise Linux 8.10 Kernel: 5.15 Compiler: gcc gcc (GCC) 8.5.0 20210514 (Red Hat 8.5.0-22) Red Hat Enterprise Linux 9.5 Kernel: 5.15 Compiler: gcc gcc (GCC) 11.5.0 20240719 (Red Hat 11.5.0-2) Ubuntu 22.04 Kernel: 5.15 Compiler: gcc gcc (Ubuntu 11.4.0-1ubuntu1~22.04) 11.4.0 Ubuntu 24.04 Kernel: 5.15 Compiler: gcc gcc (Ubuntu 13.3.0-6ubuntu2~24.04) 13.3.0 Alpine Linux 3.22.0 Kernel: 5.15 Compiler: gcc gcc (Alpine 14.2.0) 14.2.0 Windows Server 2022 Kernel: 10.0.20348.2031 Compiler: clang 15.0.7, gcc 14.1.0 (MinGW), and MSVC VS 19.39.33521 To view detailed results, visit: https://lab.dpdk.org/results/dashboard/tarballs/35079/ UNH-IOL DPDK Community Lab To manage your email subscriptions, visit: https://lab.dpdk.org/results/dashboard/preferences/subscriptions/