From mboxrd@z Thu Jan 1 00:00:00 1970 Return-Path: Received: from mails.dpdk.org (mails.dpdk.org [217.70.189.124]) by inbox.dpdk.org (Postfix) with ESMTP id 3DB1548886 for ; Sat, 4 Oct 2025 21:32:44 +0200 (CEST) Received: from mails.dpdk.org (localhost [127.0.0.1]) by mails.dpdk.org (Postfix) with ESMTP id 1F8934014F; Sat, 4 Oct 2025 21:32:44 +0200 (CEST) Received: from mail-oa1-f98.google.com (mail-oa1-f98.google.com [209.85.160.98]) by mails.dpdk.org (Postfix) with ESMTP id D1C984014F for ; Sat, 4 Oct 2025 21:32:42 +0200 (CEST) Received: by mail-oa1-f98.google.com with SMTP id 586e51a60fabf-30cce892b7dso1985749fac.1 for ; Sat, 04 Oct 2025 12:32:42 -0700 (PDT) DKIM-Signature: v=1; a=rsa-sha256; c=relaxed/relaxed; d=iol.unh.edu; s=unh-iol; t=1759606362; x=1760211162; darn=dpdk.org; h=cc:to:from:subject:message-id:date:from:to:cc:subject:date :message-id:reply-to; bh=QKeIY7e0BSSZxD4wZP5JUn4EeLR+BwmlyZ7vBwHJji0=; b=dFxkNzdRDo+Ght1jMRp7SCFKvaxpH5SpMYtn9AEs8IApNJpB6IsCQt37sSz5p5pljz S3z8OvDgxzTCLokFjfsoVdWrAiS4FkqPEtg7sR5SSDtVGbo9FOUmPCTiupcYTGjkwlVR MgZjhhusFuUw6cftmuZjz4o9gRsu9VloUro3c= X-Google-DKIM-Signature: v=1; a=rsa-sha256; c=relaxed/relaxed; d=1e100.net; s=20230601; t=1759606362; x=1760211162; h=cc:to:from:subject:message-id:date:x-gm-message-state:from:to:cc :subject:date:message-id:reply-to; bh=QKeIY7e0BSSZxD4wZP5JUn4EeLR+BwmlyZ7vBwHJji0=; b=I6nshm02+oH/PYpY3nz0BQO54uApjvGkCD/DuGqZqzJuhKDTxbCAyTN1EDf5F6/0Ig J75Zg3JphZq/oCcBtJdRLU+LI3E/MysgNJT7VsoYooi5Lk6qqYzerc3MdogJLXoRNR+D jqZAEPSapy+BZ5Ow8XQ+09RFCipri2zaAY/vwWDp+gyGCmzugHh9OGAuCdG2ctcvF2wM a/4mHDP4mKsmb7Goyur9GkTJMgkaxPFyByyYabx80sJFAoJduOTt+uqg4SYWicn6OYcD M8GMBuckKOIfYIqohbnsnTCAaRy8Xbi3D3WFV6dhbfv4sKn/3NZwPXY5E/HZynbpg6Cv EDmA== X-Gm-Message-State: AOJu0YzyP2GsmN8Cub5OldPGxNtUgu8HhF0mnnkPllBhNzY6J/OYy1vX TiZkL757aYHph8wlAGW/cxApwOa7obrrc2ftotz4jMamBChVrAkcY7dPfl8xvKCoNov9qIGrLEM 3SNArMsDrKx8nvWUacHHbhaY/CRhJ7w2PRLEAR039uixn X-Gm-Gg: ASbGncu6mrR2kLT1Jz4xTK7ghv5yS4dMgOuDe92sxU0ThcD7vclQPm40PgAk39UmUDq aYUb8I8Nj9aw28oMeX/Cbf6LtuRx69fmbK+HLhCA9LR0y9B/YcvgG2iuztGJG1XxGGuYpCS+jd5 oIYvviEPfeoIzvpReuo416FSBYcomQTVYOH47CQg1g/Z+NvedMeRSeWiimLyMrbDg8xINnljrC/ 5VbcdSphZuhM1Ykm0BZ0Q16nkteVhx0PPULuXxGv2zoblXJKBI73r3xyfco3NeBVcEZQjz1HxR9 RLoaKDp7SstHrUGmZ6pg1evYfxpQvgcDtL2yMWxEsXOMLdT6CBmVcU0tbLs5jkv3l0hL7TvbR2N vBQ== X-Google-Smtp-Source: AGHT+IHscQrdbwuEL7ShWJOpCv8FyCbCrz+EStZT/b8ct+13p3daGCc0/UEEf+Hf3/ljYW9PpsLVjpuyrQQt X-Received: by 2002:a05:6871:10c:b0:315:bf34:7184 with SMTP id 586e51a60fabf-3b1035db7afmr3635960fac.42.1759606362001; Sat, 04 Oct 2025 12:32:42 -0700 (PDT) Received: from postal.iol.unh.edu (postal.iol.unh.edu. [132.177.123.84]) by smtp-relay.gmail.com with ESMTPS id 586e51a60fabf-3ab7d51305esm609438fac.7.2025.10.04.12.32.41 (version=TLS1_2 cipher=ECDHE-ECDSA-AES128-GCM-SHA256 bits=128/128); Sat, 04 Oct 2025 12:32:41 -0700 (PDT) X-Relaying-Domain: iol.unh.edu Date: Sat, 04 Oct 2025 12:32:41 -0700 (PDT) Message-ID: <68e17659.050a0220.db86f.50bbSMTPIN_ADDED_MISSING@mx.google.com> Received: from [172.21.0.2] (unknown [172.18.0.240]) by postal.iol.unh.edu (Postfix) with ESMTP id 0626060003F7; Sat, 4 Oct 2025 15:32:41 -0400 (EDT) Subject: |SUCCESS| [GIT MASTER] caa17cb4b057a31ee04067459fe543f7d7ae1079 From: dpdklab@iol.unh.edu To: Test Report Cc: dpdk-test-reports@iol.unh.edu, Akhil Goyal Content-Type: text/plain X-BeenThere: test-report@dpdk.org X-Mailman-Version: 2.1.29 Precedence: list List-Id: automatic DPDK test reports List-Unsubscribe: , List-Archive: List-Post: List-Help: List-Subscribe: , Errors-To: test-report-bounces@dpdk.org _Testing PASS_ Branch: dpdk-next-crypto caa17cb4b057a31ee04067459fe543f7d7ae1079 --> testing pass Upstream job id: Generic-DPDK-Compile-Meson#430926 Test environment and result as below: +-------------------------------+--------------------+-------------------------+-------------------+------------------+-------------------+----------------------+ | Environment | dpdk_meson_compile | dpdk_llvm_clang_compile | dpdk_msvc_compile | dpdk_compile_ovs | dpdk_compile_spdk | dpdk_mingw64_compile | +===============================+====================+=========================+===================+==================+===================+======================+ | Ubuntu 20.04 | PASS | SKIPPED | SKIPPED | SKIPPED | SKIPPED | SKIPPED | +-------------------------------+--------------------+-------------------------+-------------------+------------------+-------------------+----------------------+ | FreeBSD 14.2 | PASS | SKIPPED | SKIPPED | SKIPPED | SKIPPED | SKIPPED | +-------------------------------+--------------------+-------------------------+-------------------+------------------+-------------------+----------------------+ | Fedora Linux 42 | PASS | SKIPPED | SKIPPED | PASS | PASS | SKIPPED | +-------------------------------+--------------------+-------------------------+-------------------+------------------+-------------------+----------------------+ | CentOS Stream 10 | PASS | SKIPPED | SKIPPED | SKIPPED | SKIPPED | SKIPPED | +-------------------------------+--------------------+-------------------------+-------------------+------------------+-------------------+----------------------+ | CentOS Stream 9 | PASS | SKIPPED | SKIPPED | SKIPPED | PASS | SKIPPED | +-------------------------------+--------------------+-------------------------+-------------------+------------------+-------------------+----------------------+ | Debian GNU/Linux 12 | PASS | SKIPPED | SKIPPED | SKIPPED | PASS | SKIPPED | +-------------------------------+--------------------+-------------------------+-------------------+------------------+-------------------+----------------------+ | openSUSE Leap 15.6 | PASS | SKIPPED | SKIPPED | SKIPPED | SKIPPED | SKIPPED | +-------------------------------+--------------------+-------------------------+-------------------+------------------+-------------------+----------------------+ | Red Hat Enterprise Linux 8.10 | PASS | SKIPPED | SKIPPED | SKIPPED | SKIPPED | SKIPPED | +-------------------------------+--------------------+-------------------------+-------------------+------------------+-------------------+----------------------+ | Red Hat Enterprise Linux 9.5 | PASS | SKIPPED | SKIPPED | SKIPPED | SKIPPED | SKIPPED | +-------------------------------+--------------------+-------------------------+-------------------+------------------+-------------------+----------------------+ | Ubuntu 22.04 | PASS | SKIPPED | SKIPPED | SKIPPED | PASS | SKIPPED | +-------------------------------+--------------------+-------------------------+-------------------+------------------+-------------------+----------------------+ | Ubuntu 24.04 | PASS | SKIPPED | SKIPPED | PASS | PASS | SKIPPED | +-------------------------------+--------------------+-------------------------+-------------------+------------------+-------------------+----------------------+ | Alpine Linux 3.22.0 | PASS | SKIPPED | SKIPPED | SKIPPED | SKIPPED | SKIPPED | +-------------------------------+--------------------+-------------------------+-------------------+------------------+-------------------+----------------------+ | Windows Server 2022 | SKIPPED | PASS | PASS | SKIPPED | SKIPPED | PASS | +-------------------------------+--------------------+-------------------------+-------------------+------------------+-------------------+----------------------+ Ubuntu 20.04 Kernel: 4.19 Compiler: gcc gcc (Ubuntu 9.4.0-1ubuntu1~20.04.2) 9.4.0 FreeBSD 14.2 Kernel: 14.2-RELEASE Compiler: clang 18.1.6 Fedora Linux 42 Kernel: 5.15 Compiler: gcc gcc (GCC) 15.2.1 20250808 (Red Hat 15.2.1-1) CentOS Stream 10 Kernel: 5.15 Compiler: gcc gcc (GCC) 14.2.1 20250110 (Red Hat 14.2.1-8) CentOS Stream 9 Kernel: 5.15 Compiler: gcc gcc (GCC) 11.5.0 20240719 (Red Hat 11.5.0-11) Debian GNU/Linux 12 Kernel: 5.15 Compiler: gcc gcc (Debian 12.2.0-14+deb12u1) 12.2.0 openSUSE Leap 15.6 Kernel: 5.15 Compiler: gcc gcc (SUSE Linux) 7.5.0 Red Hat Enterprise Linux 8.10 Kernel: 5.15 Compiler: gcc gcc (GCC) 8.5.0 20210514 (Red Hat 8.5.0-22) Red Hat Enterprise Linux 9.5 Kernel: 5.15 Compiler: gcc gcc (GCC) 11.5.0 20240719 (Red Hat 11.5.0-2) Ubuntu 22.04 Kernel: 5.15 Compiler: gcc gcc (Ubuntu 11.4.0-1ubuntu1~22.04) 11.4.0 Ubuntu 24.04 Kernel: 5.15 Compiler: gcc gcc (Ubuntu 13.3.0-6ubuntu2~24.04) 13.3.0 Alpine Linux 3.22.0 Kernel: 5.15 Compiler: gcc gcc (Alpine 14.2.0) 14.2.0 Windows Server 2022 Kernel: 10.0.20348.2031 Compiler: clang 15.0.7, gcc 14.1.0 (MinGW), and MSVC VS 19.39.33521 To view detailed results, visit: https://lab.dpdk.org/results/dashboard/tarballs/35079/ UNH-IOL DPDK Community Lab To manage your email subscriptions, visit: https://lab.dpdk.org/results/dashboard/preferences/subscriptions/