From mboxrd@z Thu Jan 1 00:00:00 1970 Return-Path: Received: from mails.dpdk.org (mails.dpdk.org [217.70.189.124]) by inbox.dpdk.org (Postfix) with ESMTP id EA37E488B1 for ; Sat, 4 Oct 2025 23:15:57 +0200 (CEST) Received: from mails.dpdk.org (localhost [127.0.0.1]) by mails.dpdk.org (Postfix) with ESMTP id D2D9A4021E; Sat, 4 Oct 2025 23:15:57 +0200 (CEST) Received: from mail-il1-f225.google.com (mail-il1-f225.google.com [209.85.166.225]) by mails.dpdk.org (Postfix) with ESMTP id 26FF54021E for ; Sat, 4 Oct 2025 23:15:56 +0200 (CEST) Received: by mail-il1-f225.google.com with SMTP id e9e14a558f8ab-424da17e309so37715905ab.2 for ; Sat, 04 Oct 2025 14:15:56 -0700 (PDT) DKIM-Signature: v=1; a=rsa-sha256; c=relaxed/relaxed; d=iol.unh.edu; s=unh-iol; t=1759612555; x=1760217355; darn=dpdk.org; h=references:in-reply-to:cc:to:from:subject:message-id:date:from:to :cc:subject:date:message-id:reply-to; bh=LbSU7ZglBIN43goNEFFWoF/r1IZBzvOz+4lmRMjnwZ0=; b=WayO6o4pyBcXiCVk8j0vHhBxZKa9Es7cT2RO1xVEWh0eAWpJJ36P3Tz6o6Ydx76Uem dpJ8M/2RPyTA8hCJ9bImH1HKmVrLExJ/Fw4WcxyNFbQfPUJsZJYAZMbe2xQnoPHJHorc mb5kpwUalMtHbhtVEYVZx6ywzatTt+VFjWuM4= X-Google-DKIM-Signature: v=1; a=rsa-sha256; c=relaxed/relaxed; d=1e100.net; s=20230601; t=1759612555; x=1760217355; h=references:in-reply-to:cc:to:from:subject:message-id:date :x-gm-message-state:from:to:cc:subject:date:message-id:reply-to; bh=LbSU7ZglBIN43goNEFFWoF/r1IZBzvOz+4lmRMjnwZ0=; b=sWGYgJVJQH1ikE7Rul4q1l4LsXFNe6aLCyEI+kJ/joJuE99IbDH0APMfZXFjOipWIW mS/rL3qrYU9BMiW0xfJsJjFntj7B6ABF/0ZHp+mk8+Y8yS2xUgts+SCjzXj7uczLfCXT +4IrbWscAZzLAPUSsegdlLVqOOzlLTPF0Ie62iD1xgBG5cc5vFmhbglJ57XYGAPcUomO wf+Ti0Vfhi4kALwW5JtISp/M/0mRXQ/ZfUzVNeAyXkvCejO/6Igeu/ZEpHyCGxcoABoU cVFPJGpgJ1Bgg5EEm2o5Q2D0bNt6WlHlkQq7f+uHr1fCrPwd+GZpwwDyx10KjaNElxeV q9iQ== X-Gm-Message-State: AOJu0Yw2QUnyvpBsakI02frykHlNVsOsMsg2Lzd365ZlFN6A4jYbGiHU JxsMqufIeDUNHBtfQvCt5+gamKCDhbpVU9P3pAYP4iEbpIhgc5nvi54i0gKpMQt7QYTqC3gapsl sa0GF5DPCMI3JH3BJTQKOz1gcQ02kJ+BC3eNGPw0Lg7Xj X-Gm-Gg: ASbGncucXAWrYlerjPwqx57S1Cuq0tz9PlunI/7cBPMFgwQ5foR/gMMz/5/Wg9/BPpK IIQVvlmTr7wS4VevivA+uSQ2jVo7dp9SYfHgMlW6wI/J+gFd/Z1eO3ru5FHyBz2FL0N+YqCTaWp xC6R6Yohr/9tM1sWEnIidZHUOvhFl87UhmOXFkeVAfU8aPRKpY2VqYwDBQh1I63OX37AiUKtnq9 R8MEGJvY3lRCajrAny6MyY2wyLI/hsG9aB0iFfJdqcMCDTnIeq0uuDtvDmztl19PrSIYu4p48/l DZZHABXkh8rvXu10zGB0Lu/fXUnPHP93Cp1X/stuGjv9X4dsTbeE9mNJsxSANiYI5mdoZZQ/TGA 5Cg== X-Google-Smtp-Source: AGHT+IEcW13kiClpgtHJkUt+hvG0I1eaCS6FriTsVB9LfGT3rXa0XYNTih6oTvjRpnvOuBsQMBe29GR27g7/ X-Received: by 2002:a05:6e02:3788:b0:42d:8a3f:ec9a with SMTP id e9e14a558f8ab-42e7acec13cmr101809505ab.4.1759612555393; Sat, 04 Oct 2025 14:15:55 -0700 (PDT) Received: from postal.iol.unh.edu (postal.iol.unh.edu. [132.177.123.84]) by smtp-relay.gmail.com with ESMTPS id 8926c6da1cb9f-57b5ed690c6sm620865173.35.2025.10.04.14.15.55 (version=TLS1_2 cipher=ECDHE-ECDSA-AES128-GCM-SHA256 bits=128/128); Sat, 04 Oct 2025 14:15:55 -0700 (PDT) X-Relaying-Domain: iol.unh.edu Date: Sat, 04 Oct 2025 14:15:55 -0700 (PDT) Message-ID: <68e18e8b.050a0220.269570.5794SMTPIN_ADDED_MISSING@mx.google.com> Received: from [172.21.0.2] (unknown [172.18.0.240]) by postal.iol.unh.edu (Postfix) with ESMTP id E230F60003F7; Sat, 4 Oct 2025 17:15:54 -0400 (EDT) Subject: |SUCCESS| pw157202-157204 [PATCH] [v4,3/3] dts: add performance test From: dpdklab@iol.unh.edu To: Test Report Cc: dpdk-test-reports@iol.unh.edu In-Reply-To: <20251001231659.2297751-4-probb@iol.unh.edu> References: <20251001231659.2297751-4-probb@iol.unh.edu> Content-Type: text/plain X-BeenThere: test-report@dpdk.org X-Mailman-Version: 2.1.29 Precedence: list List-Id: automatic DPDK test reports List-Unsubscribe: , List-Archive: List-Post: List-Help: List-Subscribe: , Errors-To: test-report-bounces@dpdk.org Test-Label: iol-compile-amd64-testing Test-Status: SUCCESS http://dpdk.org/patch/157204 _Testing PASS_ Submitter: Patrick Robb Date: Wednesday, October 01 2025 23:16:59 DPDK git baseline: Repo:dpdk-next-dts Branch: master CommitID:b71d7bdf2b663f9fedc1d344b81a8cf65518026c 157202-157204 --> testing pass Upstream job id: Generic-DPDK-Compile-Meson#430933 Test environment and result as below: +---------------------+--------------------+-------------------------+-------------------+----------------------+-------------------+ | Environment | dpdk_meson_compile | dpdk_llvm_clang_compile | dpdk_msvc_compile | dpdk_mingw64_compile | dpdk_compile_spdk | +=====================+====================+=========================+===================+======================+===================+ | Ubuntu 20.04 | PASS | SKIPPED | SKIPPED | SKIPPED | SKIPPED | +---------------------+--------------------+-------------------------+-------------------+----------------------+-------------------+ | FreeBSD 14.2 | PASS | SKIPPED | SKIPPED | SKIPPED | SKIPPED | +---------------------+--------------------+-------------------------+-------------------+----------------------+-------------------+ | Alpine Linux 3.22.0 | PASS | SKIPPED | SKIPPED | SKIPPED | SKIPPED | +---------------------+--------------------+-------------------------+-------------------+----------------------+-------------------+ | openSUSE Leap 15.6 | PASS | SKIPPED | SKIPPED | SKIPPED | SKIPPED | +---------------------+--------------------+-------------------------+-------------------+----------------------+-------------------+ | CentOS Stream 9 | PASS | SKIPPED | SKIPPED | SKIPPED | PASS | +---------------------+--------------------+-------------------------+-------------------+----------------------+-------------------+ | Windows Server 2022 | SKIPPED | PASS | PASS | PASS | SKIPPED | +---------------------+--------------------+-------------------------+-------------------+----------------------+-------------------+ Ubuntu 20.04 Kernel: 4.19 Compiler: gcc gcc (Ubuntu 9.4.0-1ubuntu1~20.04.2) 9.4.0 FreeBSD 14.2 Kernel: 14.2-RELEASE Compiler: clang 18.1.6 Alpine Linux 3.22.0 Kernel: 5.15 Compiler: gcc gcc (Alpine 14.2.0) 14.2.0 openSUSE Leap 15.6 Kernel: 5.15 Compiler: gcc gcc (SUSE Linux) 7.5.0 CentOS Stream 9 Kernel: 5.15 Compiler: gcc gcc (GCC) 11.5.0 20240719 (Red Hat 11.5.0-11) Windows Server 2022 Kernel: 10.0.20348.2031 Compiler: clang 15.0.7, gcc 14.1.0 (MinGW), and MSVC VS 19.39.33521 To view detailed results, visit: https://lab.dpdk.org/results/dashboard/patchsets/34197/ UNH-IOL DPDK Community Lab To manage your email subscriptions, visit: https://lab.dpdk.org/results/dashboard/preferences/subscriptions/