From mboxrd@z Thu Jan 1 00:00:00 1970 Return-Path: Received: from mails.dpdk.org (mails.dpdk.org [217.70.189.124]) by inbox.dpdk.org (Postfix) with ESMTP id 8FAFA46B5E for ; Sun, 5 Oct 2025 00:27:36 +0200 (CEST) Received: from mails.dpdk.org (localhost [127.0.0.1]) by mails.dpdk.org (Postfix) with ESMTP id 688A34021E; Sun, 5 Oct 2025 00:27:36 +0200 (CEST) Received: from mail-vk1-f227.google.com (mail-vk1-f227.google.com [209.85.221.227]) by mails.dpdk.org (Postfix) with ESMTP id 687D84021E for ; Sun, 5 Oct 2025 00:27:35 +0200 (CEST) Received: by mail-vk1-f227.google.com with SMTP id 71dfb90a1353d-5521c99636cso1259536e0c.3 for ; Sat, 04 Oct 2025 15:27:35 -0700 (PDT) DKIM-Signature: v=1; a=rsa-sha256; c=relaxed/relaxed; d=iol.unh.edu; s=unh-iol; t=1759616854; x=1760221654; darn=dpdk.org; h=cc:to:from:subject:message-id:date:from:to:cc:subject:date :message-id:reply-to; bh=r8pc0DPQgFdRthnqEJRaYP3ot7Wkya/eJSLcy+yb2mw=; b=Ov4+XoKk8hO1r7UOrEAA2HBqKseAqKZwWBKMkfYL0Whuo2FOLemrZcZnEsFmUe1SEd F8IWJKRW95bCROMP4L5EERfRONnlQlEhZq96fo6giyGdH8EkXyqmM5miK3VPhK6kG/qm 0s/KVMIBYQ+dkOShl05qNnhdTo9sVBvNAXVg4= X-Google-DKIM-Signature: v=1; a=rsa-sha256; c=relaxed/relaxed; d=1e100.net; s=20230601; t=1759616854; x=1760221654; h=cc:to:from:subject:message-id:date:x-gm-message-state:from:to:cc :subject:date:message-id:reply-to; bh=r8pc0DPQgFdRthnqEJRaYP3ot7Wkya/eJSLcy+yb2mw=; b=qLy7BLsADAPMGaHXmWOEPPZDbt+9m9HH+K50NMsDbpnDv6b8UCEr757ALNARHg45mH /+qTWCviiAKCaUIDgHHizTkOd0Pw2bz+gunKlYnpZ1ayaB7O+RS/UGmw1+SJgYx7rLOU yTPFSfZCcJlLuHZcQeBf0ekADEsNu3JHT7N8ieXe7TSQBYDw0fFaUW5dqm/fAs9D4aGM ZiGhddpUei1maCEBa1jJbD/vnN7QvviCrOeeiqRSNkaH5YvkOJmKVTVC4rc2QkZ8/fBv bYfHGp5rFYfzNE7CbT+1h5J6let2TLP+KJ5NhUvSPWthOgWJLqFbtWSSF43+LARCg7Kx HjZw== X-Gm-Message-State: AOJu0Yyri3e3Sun5UEXOrAMdKc6TRFaE7f3CthbB9uR9MJoZlblXf46J /Cj7adt2ZEn3X9+f5zDZ5dpfB5YZrxGogH85jXkII88fkHM/BvCSSBkjVRJCeaa/lXnZEvRDVAR B8T162cn9cCGIZaxZ4EYnSfwslfxM+V0o4eI1xG4DLr+skEaEjhF6r72iwu65 X-Gm-Gg: ASbGncubsVpUlYMLfQHMJz1ghmLg6GblzBBUyuIGOBl4ez1FZW5xwWF+5eMHvsZPRj9 eKLA8iRXmClitEBs6XmX+bs3JjVfpV4HBgMW9lNq5DOE8T5eO1qrB1Zk+0HwLyhdq8jwv2ylFie 2Plu0zwXcG4svMzbNqFbGCMdknCXzkI9fFQrXcm7vLrs9Xsk9idLoonYNJhcBxw9VAPeNIEspvL 40ZzmFW4frvX7da6hRW31CSav2WbyjODi6naVr2VvBK56m9DsdWG0V/LhNLz3QOZO8TwZ5RAv2A OwTQC1KBOVi/vXSxMgZX5Jv3u9M49tO+lzGsnSGv9ZysixQ4emGMviY= X-Google-Smtp-Source: AGHT+IFUZQ/cR4aKC6RRMXvlNk6d9J6I9YaGxiDFFvShm4bAbBh+Yi9tfOEJirUqVP3HZ/99qodOMxkoZBaL X-Received: by 2002:a05:6122:910:b0:54a:87d3:2f09 with SMTP id 71dfb90a1353d-5524e83e376mr2582248e0c.2.1759616854674; Sat, 04 Oct 2025 15:27:34 -0700 (PDT) Received: from postal.iol.unh.edu (postal.iol.unh.edu. [2606:4100:3880:1234::84]) by smtp-relay.gmail.com with ESMTPS id 71dfb90a1353d-5523cf13fbesm858742e0c.1.2025.10.04.15.27.34 (version=TLS1_2 cipher=ECDHE-ECDSA-AES128-GCM-SHA256 bits=128/128); Sat, 04 Oct 2025 15:27:34 -0700 (PDT) X-Relaying-Domain: iol.unh.edu Date: Sat, 04 Oct 2025 15:27:34 -0700 (PDT) Message-ID: <68e19f56.050a0220.bf09.3ad1SMTPIN_ADDED_MISSING@mx.google.com> Received: from [172.21.0.2] (unknown [172.18.0.240]) by postal.iol.unh.edu (Postfix) with ESMTP id 1A9B160003F7; Sat, 4 Oct 2025 18:27:34 -0400 (EDT) Subject: |SUCCESS| [GIT MASTER] 76393b98bf67f94dc6aa23cf5016c32571899261 From: dpdklab@iol.unh.edu To: Test Report Cc: dpdk-test-reports@iol.unh.edu Content-Type: text/plain X-BeenThere: test-report@dpdk.org X-Mailman-Version: 2.1.29 Precedence: list List-Id: automatic DPDK test reports List-Unsubscribe: , List-Archive: List-Post: List-Help: List-Subscribe: , Errors-To: test-report-bounces@dpdk.org _Testing PASS_ Branch: dpdk 76393b98bf67f94dc6aa23cf5016c32571899261 --> testing pass Upstream job id: Generic-Unit-Test-DPDK#378408 Test environment and result as below: +------------------------------+--------------+----------------+------------------------------+---------------------------+ | Environment | lpm_autotest | dpdk_unit_test | cryptodev_sw_snow3g_autotest | cryptodev_sw_zuc_autotest | +==============================+==============+================+==============================+===========================+ | Ubuntu 20.04 | PASS | PASS | SKIPPED | SKIPPED | +------------------------------+--------------+----------------+------------------------------+---------------------------+ | CentOS Stream 9 | SKIPPED | PASS | SKIPPED | SKIPPED | +------------------------------+--------------+----------------+------------------------------+---------------------------+ | Ubuntu 22.04 | SKIPPED | PASS | SKIPPED | SKIPPED | +------------------------------+--------------+----------------+------------------------------+---------------------------+ | CentOS Stream 10 | SKIPPED | PASS | SKIPPED | SKIPPED | +------------------------------+--------------+----------------+------------------------------+---------------------------+ | Fedora Linux 41 | SKIPPED | PASS | SKIPPED | SKIPPED | +------------------------------+--------------+----------------+------------------------------+---------------------------+ | Fedora Linux 40 | SKIPPED | PASS | SKIPPED | SKIPPED | +------------------------------+--------------+----------------+------------------------------+---------------------------+ | Debian GNU/Linux 12 | SKIPPED | PASS | SKIPPED | SKIPPED | +------------------------------+--------------+----------------+------------------------------+---------------------------+ | Fedora Linux 42 | SKIPPED | PASS | SKIPPED | SKIPPED | +------------------------------+--------------+----------------+------------------------------+---------------------------+ | Red Hat Enterprise Linux 9.5 | SKIPPED | PASS | SKIPPED | SKIPPED | +------------------------------+--------------+----------------+------------------------------+---------------------------+ | Ubuntu 24.04 | SKIPPED | PASS | SKIPPED | SKIPPED | +------------------------------+--------------+----------------+------------------------------+---------------------------+ | Debian 12 (arm) | SKIPPED | SKIPPED | PASS | PASS | +------------------------------+--------------+----------------+------------------------------+---------------------------+ Ubuntu 20.04 Kernel: 5.4 Compiler: gcc gcc (Ubuntu 9.4.0-1ubuntu1~20.04.2) 9.4.0 CentOS Stream 9 Kernel: 5.4 Compiler: gcc gcc (GCC) 11.5.0 20240719 (Red Hat 11.5.0-11) Ubuntu 22.04 Kernel: 5.15 Compiler: gcc gcc (Ubuntu 11.4.0-1ubuntu1~22.04.2) 11.4.0 CentOS Stream 10 Kernel: 5.4 Compiler: gcc gcc (GCC) 14.2.1 20250110 (Red Hat 14.2.1-8) Fedora Linux 41 Kernel: 5.4 Compiler: gcc gcc (GCC) 14.3.1 20250523 (Red Hat 14.3.1-1) Fedora Linux 40 Kernel: 5.4 Compiler: gcc gcc (GCC) 14.2.1 20240912 (Red Hat 14.2.1-3) Debian GNU/Linux 12 Kernel: 5.4 Compiler: gcc gcc (Debian 12.2.0-14+deb12u1) 12.2.0 Fedora Linux 42 Kernel: 5.4 Compiler: clang gcc (GCC) 15.2.1 20250808 (Red Hat 15.2.1-1) Red Hat Enterprise Linux 9.5 Kernel: 5.4 Compiler: gcc gcc (GCC) 11.5.0 20240719 (Red Hat 11.5.0-2) Ubuntu 24.04 Kernel: 5.4 Compiler: gcc gcc (Ubuntu 13.3.0-6ubuntu2~24.04) 13.3.0 Debian 12 (arm) Kernel: Depends on container host Compiler: gcc (Debian 12.2.0-14) 12.2.0 To view detailed results, visit: https://lab.dpdk.org/results/dashboard/tarballs/35103/ UNH-IOL DPDK Community Lab To manage your email subscriptions, visit: https://lab.dpdk.org/results/dashboard/preferences/subscriptions/