From mboxrd@z Thu Jan 1 00:00:00 1970 Return-Path: Received: from mails.dpdk.org (mails.dpdk.org [217.70.189.124]) by inbox.dpdk.org (Postfix) with ESMTP id 7B38D48886 for ; Sun, 5 Oct 2025 01:50:35 +0200 (CEST) Received: from mails.dpdk.org (localhost [127.0.0.1]) by mails.dpdk.org (Postfix) with ESMTP id 4D12C4021F; Sun, 5 Oct 2025 01:50:35 +0200 (CEST) Received: from mail-io1-f100.google.com (mail-io1-f100.google.com [209.85.166.100]) by mails.dpdk.org (Postfix) with ESMTP id 84F934021F for ; Sun, 5 Oct 2025 01:50:34 +0200 (CEST) Received: by mail-io1-f100.google.com with SMTP id ca18e2360f4ac-92aee734485so149650239f.1 for ; Sat, 04 Oct 2025 16:50:34 -0700 (PDT) DKIM-Signature: v=1; a=rsa-sha256; c=relaxed/relaxed; d=iol.unh.edu; s=unh-iol; t=1759621834; x=1760226634; darn=dpdk.org; h=references:in-reply-to:cc:to:from:subject:message-id:date:from:to :cc:subject:date:message-id:reply-to; bh=5GVs2isHIAQrnABkbETvxLXT11cfyuCY8xIOAKh38FQ=; b=M5k4AXdlRuMN3FjPqhIGwK+RKmuG7iiYNnqkO06E6+N4bfqFLD2vA6bvlKyEXmlpfX H2c4CF2JxzjRlEVBs1Q53WFU8aFf8KT0GpMjaUvXCh0FyzEa+R8RZmq2iXwA3NNjHp3M knXzzl6IXMvI35I35MOZ3vJChvFb/VKBwUKRE= X-Google-DKIM-Signature: v=1; a=rsa-sha256; c=relaxed/relaxed; d=1e100.net; s=20230601; t=1759621834; x=1760226634; h=references:in-reply-to:cc:to:from:subject:message-id:date :x-gm-message-state:from:to:cc:subject:date:message-id:reply-to; bh=5GVs2isHIAQrnABkbETvxLXT11cfyuCY8xIOAKh38FQ=; b=PRq52JHCYB3ctjjR0bAnVj4i0pDupJWZNEqAVy1eommwg2BXBLZcFfDHUsk1qV82fY pjl5K1F+tQmiVgZRl/dHYOw9ZHengFG0KmFYKjWcdYjGQBr1NjE0INnB6PuH8fUwUlCg pDONRQ/Vu48Me+re1JdDFsOKkQSVWkRZ9uuoyiRzvK/6/pR2gL5KVoHu8BJp4+cXrJ6z lFNUZHm+k4K2vckctikDPjMIBjNhFDcc3FYd/dATmpINIQ4u3pHM742WTwyMLamOiIZo C3aSVtgZYQJYXLzYg3IbJTUkMEgVZXKB+EAmQv+TcWlGyfNOvrlCgV+n7fQLiESbrUcJ woRQ== X-Gm-Message-State: AOJu0YyC3qFttZN03tc99qpF0E7FqCNw90CrmiMJ0FyMDkWLl1e9Jsw1 dFD5SpGooL8HHEMq6jUJttZwonl6zP05o6Rp9M4z7N2C1k3b2tDHL7iSLjB2KcDKPg0y4ljRhuL q+GfmqFokQrFG17RWiw55SXveZ9EctBoFoO70MJniFtRl X-Gm-Gg: ASbGnctXOd2p+BVYm3+zCNrgZQBHyJrmeg9YMwSxV66iy7GxDSwu8OEy0Ui1mf3NsJf F76fazx48OmTohcvxj6YX+Y61b6FvO7KbeKUbQC2O0K+v6o5B0GMocTYfIRq32SeBq5Z5t4OkJf 2sXkAh7NWNYEo8lJADWN2dza0OYWF6ol6ddkKDS6KtCnFECREkW9Gjso+h3kZiWUgOXB6LB08R3 +8DNMl4cw2824MyZ9ZnTyMKLASezfpMJwqAtVXT24iMwyVFECJ8Iwl1Gh8+hHpWMWzBU9prDKSn 0+FMDhmWjzDipTU+sjDT7qXLj4qc9H0NAMpQroBZYEL/Fd8VQvpHi4rKQ2SPFA1emXCvsAaza8Q piw== X-Google-Smtp-Source: AGHT+IHBMrDMRITcFDphverMQY2B7xzFlOO3L1fnG17s1oQEZAdK8crSI1nXw3bVfnDFHFCwCO6Il6sE5cNV X-Received: by 2002:a05:6e02:1a07:b0:425:7974:fe21 with SMTP id e9e14a558f8ab-42e7adac948mr96997375ab.22.1759621833688; Sat, 04 Oct 2025 16:50:33 -0700 (PDT) Received: from postal.iol.unh.edu (postal.iol.unh.edu. [132.177.123.84]) by smtp-relay.gmail.com with ESMTPS id 8926c6da1cb9f-57b5eb026fesm735343173.16.2025.10.04.16.50.33 (version=TLS1_2 cipher=ECDHE-ECDSA-AES128-GCM-SHA256 bits=128/128); Sat, 04 Oct 2025 16:50:33 -0700 (PDT) X-Relaying-Domain: iol.unh.edu Date: Sat, 04 Oct 2025 16:50:33 -0700 (PDT) Message-ID: <68e1b2c9.050a0220.15fb53.75bdSMTPIN_ADDED_MISSING@mx.google.com> Received: from [172.21.0.2] (unknown [172.18.0.240]) by postal.iol.unh.edu (Postfix) with ESMTP id 34B7960003F7; Sat, 4 Oct 2025 19:50:33 -0400 (EDT) Subject: |SUCCESS| pw157202-157204 [PATCH] [v4,3/3] dts: add performance test From: dpdklab@iol.unh.edu To: Test Report Cc: dpdk-test-reports@iol.unh.edu In-Reply-To: <20251001231659.2297751-4-probb@iol.unh.edu> References: <20251001231659.2297751-4-probb@iol.unh.edu> Content-Type: text/plain X-BeenThere: test-report@dpdk.org X-Mailman-Version: 2.1.29 Precedence: list List-Id: automatic DPDK test reports List-Unsubscribe: , List-Archive: List-Post: List-Help: List-Subscribe: , Errors-To: test-report-bounces@dpdk.org Test-Label: iol-compile-amd64-testing Test-Status: SUCCESS http://dpdk.org/patch/157204 _Testing PASS_ Submitter: Patrick Robb Date: Wednesday, October 01 2025 23:16:59 DPDK git baseline: Repo:dpdk-next-dts Branch: master CommitID:b71d7bdf2b663f9fedc1d344b81a8cf65518026c 157202-157204 --> testing pass Upstream job id: Generic-DPDK-Compile-Meson#430940 Test environment and result as below: +---------------------+--------------------+-------------------------+-------------------+----------------------+-------------------+------------------+ | Environment | dpdk_meson_compile | dpdk_llvm_clang_compile | dpdk_msvc_compile | dpdk_mingw64_compile | dpdk_compile_spdk | dpdk_compile_ovs | +=====================+====================+=========================+===================+======================+===================+==================+ | Ubuntu 20.04 | PASS | SKIPPED | SKIPPED | SKIPPED | SKIPPED | SKIPPED | +---------------------+--------------------+-------------------------+-------------------+----------------------+-------------------+------------------+ | FreeBSD 14.2 | PASS | SKIPPED | SKIPPED | SKIPPED | SKIPPED | SKIPPED | +---------------------+--------------------+-------------------------+-------------------+----------------------+-------------------+------------------+ | Alpine Linux 3.22.0 | PASS | SKIPPED | SKIPPED | SKIPPED | SKIPPED | SKIPPED | +---------------------+--------------------+-------------------------+-------------------+----------------------+-------------------+------------------+ | openSUSE Leap 15.6 | PASS | SKIPPED | SKIPPED | SKIPPED | SKIPPED | SKIPPED | +---------------------+--------------------+-------------------------+-------------------+----------------------+-------------------+------------------+ | CentOS Stream 9 | PASS | SKIPPED | SKIPPED | SKIPPED | PASS | SKIPPED | +---------------------+--------------------+-------------------------+-------------------+----------------------+-------------------+------------------+ | CentOS Stream 10 | PASS | SKIPPED | SKIPPED | SKIPPED | SKIPPED | SKIPPED | +---------------------+--------------------+-------------------------+-------------------+----------------------+-------------------+------------------+ | Debian GNU/Linux 12 | PASS | SKIPPED | SKIPPED | SKIPPED | PASS | SKIPPED | +---------------------+--------------------+-------------------------+-------------------+----------------------+-------------------+------------------+ | Fedora Linux 42 | PASS | SKIPPED | SKIPPED | SKIPPED | PASS | PASS | +---------------------+--------------------+-------------------------+-------------------+----------------------+-------------------+------------------+ | Windows Server 2022 | SKIPPED | PASS | PASS | PASS | SKIPPED | SKIPPED | +---------------------+--------------------+-------------------------+-------------------+----------------------+-------------------+------------------+ Ubuntu 20.04 Kernel: 4.19 Compiler: gcc gcc (Ubuntu 9.4.0-1ubuntu1~20.04.2) 9.4.0 FreeBSD 14.2 Kernel: 14.2-RELEASE Compiler: clang 18.1.6 Alpine Linux 3.22.0 Kernel: 5.15 Compiler: gcc gcc (Alpine 14.2.0) 14.2.0 openSUSE Leap 15.6 Kernel: 5.15 Compiler: gcc gcc (SUSE Linux) 7.5.0 CentOS Stream 9 Kernel: 5.15 Compiler: gcc gcc (GCC) 11.5.0 20240719 (Red Hat 11.5.0-11) CentOS Stream 10 Kernel: 5.15 Compiler: gcc gcc (GCC) 14.2.1 20250110 (Red Hat 14.2.1-8) Debian GNU/Linux 12 Kernel: 5.15 Compiler: gcc gcc (Debian 12.2.0-14+deb12u1) 12.2.0 Fedora Linux 42 Kernel: 5.15 Compiler: clang gcc (GCC) 15.2.1 20250808 (Red Hat 15.2.1-1) Windows Server 2022 Kernel: 10.0.20348.2031 Compiler: clang 15.0.7, gcc 14.1.0 (MinGW), and MSVC VS 19.39.33521 To view detailed results, visit: https://lab.dpdk.org/results/dashboard/patchsets/34197/ UNH-IOL DPDK Community Lab To manage your email subscriptions, visit: https://lab.dpdk.org/results/dashboard/preferences/subscriptions/